BEGIN:VCALENDAR
VERSION:2.0
PRODID:-//Оранжево морето - ECPv4.8.2//NONSGML v1.0//EN
CALSCALE:GREGORIAN
METHOD:PUBLISH
X-WR-CALNAME:Оранжево морето
X-ORIGINAL-URL:https://orangesea.bg
X-WR-CALDESC:Events for Оранжево морето
BEGIN:VEVENT
DTSTART;TZID=Europe/Sofia:20190511T120000
DTEND;TZID=Europe/Sofia:20190512T170000
DTSTAMP:20260422T164329
CREATED:20190510T133334Z
LAST-MODIFIED:20190510T133423Z
UID:5052-1557576000-1557680400@orangesea.bg
SUMMARY:Мобилен Планетариум Астронет
DESCRIPTION:Мобилен Планетариум Астронет\nКосмическо шоу за деца в Delta Planet Mall на:\n11.05. /събота/ от 12:00 часа\, 14:00 часа и 16:00 часа\n12.05. /неделя/ от 12:00 часа\, 14:00 часа и 16:00 часа \nВ рамките на 60 минути децата ще са част от един нов фестивал на науката за деца. \nЩура лаборатория и Мобилен Планетариум Астронет ще зарадват всички любознателни дечица. Всяко дете ще получи НАУЧЕН ПОДАРЪК\, който може да си вземе вкъщи. \nВсички участници ще имат възможността да наблюдават Научно шоу с течен азот\, ще хапнат вкусна изненада и ще се потопят във вълшебния свят на планетите и звездите.\nМобилната конструкция на Планетариума може да побере до 25 участника едновременно. \nФилмите\, които децата ще наблюдават\, се прожектират на 360 градуса и създават усещане за пълно присъствие. Прожекциите са на тема „Космос и природа“ и със сигурност ще впечатлят малките любопитковци. \nПоради огромния интерес Ви молим да запазете своето място предварително на телефон: 0885869029 \nНа нашите забавни занятия ще докажем\, че науката е нещо мнооого интересно! \nТакса за участие: 15 лв \nСлед урока ще можете да закупите научни епруветки за домашни експерименти на цена от 12 лв. \n
URL:https://orangesea.bg/event/mobilen-planetarium-astronet/
LOCATION:Делта Планет Варна\, бул. Сливница 185\, Varna\, 9000\, Bulgaria
CATEGORIES:7 - 12 г. / ученици,кино и театър,на закрито,образователно
ATTACH;FMTTYPE=image/jpeg:https://orangesea.bg/wp-content/uploads/2019/05/59725060_646859232441781_5666221573313396736_o.jpg
END:VEVENT
BEGIN:VEVENT
DTSTART;TZID=Europe/Sofia:20190512T080000
DTEND;TZID=Europe/Sofia:20190512T120000
DTSTAMP:20260422T164329
CREATED:20190510T044239Z
LAST-MODIFIED:20190510T044239Z
UID:5029-1557648000-1557662400@orangesea.bg
SUMMARY:Театър в куфар: Пепеляшка
DESCRIPTION:Театър в куфар: Пепеляшка\nПепеляшка е популярна народна приказка\, позната в множество варианти по цял свят в различни епохи и на различни континенти. Най-познатите днес варианти на тази приказка принадлежат на Шарл Перо (1697) и Братя Грим (1812).\nВ по-ранната версия – тази на Шарл Перо\, Пепеляшка накрая прощава на злите си сестри\, но какво ли точно ще се случи с Пепеляшка от „Театър в куфар“?\nЩе разберете тази неделя\, 12 май от 11.00 ч\, на втория етаж\, малко под покрива на Социалната чайна \nЗа деца от 3 до 7 години\nВход:\nДете с родител 20 лв.\nСамостоятелно дете 15 лв \nТеатърът завършва с малка работилничка за деца. За да можем да предвидим материали за всички деца\, моля направете предварително записване на email: info@thesocialteahouse.bg\, със заглавие #THEATER\nМестата са ограничени\, забавлението не е 🙂 \n
URL:https://orangesea.bg/event/teatar-v-kufar-pepelyashka/
LOCATION:The Social Teahouse\, ул. Преслав 53\, Varna\, 9000\, Bulgaria
CATEGORIES:3 - 7 г. / дечурлига,кино и театър,на закрито
ATTACH;FMTTYPE=image/jpeg:https://orangesea.bg/wp-content/uploads/2019/05/59664417_2211725905585525_8739149499689074688_n.jpg
END:VEVENT
END:VCALENDAR