BEGIN:VCALENDAR
VERSION:2.0
PRODID:-//Оранжево морето - ECPv4.8.2//NONSGML v1.0//EN
CALSCALE:GREGORIAN
METHOD:PUBLISH
X-WR-CALNAME:Оранжево морето
X-ORIGINAL-URL:https://orangesea.bg
X-WR-CALDESC:Events for Оранжево морето
BEGIN:VEVENT
DTSTART;TZID=Europe/Sofia:20190412T080000
DTEND;TZID=Europe/Sofia:20190412T170000
DTSTAMP:20260426T022644
CREATED:20190412T032859Z
LAST-MODIFIED:20190412T032859Z
UID:4830-1555056000-1555088400@orangesea.bg
SUMMARY:Премиера на пиесата "Питър Пан" в ИУ-Варна
DESCRIPTION:\n17.04.2019 г.\, 18.00 ч.\, Аула \nМладежки театър „Арлекин“ представя пиесата „Питър Пан“ на Джеймс Матю Бари. \nМултимедия: Ани Георгиева\, Лидия Павлова \nХореография: Болеслава Тенева\, Галя Тотева\nСценография и костюми: Адриана Дянкова\, Таня Гунчева\, Юлияна Георгиева \nСценичен бой: Слави Стоянов\nПостановка: Таня Гунчева \nЕлате в чудния свят на Питър Пан – момчето от приказната страна Невърленд\, което отказва да порасне. То кръстосва шпага с пиратите на злия капитан Хук\, изживява лудата тръпка от летенето и магията на първата целувка. \n\n
URL:https://orangesea.bg/event/premiera-na-piesata-pitar-pan-v-iu-varna/
LOCATION:ИУ Варна\, бул. Княз Борис I 77\, Варна\, 9000
CATEGORIES:кино и театър,на закрито
ATTACH;FMTTYPE=image/jpeg:https://orangesea.bg/wp-content/uploads/2019/04/56685768_1097797427094440_1851013613314113536_n.jpg
END:VEVENT
END:VCALENDAR