BEGIN:VCALENDAR
VERSION:2.0
PRODID:-//Оранжево морето - ECPv4.8.2//NONSGML v1.0//EN
CALSCALE:GREGORIAN
METHOD:PUBLISH
X-WR-CALNAME:Оранжево морето
X-ORIGINAL-URL:https://orangesea.bg
X-WR-CALDESC:Events for Оранжево морето
BEGIN:VEVENT
DTSTART;TZID=Europe/Sofia:20240423T140000
DTEND;TZID=Europe/Sofia:20240423T180000
DTSTAMP:20260422T144643
CREATED:20240404T145019Z
LAST-MODIFIED:20240423T120933Z
UID:8786-1713880800-1713895200@orangesea.bg
SUMMARY:ВАРНА: UniExpo - Образование в BeNeLux+\, Пролет 2024
DESCRIPTION:\n\nОткрийте света на възможностите в образованието в чужбина с UNIFY по време на изложението Дни на образованието в Холандия\, Белгия\, Люксембург \nUNIFY организира юбилейното си 20-то издание на изложението си за обраозвание. По случай юбилея\, събитиео ще бъде посветено и на нови 2 страни: UniExpo BeNeLux – Дни на Образованието в Холандия\, Белгия и Люксембург. То ще се състои на на 23 април в хотел Димят от 14:00 до 18:00ч.. Това събитие обещава да бъде най-голямото изложение на холандски университети досега и ще представи информация за висшите учебни заведения от трите страни. С участието на представители от университети\, семинари за кариерно ориентиране\, лични истории на настоящи студенти и специализирани консултанти\, Дни на образованието в Холандия\, Белгия и Люксембург предлага цялостна представа за възможностите за образование в чужбина. \nСъбитието ще започне с дискусия относно образователната система\, университетите и процеса на ранно кандидатстване в Бенелюкс страните. След това участниците ще имат възможността да посетят семинара „Compass for Your Future Careers“\, който ще им помогне да вземат информирани решения относно избора на специалност. Денят ще приключи с презентация\, озаглавена „Can’t Dutch This?“ където настоящите студенти ще споделят своя опит в обучението си в Нидерландия. Освен това присъстващите ще могат да се срещнат лично с представители на различни университети\, да получат съвети за подготовка на документи за кандидатстване и да научат повече за възможностите за финансиране\, настаняване и други важни аспекти на обучението в чужбина. \nUniExpo BeNeLux предлага нещо за всеки. За тези\, които са в 12-ти клас\, това е чудесна възможност да задават въпроси и да получават отговори\, преди да започнат своето пътуване в чужбина. Учениците от 11-ти клас могат да използват събитието\, за да проучат потенциални специалности и университети. Дори учениците от 9-ти и 10-ти клас няма да бъдат пренебрегнати\, тъй като ще има специализирани кариерни презентации\, които да помогнат при избора на правилната специалност и профил в училище. Бакалаврите и бъдещите магистри също могат да очакват актуална информация за магистратурите в Нидерландия\, Белгия\, Германия и Люксембург. И накрая\, родителите са добре дошли да присъстват\, тъй като тяхната подкрепа и насоки играят решаваща роля в процеса на вземане на решение. Консултантите на UNIFY ще бъдат там\, за да помогнат на всички участници на всяка стъпка от пътя. \nСъбитието е напълно безплатно\, необходима е само предварителна регистрация: https://www.unify.bg/event/view/443 \n\n\n
URL:https://orangesea.bg/event/varna-uniexpo-obrazovanie-v-benelux-prolet-2024/
LOCATION:Rosslyn Dimyat Hotel\, Kniaz Boris 1 Boulevard 111\, Varna\, Bulgaria
CATEGORIES:12 - 18 г. / тийнове,за родители,на закрито,образователно
ATTACH;FMTTYPE=image/jpeg:https://orangesea.bg/wp-content/uploads/2024/04/435061266_906209058180194_1889536877662660884_n.jpg
END:VEVENT
END:VCALENDAR