BEGIN:VCALENDAR
VERSION:2.0
PRODID:-//Оранжево морето - ECPv4.8.2//NONSGML v1.0//EN
CALSCALE:GREGORIAN
METHOD:PUBLISH
X-WR-CALNAME:Оранжево морето
X-ORIGINAL-URL:https://orangesea.bg
X-WR-CALDESC:Events for Оранжево морето
BEGIN:VEVENT
DTSTART;TZID=Europe/Sofia:20190630T180000
DTEND;TZID=Europe/Sofia:20190630T200000
DTSTAMP:20260420T162753
CREATED:20190603T032707Z
LAST-MODIFIED:20190701T152403Z
UID:5182-1561917600-1561924800@orangesea.bg
SUMMARY:Безплатен концерт Музикална джаз география
DESCRIPTION:Концертът от програмата „Варненско лято за деца“ на Международния музикален фестивал „Варненско лято“ ще бъде истинско музикално приключение и за децата\, и за техните родители. Защото едни от най-обичаните варненски музиканти ще се впуснат във виртуално пътешествие из култовите за свободната музика места по света. Под мотото „Музикална джаз география“ те ще представят ключови моменти\, които ще възпитат новата млада публика на джаз събитията в морския град. \nНа сцената в клуб „Ментол“ ще излязат Румяна Петрова – виола\, Страцимир Павлов – пиано\, Нейко Бодуров – тромпет\, Нейчо Петров – Реджи – вокал\, Валери Ценков – барабани и Стоян Роянов Яя – кларинет и саксофон. \nКонцертът е подарък от Община Варна за децата и техните родители – входът е свободен!\nКлубът не работи с резервации. \n
URL:https://orangesea.bg/event/dzhaz-geografia/
LOCATION:Ментол\, Алея Първа\, Варна\, 9000\, Bulgaria
CATEGORIES:0 - 3 г. / бебешори,12 - 18 г. / тийнове,3 - 7 г. / дечурлига,7 - 12 г. / ученици,безплатно,за родители,забава и игри,музика,на закрито
ATTACH;FMTTYPE=image/jpeg:https://orangesea.bg/wp-content/uploads/2019/06/60398164_1732549146848814_2680011252847083520_o.jpg
END:VEVENT
END:VCALENDAR