BEGIN:VCALENDAR
VERSION:2.0
PRODID:-//Оранжево морето - ECPv4.8.2//NONSGML v1.0//EN
CALSCALE:GREGORIAN
METHOD:PUBLISH
X-WR-CALNAME:Оранжево морето
X-ORIGINAL-URL:https://orangesea.bg
X-WR-CALDESC:Events for Оранжево морето
BEGIN:VEVENT
DTSTART;TZID=Europe/Sofia:20190609T190000
DTEND;TZID=Europe/Sofia:20190615T220000
DTSTAMP:20260421T112235
CREATED:20190528T184250Z
LAST-MODIFIED:20190530T061750Z
UID:5171-1560106800-1560636000@orangesea.bg
SUMMARY:Благотворителна изложба "Фотографи за фондация Тео"
DESCRIPTION:Морско казино Варна представя „Фотографи за Фондация Тео“ – благотворителна изложба на български фотографи\, за които запалването в детските души на факела на знанието е от първостепенно значение за бъдещето на България.\nКой друг би могъл да събере понятия като мъж на годината\, народен будител\, почетен гражданин\, „златен“ физик на България\, учител?! На Тео\, или Теодосий Теодосиев\, това му се удава между другото – докато десетилетия наред осъществява тихо и скромно\, с жертвата на народен будител\, своето предназначение. Започва да се шуми за него едва след световния успех на учениците му. \nТео казва: „Учителят дава душа\, както Бог дава живот. Смятам\, че много от моите ученици са извънредно достойни да бъдат мъже на годината\, а учебният час е само повод да им кажа някои неща\, които са много по-важни от всички физики и математики взети заедно.“ \n„Силата и мъжеството не се постигат с мускули\, а с много труд и мозъчни гънки.“ \nТеодосий Събев Теодосиев е дългогодишен преподавател физика в ПМГ „Н. Обрешков“\, Казанлък\, България. Ръководи и специализирана школа по приложна математика и физика. За нуждите на школата е създал база за експериментални задачи по физика. Той е учител и ежегодно дава по–голямата част от националните отбори на България за международни състезания и олимпиади по физика. От общо 11 златни медала\, печелени досега от български участници на Международни олимпиади по физика\, 7 са на възпитаници от неговата школа\, включително най-високите индивидуални резултати и отборни постижения. Има 13 индивидуални първенци на националните олимпиади по физика и повече от 50 участници на МОФ. Разработва собствен метод за обучение\, чийто резултат формулира като „подготовка на силов интелект“ – по определението на негов бивш директор „неправилна методика\, но с големи резултати“. \nНегови ученици създават „Фондация Тео“\, чиято основна дейност е да подпомага и развива школата на Тео по приложна математика и физика\, като по този начин се създава и поддържа интерес към природните науки и технологиите у широк кръг от ученици\, студенти и учители и се култивира поколение от талантливи приложници – техници\, инженери\, физици\, изследователи и други специалисти във всички области на знанието\, изискващи развит интелект. \n \nВсеки посетител\, закупил фотография от благотворителната изложба\, ще направи своя принос директно в полза на Фондация Тео – организаторите са определили само долен праг на цената\, величината на горния праг се определя индивидуално според възможностите и желанието за участие в това благотворително събитие. \n„Сигурен съм\, че в България има много достойни хора. Все пак добрата новина е\, че има ориентация към духовните ценности и това само по себе си е европейска ориентация“ Тео\n\n\nИзображения: Културно-развлекателен комплекс Морско казино и Фестивален и конгресен център. \n
URL:https://orangesea.bg/event/izlozhba-teo/
LOCATION:Културно-развлекателен център Морско Казино\, бул. Приморски парк 22\, Варна\, Bulgaria
CATEGORIES:0 - 3 г. / бебешори,12 - 18 г. / тийнове,3 - 7 г. / дечурлига,7 - 12 г. / ученици,безплатно,благотворително,за родители,култура и изкуство,на закрито,образователно
ATTACH;FMTTYPE=image/jpeg:https://orangesea.bg/wp-content/uploads/2019/05/60900692_2634806716547325_4033091625155559424_o.jpg
END:VEVENT
END:VCALENDAR