BEGIN:VCALENDAR
VERSION:2.0
PRODID:-//Оранжево морето - ECPv4.8.2//NONSGML v1.0//EN
CALSCALE:GREGORIAN
METHOD:PUBLISH
X-WR-CALNAME:Оранжево морето
X-ORIGINAL-URL:https://orangesea.bg
X-WR-CALDESC:Events for Оранжево морето
BEGIN:VEVENT
DTSTART;TZID=Europe/Sofia:20190411T080000
DTEND;TZID=Europe/Sofia:20190520T170000
DTSTAMP:20260422T122305
CREATED:20190411T130151Z
LAST-MODIFIED:20190411T131117Z
UID:4796-1554969600-1558371600@orangesea.bg
SUMMARY:"Големи и малки семейни истории" - ученически конкурс
DESCRIPTION:Международен литературен фестивал „Варна Лит 2019“ с ново предизвикателство към учениците на Варна! \nЛИТЕРАТУРЕН КОНКУРС \n“ГОЛЕМИ И МАЛКИ СЕМЕЙНИ ИСТОРИИ“ \nИмате прадядо – герой от войната\, прочут спортист или обичан учител? Родът ви се слави с баба – оперна певица\, смела акушерка или всеотдайна многодетна майка? Вашите предци са участници в големи исторически събития? \nРазкажете своята най-интересна семейна история! \nНякъде в спомените на вашите баби и дядовци живеят неоткрити герои – близки и далечни роднини с вълнуваща съдба. Кои са те? Какво са направили и какви са били – обикновени хора\, проявили решителност във важен момент или харизматични личности\, следвани от другите? \nВсеки стар албум крие необикновена малка история – част пъзела на голямата българска и световна история. Открийте я\, дайте й живот в разказ\, есе\, стихотворение\, а защо не и в песен?! \nИзпратете я до 20 май на contest@varnalit.com със заглавие „Големи и малки семейни истории“.  \nНай-вълнуващите истории ще бъдат прочетени пред публика от любими актьори\, музиканти и журналисти в края на месец май в Градска художествена галерия „Борис Георгиев“във Варна. Събитието ще бъде отразено в медийното пространство на цяла България. Авторите на селектираните творби ще получат специални подаръци и възможност за участие в работилница по творческо писанес популярен автор! \nСъбирането на семейни истории да започне сега! \nЖурито няма търпение да ги прочете! \nОчакваме Ви на „Варна Лит 2019“ от 29 май до 1 юни! \n \n
URL:https://orangesea.bg/event/konkurs-varnalit/
LOCATION:Варна Лит\, Варна\, Варна\, 9000\, Bulgaria
CATEGORIES:12 - 18 г. / тийнове,7 - 12 г. / ученици,безплатно,образователно
ATTACH;FMTTYPE=image/jpeg:https://orangesea.bg/wp-content/uploads/2019/04/34560459_1703752513005578_6664626776133599232_n.jpg
END:VEVENT
BEGIN:VEVENT
DTSTART;TZID=Europe/Sofia:20190512T100000
DTEND;TZID=Europe/Sofia:20190512T150000
DTSTAMP:20260422T122305
CREATED:20190426T081832Z
LAST-MODIFIED:20190430T135255Z
UID:4993-1557655200-1557673200@orangesea.bg
SUMMARY:Денят на Scratch
DESCRIPTION:Международният Ден на Scratch ще се проведе във Варна на 1️⃣2️⃣ май\, от 10.00 ч. в Юнашки Салон. Събитието е организирано от Община Варна\, в партньорство с Варненски свободен университет „Черноризец Храбър“. Очаква се в Деня на Scratch да се включат над 150 варненски #ученици\, #учители и #родители\, които ще демонстрират #знания\, умения и компетентности по програмиране и #STEM-проекти. \nScratch е среда за програмиране\, в която се създават анимирани истории\, интерактивни #игри и сценарии за #филми. Позволява на децата\, докато се забавляват с изображения\, звуци и анимация\, лесно да усвоят принципите на визуалното програмиране. Scratch дава свобода за моделиране на различни обекти от околната среда\, като по този начин обогатява културата на децата и развива творческото мислене и уменията за комуникация. От 2018 г. програмирането със Scratch е включено в учебниците за 3. клас по компютърно моделиране. По време на Деня на Scratch\, родителите на третокласници ще могат да научат на място какви умения развива компютърно моделиране в училище или в извънкласните форми. \n⚠️ 💻 ⚠️ Вече са обявени състезателните категории за Деня на Scratch\, в които младите програмисти\, техните преподаватели и родители могат да изпращат проекти от 29 април до 10 май 2019 г.\nКатегории ⏩ https://www.vfu.bg/scratchday2019.html \n🏆🏆🏆 Авторите на най-добрите предложения ще получат награди и ще имат възможност да представят своите разработки в Юнашкия салон. \nНа 12 май за учениците от 3. и 4. клас е конкурсът за анимация\, а от 3. от 7. клас – е състезанието за най-атрактивна компютърна игра. За учителите и обучителите е конкурсът за методически разработки\, в който могат да се участват по темите „Визуално програмиране със Scratch“\, „Изчислително мислене (Computational Thinking) и Scratch“\, а също и с проекти „Scratch и STE(A)M“. Ученическите отбори ще се оценяват в конкурса „STE(A)M приятели“\, а ако екипът включва дете и неговите родители\, проектът им ще се състезава в „STE(A)M фамилия“. \n📨 Екипът по компютърни науки на ВСУ „Черноризец Храбър“ е подготвил методически ресурси за учители\, които ще предостави в Деня на Scratch. \n
URL:https://orangesea.bg/event/denyat-na-scratch/
LOCATION:Юнашки салон\, бул. Христо Ботев\, Варна\, 9000\, Bulgaria
CATEGORIES:12 - 18 г. / тийнове,3 - 7 г. / дечурлига,7 - 12 г. / ученици,безплатно,математика,на закрито,образователно
ATTACH;FMTTYPE=image/jpeg:https://orangesea.bg/wp-content/uploads/2019/04/57811482_2670816982932469_5353650655422578688_o.jpg
END:VEVENT
END:VCALENDAR