BEGIN:VCALENDAR
VERSION:2.0
PRODID:-//Оранжево морето - ECPv4.8.2//NONSGML v1.0//EN
CALSCALE:GREGORIAN
METHOD:PUBLISH
X-WR-CALNAME:Оранжево морето
X-ORIGINAL-URL:https://orangesea.bg
X-WR-CALDESC:Events for Оранжево морето
BEGIN:VEVENT
DTSTART;TZID=Europe/Sofia:20190329T183000
DTEND;TZID=Europe/Sofia:20190329T213000
DTSTAMP:20260422T145511
CREATED:20190327T150754Z
LAST-MODIFIED:20190327T150754Z
UID:4632-1553884200-1553895000@orangesea.bg
SUMMARY:Плъстене "Жълтурчо"
DESCRIPTION:\nМалки жълтурчета от вълна ще си изваем с ръце и игли. 🦆🐣🐤👉Опит не е нужен! \nКак? За да си запазиш място\, ни пиши лично съобщение или се обади на 0889 351 931 (при група под 5 души събитието ще се премести за следваща дата)📫📞 \nКолко? 22 лв/човек \nКакво? Професионални напътствия от Art Zelenika – плъст\, кожа\, плетива и други разни нещица .\, всички необдходими материали\, както и малка изненада\, която може да сбъдва мечти.🤸‍♂️ \nКога? 29.03.2019 (петък)\, от 18:30ч. до 21:30ч. \nКъде? ул. Дебър 32\, кв. „Гръцка махала“\, гр. Варна \n*Снимката е с илюстративен характер.\n** Събитието не е подходящо за деца под 5г. \n\n
URL:https://orangesea.bg/event/plastene-zhalturcho/
LOCATION:Работилница за вдъхновение / Inspiration workshop\, ул. Дебър 32\, Varna\, 9000\, Bulgaria
CATEGORIES:12 - 18 г. / тийнове,7 - 12 г. / ученици,за родители,на закрито
ATTACH;FMTTYPE=image/jpeg:https://orangesea.bg/wp-content/uploads/2019/03/54798226_576371162881930_3959978001738760192_o.jpg
END:VEVENT
END:VCALENDAR