BEGIN:VCALENDAR
VERSION:2.0
PRODID:-//Оранжево морето - ECPv4.8.2//NONSGML v1.0//EN
CALSCALE:GREGORIAN
METHOD:PUBLISH
X-WR-CALNAME:Оранжево морето
X-ORIGINAL-URL:https://orangesea.bg
X-WR-CALDESC:Events for Оранжево морето
BEGIN:VEVENT
DTSTART;TZID=Europe/Sofia:20190324T110000
DTEND;TZID=Europe/Sofia:20190324T140000
DTSTAMP:20260422T144607
CREATED:20190321T155325Z
LAST-MODIFIED:20190321T155325Z
UID:4567-1553425200-1553436000@orangesea.bg
SUMMARY:Играчка донеси и за друга размени
DESCRIPTION:Играчка донеси и за друга размени \nКога? 24.03. 2019 г. ( неделя)\nКъде? Фестивален и конгресен център- Варна\, зала 7 (Етаж -2 \, на нивото на Бар Next)\nОт колко до колко часа? от 11 до 14 часа. \nСлед успеха на първото издание при което се размениха многобройни играчки и направихме дарение на „Карин Дом“ благодарение на всички вас\, бихме искали да ви уведомим\, че вече има дата за второто издание на „Играчка донеси и за друга размени“. След първото събитие имахме запитвания от много хора\, които не са успели да присъстват\, но желаят да разменят и да помогнат. За тях и за всеки друг желаещ да размени или дари играчка\, 24.03.2019 година е датата на пролетното издание. Повода за него е да отбележим настъпването на първа пролет и възможността да помогнем\, като дарим играчки на Център за обществена подкрепа „Другарче“ гр. Варна и Комплекс за социални услуги за деца и младежи гр. Варна. \nЗащо да го направим?\nВ съвременното общество на свръх консумация\, всеки има играчки в излишък и се чуди какво да ги прави. Случва се да се получат като подаръци дублиращи се или такива\, които са нови в опаковка към които детето няма интерес или такива пък\, които вече са му омързнали\, но са годни за употреба. Вместо да бъдат изхвърляни\, въпреки че стават за игра\, те могат да зарадват друго дете. В същото време\, вашето дете може да намери нови играчки за себе си\, с които да замени тези\, които са му вече не са му толкова интересни. Да не забравяме и други важни аспекти\, а именно че новият живот на старите играчки допринася за опазването на околната среда и спестява от семейния бюджет\, защото събитието е абсолютно безплатно. \nКакви играчки могат да бъдат?\nВсякакви. Те могат да бъдат от детски кухни за игра и подобни такива\, кукли и всевъзможни аксесоари за тях\, през пъзели\, настолни игри\, книжки\, надуваеми\, музикални\, интерактивни\, образователни и други до момчешки играчки за възраст от 0 до 14 години. \n* Колкото играчки оставиш до толкова играчки можеш да вземеш в замяна.\n* Разбира се може само да донесеш и те да останат за дарение.\n* Играчките трябва да бъдат чисти\, здрави и годни за игра.\n* Ако играчките имат повече части\, е желателно да бъдат опаковани в прозрачна торбичка\, за да не се разпилеят частите.\n* Качеството на играчките\, които ще донесеш е качеството на тези\, които ще вземеш. \nРазмяната има и благотворителен характер. Ако имате възможност и желание\, можете да донесете книжки\, игри\, играчка/и\, ( без плюшена/и) \, които да бъдат дарени на Комплекс за социални услуги за деца и младежи гр. Варна ( https://www.facebook.com/cnst.varna) и на Център за обществена подкрепа „Другарче“ гр. Варна ( https://www.ksuds-varna.com/bg/ ) \nМолим да споделяте събитието\, за да може да достигне до повече хора. \nВход: Свободен\nОчакваме Ви! \n
URL:https://orangesea.bg/event/igrachka-donesi-i-za-druga-razmeni-2/
LOCATION:Фестивален и Конгресен Център\, бул. Сливница № 2\, Варна\, 9000\, Bulgaria
CATEGORIES:0 - 3 г. / бебешори,12 - 18 г. / тийнове,3 - 7 г. / дечурлига,7 - 12 г. / ученици,безплатно,за родители,на закрито
ATTACH;FMTTYPE=image/jpeg:https://orangesea.bg/wp-content/uploads/2019/03/52386892_962913277238695_9026505459154026496_n.jpg
END:VEVENT
END:VCALENDAR