BEGIN:VCALENDAR
VERSION:2.0
PRODID:-//Оранжево морето - ECPv4.8.2//NONSGML v1.0//EN
CALSCALE:GREGORIAN
METHOD:PUBLISH
X-WR-CALNAME:Оранжево морето
X-ORIGINAL-URL:https://orangesea.bg
X-WR-CALDESC:Events for Оранжево морето
BEGIN:VEVENT
DTSTART;TZID=Europe/Sofia:20190323T090000
DTEND;TZID=Europe/Sofia:20190323T160000
DTSTAMP:20260422T145245
CREATED:20190220T115600Z
LAST-MODIFIED:20190220T115740Z
UID:4219-1553331600-1553356800@orangesea.bg
SUMMARY:Ден на отворените врати 2019
DESCRIPTION:Международно Френско Училище и Детска Градина Шарл Перо Варна Ви кани на традиционния Ден на отворените врати. Тази година събитието ще се проведе на 23-ти март. \nИмаме удоволствието да отворим вратите си за семействата\, които имат желание да запишат децата си тук. Обучението при нас започва от 3г. възраст. Възползвайте се от уникалния шанс детето Ви да получи европейско образование на най-високо ниво\, а именно: \n1. Международно образование\, позволяващо опознаването на две култури и усвояването на три чужди езика\n2. Възможността детото да получи дипломи\, които дават достъп до университетите във Франция и по целия свят\, както и да се подготви за полагане на българска матура (по желание)\n3. Шанс детето да учи и расте в хармонична среда \nДиректорът на учебното заведение ще Ви посрещне за среща\, на която ще Ви представи образователния проект и френската система\, по която учебното заведение работи. \nНе се колебайте и запазете своето място още сега\, за да се запознаете с нашето училище! Пишете ни на имейл на: info@efiv.bg или се обадете на телефон: 0879533800 \nЗа повече информация посетете: http://efiv.bg/bg/news/PO240318.html \n
URL:https://orangesea.bg/event/den-na-otvorenite-vrati-2019/
LOCATION:LFIV Международно Френско Училище и Детска Градина Шарл Перо\, к.к. Св. Св. Константин и Елена\, Варна\, 9006\, Bulgaria
CATEGORIES:0 - 3 г. / бебешори,12 - 18 г. / тийнове,3 - 7 г. / дечурлига,7 - 12 г. / ученици,безплатно,езици,за родители,на закрито,на открито,образователно
ATTACH;FMTTYPE=image/jpeg:https://orangesea.bg/wp-content/uploads/2019/02/52441784_2191966674158903_1552439487034818560_o.jpg
END:VEVENT
BEGIN:VEVENT
DTSTART;TZID=Europe/Sofia:20190323T160000
DTEND;TZID=Europe/Sofia:20190323T171500
DTSTAMP:20260422T145245
CREATED:20190321T154355Z
LAST-MODIFIED:20190321T154355Z
UID:4561-1553356800-1553361300@orangesea.bg
SUMMARY:Сън
DESCRIPTION:Сън\nСЪН\nот МАГДА БОРИСОВА \nпостановка и музикална среда\nСТОЯН РАДЕВ ГЕ. К.\nсценография и костюми\nДАНИЕЛА НИКОЛЧОВА\nсценична версия\nСТОЯН РАДЕВ ГЕ. К. \nВ ролите:\nТони – ГЕОРГИ НЯГОЛОВ\nСладкаря – ВАЛЕРИ ВЪЛЧЕВ\nБанкерката – ЦВЕТИНА ПЕТРОВА\nКучето Ралф – НИКОЛАЙ КЕНАРОВ\nФеята на зъбчето – БИЛЯНА СТОЕВА\nФеята на радостните игри – ВЕСЕЛИНА МИХАЛКОВА\nФеята на сдобряването – ДАНИЕЛА ВИКТОРОВА\nФеята на блестящите идеи – ТЕОДОРА МИХАЙЛОВА\nГолемият Вълшебник – КОНСТАНТИН СОКОЛОВ\nДоктор Сън – НИКОЛАЙ БОЖКОВ\nБиблио – ГЕРГАНА АРНАУДОВА\nТекаря – МИЛЕНА КЪНЕВА\nМайката – ЮЛИЯНА ЧЕРНЕВА \nасистент-режисьор – Ели Пенчева\nфотограф – Тони Перец \nМили деца\, заповядайте в страната на сънищата\, населена с феи и вълшебници\, за да станете част от неповторимото приключение на малкия Тони и неговите приятели! Приказният разказ ще привлече и възрастните\, напомняйки им\, че и те са били деца – безгрижни\, верни на себе си\, истински! \nБилети: 6\, 10 лв. \nБИЛЕТНИ КАСИ: пл. „Независимост” 1: понеделник-петък 9:30-13:30 и 14:30-20.30; събота 10:00–13:30 и 14:30-19:00 ч.; неделя 11:00-16:00\, тел. 052 665 022;\nСцена Филиал: тел. 612 998 – един час преди спектакъл \nФестивален и конгресен център: всеки ден от 10 до 21 ч. /почивка 14-14\,30ч. и 16\,30-17 ч./\, тел. 052 685 214 \nЗАЯВКИ: 052 669 680; 051 665 051 \nwww.dramavarna.com \n\nЦена: 6\,10 лв. \n
URL:https://orangesea.bg/event/san-3/
LOCATION:сцена Филиал
CATEGORIES:12 - 18 г. / тийнове,7 - 12 г. / ученици,бременност и майчинство,кино и театър,култура и изкуство,на закрито
ATTACH;FMTTYPE=image/jpeg:https://orangesea.bg/wp-content/uploads/2018/10/28576496_324869251251193_5049120327491621348_n.jpg
END:VEVENT
END:VCALENDAR