BEGIN:VCALENDAR
VERSION:2.0
PRODID:-//Оранжево морето - ECPv4.8.2//NONSGML v1.0//EN
CALSCALE:GREGORIAN
METHOD:PUBLISH
X-WR-CALNAME:Оранжево морето
X-ORIGINAL-URL:https://orangesea.bg
X-WR-CALDESC:Events for Оранжево морето
BEGIN:VEVENT
DTSTART;TZID=Europe/Sofia:20190316T103000
DTEND;TZID=Europe/Sofia:20190316T113000
DTSTAMP:20260422T145837
CREATED:20190313T072415Z
LAST-MODIFIED:20190313T072415Z
UID:4427-1552732200-1552735800@orangesea.bg
SUMMARY:Кулинарна работилница за Деца
DESCRIPTION:Тази събота\, 16ти март\, продължаваме със Серията за изграждане на навици за здравословно хранене у децата. Добрата храна\, която сме избрали за основа тази седмица\, е Авокадо и ще правим Мус от Авокадо 🙂 Очакваме ви. \nЗа повече информация относно инициативата на фондация „За храната“ прочетете тук: https://bit.ly/2IWVj9O \nКулинарните занятия се водят от специалист от Манджера за групи от 10 до 12 деца – след предварително записване. \nЗа участие се заплаща сумата от 15.00 лева. В цената са включени продуктите за приготвяне\, вода\, плодово сокче или плод. На всяко дете Манджера осигурява също готварска шапка и престилка. \nС предварително записване на място\, на телефон 052 913 300 или през facebook.com/mangera.bg. Присъствието на родители не е задължително. \nАдрес за провеждане на работилницата: Манджера\, гр.Варна\, ул.Света Ирина No.5 \nРазгледайте снимки от предишни работилници на следния линк: https://www.facebook.com/pg/mangera.bg/photos/?tab=album&album_id=2242458679324766 \n
URL:https://orangesea.bg/event/kulinarna-rabotilnitsa-za-detsa-4/
LOCATION:Манджера\, ул. Света Ирина 5\, Варна\, 9000\, Bulgaria
CATEGORIES:12 - 18 г. / тийнове,3 - 7 г. / дечурлига,7 - 12 г. / ученици,кулинарно,на закрито
ATTACH;FMTTYPE=image/jpeg:https://orangesea.bg/wp-content/uploads/2019/03/53646162_2312783958958904_7640094358217162752_o.jpg
END:VEVENT
BEGIN:VEVENT
DTSTART;TZID=Europe/Sofia:20190316T110000
DTEND;TZID=Europe/Sofia:20190316T123000
DTSTAMP:20260422T145837
CREATED:20190313T083738Z
LAST-MODIFIED:20190313T083738Z
UID:4431-1552734000-1552739400@orangesea.bg
SUMMARY:Пролетен декупаж
DESCRIPTION:Нека поканим пролетта в домовете си като изработим красиви цветни декорации чрез техниката Декупаж. Заповядайте на 16.03.2019 г. (събота) от 11:00 ч. до 12:30 ч. в Детски център „Къща на бъдещето“. Ще позволим на вдъхновението да разцъфне в сърцата и измежду пръстите ни\, за да ни изпълни с енергия и ентусиазъм за предстоящото ново начало. Материалите и уютната атмосфера са от нас\, а вие не забравяйте да си донесете усмивките!\nЗа да участвате в събитието\, моля да потвърдите най-късно до 14.03.2019 г. с лично съобщение във ФБ или на тел. 0889 930319\, за да предвидим необходимите материали за Вашето дете.\nЦена за участие: 12 лв.\nСъбитието е подходящо за деца над 3 год. \n
URL:https://orangesea.bg/event/proleten-dekupazh/
LOCATION:Детски център Къщата На Бъдещето\, ул. "Доктор Анастасия Железкова" 42\, вх. Б\, партер\, Varna\, 9000\, Bulgaria
CATEGORIES:12 - 18 г. / тийнове,3 - 7 г. / дечурлига,7 - 12 г. / ученици,на закрито
ATTACH;FMTTYPE=image/jpeg:https://orangesea.bg/wp-content/uploads/2019/03/53489122_1335733273280790_3298584863862423552_o.jpg
END:VEVENT
BEGIN:VEVENT
DTSTART;TZID=Europe/Sofia:20190316T110000
DTEND;TZID=Europe/Sofia:20190316T150000
DTSTAMP:20260422T145837
CREATED:20190313T103537Z
LAST-MODIFIED:20190313T103537Z
UID:4439-1552734000-1552748400@orangesea.bg
SUMMARY:Тодоровден в Екопарк Варна
DESCRIPTION:И тази година Университетска Ботаническа Градина – Екопарк Варна ще отбележи Тодоровден с традиционната си програма. \nОткриването на празника е от 11:00 часа\, последвано от водосвет за здраве. \nНеотлъчна част от програмата е състезанието за най-красив конски впряг\, последвано от фолклорна програма. Честването ще завърши с гвоздеят на програмата – кушия с коне. \nВ паузите ще се проведе томбола с награди. Заповядайте! \n
URL:https://orangesea.bg/event/todorovden-v-ekopark-varna/
LOCATION:Екопарк Варна\, к.к. Св. Константин и Елена\, Варна\, Bulgaria
CATEGORIES:0 - 3 г. / бебешори,12 - 18 г. / тийнове,3 - 7 г. / дечурлига,7 - 12 г. / ученици,безплатно,на открито
ATTACH;FMTTYPE=image/jpeg:https://orangesea.bg/wp-content/uploads/2019/03/53764497_2080235565363617_805417457329111040_n.jpg
END:VEVENT
BEGIN:VEVENT
DTSTART;TZID=Europe/Sofia:20190316T120000
DTEND;TZID=Europe/Sofia:20190316T140000
DTSTAMP:20260422T145837
CREATED:20190313T104312Z
LAST-MODIFIED:20190313T104312Z
UID:4444-1552737600-1552744800@orangesea.bg
SUMMARY:Оцветяване на бутилчици с Богомилка на Фермерски Пазар Варна
DESCRIPTION:Приятели\, Богомилка отново ще е с нас на Фермерски Пазар Варна\, и ще организира отново чудна работилничка! 🙂\nТози път ще оцветяване на бутилчици\, като ще можете да сложите и ваша снимка ако желаете (за целта който иска нека си носи снимка 3х4см)\, а другите ще можете да напишете и послание\, пожелание за тати\, мама\, баба\, дядо или за близко приятелче.. 🙂 \nВход: 3лв (за материали) \nОчакваме ви! 🙂 \n
URL:https://orangesea.bg/event/otsvetyavane-na-butilchitsi-s-bogomilka-na-fermerski-pazar-varna/
LOCATION:Мол Варна ЕАД\, Бул. Владислав Варненчик 186\, Варна\, 9009
CATEGORIES:12 - 18 г. / тийнове,3 - 7 г. / дечурлига,7 - 12 г. / ученици,на закрито
ATTACH;FMTTYPE=image/jpeg:https://orangesea.bg/wp-content/uploads/2019/03/53932237_2299945606692903_3887416053986230272_o.jpg
END:VEVENT
BEGIN:VEVENT
DTSTART;TZID=Europe/Sofia:20190316T140000
DTEND;TZID=Europe/Sofia:20190317T170000
DTSTAMP:20260422T145837
CREATED:20190227T091934Z
LAST-MODIFIED:20190227T092016Z
UID:4272-1552744800-1552842000@orangesea.bg
SUMMARY:Пролетно надиграване
DESCRIPTION:Фестивалът на българския фолклор „Пролетно надиграване“ 2019 ще се проведе на 16 и 17 март във Варна. Домакин на колоритното събитие е Grand Mall – търговският център\, който традиционно подкрепя танцовите събития в морската столица. Участници от цялата страна ще се състезават за награден фонд от 5700 лв. Точно на Тодоровден – 16 март – в морската столица ще пристигнат фолклорни колективи от цялата страна\, за да се включат във фестивала „Пролетно надиграване“ 2019. Третото издание на фестивала на българския фолклор се организира от Grand Mall с партньорството на Сънрайз Мюзик ТВ и с подкрепата на Район Младост – Община Варна при специалното съдействие на кмета на Район Младост Христо Христов. \nУчастниците в „Пролетно надиграване“ 2019 ще пристигнат от Бургас\, Русе\, Пловдив\, Велико Търново\, Шумен\, Добрич\, Силистра\, от градовете Суворово\, Тервел\, Плиска\, Велики Преслав\, Несебър\, Белослав\, Аврен\, Игнатиево\, варненското село Тополи\, добруджанските села Калипетрово и Бабук. Различни фолклорни области ще бъдат представени със своите танцови традиции. Най-многобройни във всички възрастови групи ще бъдат състезателите от Варна. \nСъстезателите ще се надпреварват за оценките на високопрофесионалното академично жури с председател проф. д. изк. Лозанка Пейчева и членове д-р Данислав Кехайов – главен художествен ръководител на ансамбъл „Пирин“ и проф. д-р Антон Андонов – ръководител Катедра Хореография на АМТИИ – Пловдив и балетмайстор в ансамбъл „Тракия“. Шоуто ще води любимият на публиката водещ доц. д-р Венцислав Димов. \nСъстезанието ще бъде в 3 категории: Танцови състави\, Школи и клубове за народни хора и Фолклорни ансамбли. В категорията Танцови състави участниците ще бъдат в три възрастови групи – до 13 г.\, от 14 до 18 г. и над 19 г. „Пролетно надиграване“ Варна 2019 ще отличи победителите със статуетки\, плакети и парични награди\, като разпредели между тях награден фонд в размер на 5700 лв. \nВходът за всички събития на Пролетно надиграване Варна 2019 е свободен. \nПодробната програма с реда на участниците и техните изпълнения ще можете да откриете във Фейсбук страницата на фестивала www.facebook.com/GrandFolkloreFest на 12 март. \n#GrandMallVarna #folklor #BGfolklor #ProletnoNadigravane #Младост #Варна #танци #НародниТанци \n
URL:https://orangesea.bg/event/proletno-nadigravane/
LOCATION:Гранд Мол Варна\, 2 Andrey Saharov Str.\, Varna\, 9000\, Bulgaria
CATEGORIES:0 - 3 г. / бебешори,12 - 18 г. / тийнове,3 - 7 г. / дечурлига,7 - 12 г. / ученици,безплатно,музика,на закрито
ATTACH;FMTTYPE=image/jpeg:https://orangesea.bg/wp-content/uploads/2019/02/52924178_2598159163533549_6865625189682511872_n.jpg
END:VEVENT
END:VCALENDAR