BEGIN:VCALENDAR
VERSION:2.0
PRODID:-//Оранжево морето - ECPv4.8.2//NONSGML v1.0//EN
CALSCALE:GREGORIAN
METHOD:PUBLISH
X-WR-CALNAME:Оранжево морето
X-ORIGINAL-URL:https://orangesea.bg
X-WR-CALDESC:Events for Оранжево морето
BEGIN:VEVENT
DTSTART;TZID=Europe/Sofia:20190309T110000
DTEND;TZID=Europe/Sofia:20190309T140000
DTSTAMP:20260422T150418
CREATED:20190307T090350Z
LAST-MODIFIED:20190307T090350Z
UID:4372-1552129200-1552140000@orangesea.bg
SUMMARY:Работилница за рисуване върху дрехи с Делян Тодоров
DESCRIPTION:Имате скучна шапка\, нацапали сте любимите си обувки\, искате да направите специален подарък или просто обичате да пробвате нови неща… 🙂 Аз Делян Тодоров отново ви каня на Фермерски Пазар Варна в Мол Варна ЕАД\, ниво -2 на вълшебна работилничка!\nЗаповядайте тази събота да порисуваме върху текстил. 🙂\nРаботилницата е подходяща за деца над 5г и възрастни.\nВсички материали са осигурени освен дрехата която е от вас.\nЩе има и торбички от плат за тези които не са се подготвили. 🙂 \nКакво ще научите по време на работилничката:\n– Как се ползват текстилни бои за най-добри резултати\n– Как се правят и използват шаблони\n– Как се смесват и преливат цветове \nМатериали които ще бъдат използвани:\n– текстилна боя\n– шаблони \nЦена за участие 10лв (+2лв по избор за торба от плат) \nЗаповядайте! 🙂 \n
URL:https://orangesea.bg/event/rabotilnitsa-za-risuvane-varhu-drehi-s-delyan-todorov/
LOCATION:Мол Варна ЕАД\, Бул. Владислав Варненчик 186\, Варна\, 9009
CATEGORIES:12 - 18 г. / тийнове,3 - 7 г. / дечурлига,7 - 12 г. / ученици,култура и изкуство,на закрито
ATTACH;FMTTYPE=image/jpeg:https://orangesea.bg/wp-content/uploads/2019/03/53359687_2288039787883485_1031724416641269760_n.jpg
END:VEVENT
BEGIN:VEVENT
DTSTART;TZID=Europe/Sofia:20190309T113000
DTEND;TZID=Europe/Sofia:20190309T143000
DTSTAMP:20260422T150418
CREATED:20190307T085153Z
LAST-MODIFIED:20190307T085153Z
UID:4366-1552131000-1552141800@orangesea.bg
SUMMARY:Препрочитателска среща (за деца) Клон Варна
DESCRIPTION:Започваме отначало. Заради новите членове и читатели\, започваме нова препрочитателска година. Носим първа книга и четем първите три глави. Темата е: първи стъпки в света на Хари Потър. \n
URL:https://orangesea.bg/event/preprochitatelska-sreshta-za-detsa-klon-varna/
LOCATION:Pibooks\, ул. Бдин 1\, Varna\, 9000\, Bulgaria
CATEGORIES:12 - 18 г. / тийнове,7 - 12 г. / ученици,безплатно,на закрито
ATTACH;FMTTYPE=image/jpeg:https://orangesea.bg/wp-content/uploads/2019/03/53469098_10156728477859340_2478986786026553344_n.jpg
END:VEVENT
END:VCALENDAR