BEGIN:VCALENDAR
VERSION:2.0
PRODID:-//Оранжево морето - ECPv4.8.2//NONSGML v1.0//EN
CALSCALE:GREGORIAN
METHOD:PUBLISH
X-WR-CALNAME:Оранжево морето
X-ORIGINAL-URL:https://orangesea.bg
X-WR-CALDESC:Events for Оранжево морето
BEGIN:VEVENT
DTSTART;TZID=Europe/Sofia:20190301T190000
DTEND;TZID=Europe/Sofia:20190303T193000
DTSTAMP:20260422T144628
CREATED:20190227T093136Z
LAST-MODIFIED:20190227T161651Z
UID:4276-1551466800-1551641400@orangesea.bg
SUMMARY:Програма за 3-ти март – 141 години от Освобождението на България
DESCRIPTION:1 март – 19:00 ч.\nТМПЦ – основна сцена \nПРАЗНИЧЕН СИМФОНИЧЕН КОНЦЕРТ – диригент маестро Емил Табаков \n2 март \nМладежки дом\, концертна зала \n11:00 ч.  \n„БЪЛГАРСКИТЕ АРХИТЕКТУРНИ ПАМЕТНИЦИ В МАКЕТИ“ – Изложба на експонатите и награждаване на лауреатите от VIII национален ученически конкурс за изработка на макети \n14:00 ч. \n„МОЯТА БЪЛГАРИЯ” \nФотографска изложба и награждаване на лауреатите от XVIII общински конкурс за изпълнение на художествено слово и фотография. Конкурсите са част от програмата на ЦПЛР – Общински детски комплекс \n3 МАРТ \n9:00 ч. \nКатедрален храм „Успение Богородично” \nБОЖЕСТВЕНА СВЕТА ЛИТУРГИЯ \n10:30 ч. \nплощад „Св. Св. Кирил и Методий” \nТЪРЖЕСТВЕНО ИЗДИГАНЕ НА НАЦИОНАЛНОТО ЗНАМЕ \n10:45 ч. \nот Катедрален храм „Успение Богородично” до Паметника на Граф Игнатиев \nТЪРЖЕСТВЕНО ШЕСТВИЕ \n10:55 ч. \nПаметник на Граф Игнатиев \nПОДНАСЯНЕ НА ЦВЕТЯ \n11:10 ч. \nот Паметника на Граф Игнатиев по бул. „Княз Борис I”\, бул. „Сливница”\, Морска градина до Мемориалния паметник на украинските воини \nТЪРЖЕСТВЕНО ШЕСТВИЕ \n11:30 ч. \nМорска градина Мемориален паметник на украинските воини \nПОЛАГАНЕ НА ВЕНЦИ \n11:45 ч. \nот Мемориалния паметник на украинските воини до Паметника на руските воини \nТЪРЖЕСТВЕНО ШЕСТВИЕ \n12:00 ч. \nМорска градина – Паметник на руските воини \nПОКЛОНЕНИЕ\, ПОЛАГАНЕ НА ВЕНЦИ С ВОЕНЕН РИТУАЛ \n12:00 ч. \nДетски кът в Морска градина \n„ДЕЦАТА НА ВАРНА ПРАЗНУВАТ 3-ТИ МАРТ” \n12:30 ч. \nМорска градина\, Радио Варна \n56-та ЛЕКОАТЛЕТИЧЕСКА ЩАФЕТНА ОБИКОЛКА НА РАДИО ВАРНА \n11:00 ч. \nРайон „Аспарухово” Пред Народно читалище „Просвета 1927” \nКОНЦЕРТ „ДА ПРАЗНУВАМЕ ЗАЕДНО” \n13:30 ч. \nРайон „Владислав Варненчик” – Парк с Мемориал на руските воини – освободители в местността „Терасите” \nТЪРЖЕСТВО И РИТУАЛ С ПОЛАГАНЕ НА ВЕНЦИ И ЦВЕТЯ ПО СЛУЧАЙ 141-ГОДИШНИНА ОТ ОСВОБОЖДЕНИЕТО НА БЪЛГАРИЯ \n18:00 ч. \nФестивален и конгресен център – Зала 1 \nПРАЗНИЧЕН КОНЦЕРТ-СПЕКТАКЪЛ „БЪЛГАРИЯ – ЕДИН ЗАВЕТ \n19:30 ч. \nВход на Морска градина \nТЪРЖЕСТВЕНА ЗАРЯ-ПРОВЕРКА \n
URL:https://orangesea.bg/event/programa-za-3-ti-mart/
LOCATION:Варна\, The Sea Garden\, Varna\, Bulgaria
CATEGORIES:0 - 3 г. / бебешори,12 - 18 г. / тийнове,3 - 7 г. / дечурлига,7 - 12 г. / ученици,безплатно,за родители,забава и игри,музика
ATTACH;FMTTYPE=image/jpeg:https://orangesea.bg/wp-content/uploads/2019/02/52926455_2191358367599676_2511704566987227136_n.jpg
END:VEVENT
BEGIN:VEVENT
DTSTART;TZID=Europe/Sofia:20190302T100000
DTEND;TZID=Europe/Sofia:20190303T160000
DTSTAMP:20260422T144628
CREATED:20190227T090300Z
LAST-MODIFIED:20190227T150457Z
UID:4269-1551520800-1551628800@orangesea.bg
SUMMARY:Арт Базар „Черно Море” - всяка събота и неделя
DESCRIPTION:Имаме удоволствието да Ви поканим на първия за годината Арт базар на открито. Цели два дни в сърцето на град Варна\, точно пред хотел Черно Море!\nАрт Базар „Черно Море” ще се провежда ВСЕКИ УИКЕНД!\nЗапочваме в 10:00ч.\nСамо тук ще може да намерите уникални бижута\, детски стоки\, рисувано стъкло\, текстилни аксесоари\, плетива\, атрактивни стоки за бита и домашната декорация\, както и много други тематични творения\, съобразно наближаващите празници- „Цветница“ и „Великден“. Нека ни е цветно и шарено! Елате и си подарете един усмихнат ден\, изпълнен с креативност и много усмивки!\nЗа записване за участие: 0988806463- Ивелина Русева. \n
URL:https://orangesea.bg/event/art-bazar-cherno-more-vsyaka-sabota-i-nedelya/
LOCATION:Алея х-л Черно море – ФКЦ
CATEGORIES:0 - 3 г. / бебешори,12 - 18 г. / тийнове,3 - 7 г. / дечурлига,7 - 12 г. / ученици,на открито
ATTACH;FMTTYPE=image/jpeg:https://orangesea.bg/wp-content/uploads/2019/02/53238289_1181260615366159_6377635910363643904_n.jpg
END:VEVENT
BEGIN:VEVENT
DTSTART;TZID=Europe/Sofia:20190302T113000
DTEND;TZID=Europe/Sofia:20190304T170000
DTSTAMP:20260422T144628
CREATED:20190227T084805Z
LAST-MODIFIED:20190227T084837Z
UID:4264-1551526200-1551718800@orangesea.bg
SUMMARY:Възстановка на възрожденска улица. Гост Иван Звездев.
DESCRIPTION:\nОткриването на събитието ще се състои на 2ри март в зоната около Детски кът-Варна с начален час 11:30. Възстановка на възрожденска улица\, чрез различни занаятчийски и автентични представители на традиционни български продукти\, предмети и обичаи.\nОсновна част от програмата на откриването ще е концерта на децата от СУ за хуманитарни науки и изкуства “ Константин Преславски“ с начало 12:00ч.\nСлед концерта ще се насладим на типични български рецепти и гозби\, показани от майстор готвачи. Гост ще ни е Иван Звездев!\n____________\n* Ретро фото всеки ден за децата.Всеки ден 2\,3 и 4-ти март от 11:30 до 17:00ч. ще бъде открита възрожденската улица.\nСъбитието се посвещава на каузата “ Закупуване на специализирана линейка за деца за град Варна“ \n\n\n
URL:https://orangesea.bg/event/stara-ulitsa/
LOCATION:Детски кът\, Sea Garden\, Varna\, 9000\, Bulgaria
CATEGORIES:0 - 3 г. / бебешори,12 - 18 г. / тийнове,3 - 7 г. / дечурлига,7 - 12 г. / ученици,безплатно,забава и игри,кулинарно,култура и изкуство,музика,на открито,образователно
ATTACH;FMTTYPE=image/jpeg:https://orangesea.bg/wp-content/uploads/2019/02/51311659_2208756935837673_1041313480885403648_o.jpg
END:VEVENT
BEGIN:VEVENT
DTSTART;TZID=Europe/Sofia:20190303T120000
DTEND;TZID=Europe/Sofia:20190303T160000
DTSTAMP:20260422T144628
CREATED:20190226T135140Z
LAST-MODIFIED:20190226T135140Z
UID:4250-1551614400-1551628800@orangesea.bg
SUMMARY:Децата на Варна празнуват 3 март
DESCRIPTION:За 6 -та поредна година Детски кът-Варна\, ще отбележи най-светлата дата за българския народ – Освобождението от турско иго!\nШколи\, специализирани училища\, театрални състави\, танцови ансамбли и детски хорове ще си дадат среща на сцената в езерцето с лодките.\nАко имате народна носия\, облечете я!\nНека да покажем българското\, да се хванем на хорото. Да покажем\, че паметта на всички дали живота си за свободата ни е жива.\nМного музика\, много танци\, много знамена\, много БЪЛГАРИ!\nЗа много години БЪЛГАРИЯ!\nЕлате да се хванем за ръце! \nПРОГРАМА\n12:00ч. Празничен концерт на „Децата на Варна“\n13:00ч. „ПРОБУЖДАНЕ с Хоро“ за 3 март/Международна инициатива за най-голямото хоро по света за 3 март/\n14:00ч. Разстановка на Освещаването на Самарското знаме/ НД“Традиция“-РК“8 пехотен Приморски полк“-гр.Варна/\n14:30ч.Демонстрации с коне/Еко Парк Варна/\n15:00ч. Ретро фото /Автентичен кът с дрехи от епохата\, коне и декор. За всички желаещи\, безплатна снимка за спомен./ \nРазстановка на стара градска улица ще бъде направена от 11:30ч. до 17:00ч. -Занаятчии\, антиквари\, работилници по народни инструменти\, кухня със стари рецепти и много забавление през целия ден в парка! \nС подкрепата на Община Варна. \n
URL:https://orangesea.bg/event/detsata-na-varna-praznuvat-3-mart/
LOCATION:Детски кът\, Sea Garden\, Varna\, 9000\, Bulgaria
CATEGORIES:0 - 3 г. / бебешори,12 - 18 г. / тийнове,3 - 7 г. / дечурлига,7 - 12 г. / ученици,безплатно,на закрито
ATTACH;FMTTYPE=image/jpeg:https://orangesea.bg/wp-content/uploads/2019/02/51276834_2220649311315102_1429570935236591616_o.jpg
END:VEVENT
BEGIN:VEVENT
DTSTART;TZID=Europe/Sofia:20190303T170000
DTEND;TZID=Europe/Sofia:20190303T180000
DTSTAMP:20260422T144628
CREATED:20190213T073503Z
LAST-MODIFIED:20190226T134142Z
UID:4013-1551632400-1551636000@orangesea.bg
SUMMARY:Безплатен урок за деца по ментална аритметика
DESCRIPTION:\nЗапишете за ПРЕЗЕНТАЦИОНЕН УРОК по Ментална Аритметика!!!\nЩе научите какво представлява менталната аритметика\, за Методиката на МАЕ (с какво тя се различава от другите) и как развива у децата качества\, като:\nконцентрация\,\nвъображение\,\nфотографска памет\,\nлогика\,\nаналитично мислене\,\nкреативност и бърза и точна реакция при решаване на проблем.\nСформираме групи по всяко време.\nРаботим не само с деца\, но и с възрастни. \nМенталната аритметика е метод\, чрез който караме мозъка да мисли по-ефективно\, докато извършваме аритметични действия. \nМатематиката е само страничен продукт на това\, което правим. Ние развиваме в децата нови качества и създаваме устойчиви навици.\n❓ ВЪЗРАСТОВИ ГРУПИ ❓\nВ нашите центрове обучаваме деца от 5 до 14 години\, разпределени в следните възрастови групи: \n✔ от 5 до 7 години\n✔ от 7 до 9 години\n✔ от 9 до 14 години \n📔 За да посетите безплатна презентация (демо-урок) моля запишете се предварително тук: ➡ https://goo.gl/JeesnA\nи се обадете да резервирате своето място: \n☎ +359 89 915 3402 \n❗МЕСТАТА СА ОГРАНИЧЕНИ ❗ \n\n
URL:https://orangesea.bg/event/bezplaten-urok-za-detsa-po-mentalna-aritmetika-3/
LOCATION:Ментална Аритметика – МАЕ Варна – Clever kids\, ул. Проф. Николай Державин 17\, Varna\, 9000\, Bulgaria
CATEGORIES:12 - 18 г. / тийнове,3 - 7 г. / дечурлига,7 - 12 г. / ученици,безплатно,математика,на закрито
ATTACH;FMTTYPE=image/jpeg:https://orangesea.bg/wp-content/uploads/2019/01/49339033_278415026173989_3803579967405555712_o.jpg
END:VEVENT
END:VCALENDAR