BEGIN:VCALENDAR
VERSION:2.0
PRODID:-//Оранжево морето - ECPv4.8.2//NONSGML v1.0//EN
CALSCALE:GREGORIAN
METHOD:PUBLISH
X-WR-CALNAME:Оранжево морето
X-ORIGINAL-URL:https://orangesea.bg
X-WR-CALDESC:Events for Оранжево морето
BEGIN:VEVENT
DTSTART;TZID=Europe/Sofia:20190226T110000
DTEND;TZID=Europe/Sofia:20190226T183000
DTSTAMP:20260422T151033
CREATED:20190208T042146Z
LAST-MODIFIED:20190208T042146Z
UID:3939-1551178800-1551205800@orangesea.bg
SUMMARY:Изложение "Световно образование"
DESCRIPTION:Изложение „Световно образование“\nЗа 13-а поредна година изложение „Световно образование“ гостува във Варна\, като посетителите отново ще имат възможност за лична среща с представители на водещи образователни институции от цял свят. 🌐 \nОсвен от лични разговори\, посетителите ще могат да се възползват и от:\n– редица ценови отстъпки\, които ще бъдат валидни само в деня на изложението ⭐\n– специални предложения за всички\, които се интересуват от езикови ваканции и обучение в елитни колежи\n– серия презентации\, които да отговорят на най-често задаваните въпроси от страна на кандидат-студентите и техните родители 👩‍🏫 \n📅 Събитието ще се проведе на 26 февруари в хотел „Черно море“ от 11:00 до 18:30 ч. \nОчаквайте информация за пълната програма тук и на https://www.world-education.eu/\, където може да направите и предварителната си регистрация. \nВходът е свободен! \n
URL:https://orangesea.bg/event/izlozhenie-svetovno-obrazovanie/
LOCATION:х-л Черно море\, бул. Сливница 33\, Варна\, Bulgaria
CATEGORIES:12 - 18 г. / тийнове,за родители
ATTACH;FMTTYPE=image/png:https://orangesea.bg/wp-content/uploads/2019/02/Screenshot-2019-02-08-at-6.20.58.png
END:VEVENT
END:VCALENDAR