BEGIN:VCALENDAR
VERSION:2.0
PRODID:-//Оранжево морето - ECPv4.8.2//NONSGML v1.0//EN
CALSCALE:GREGORIAN
METHOD:PUBLISH
X-WR-CALNAME:Оранжево морето
X-ORIGINAL-URL:https://orangesea.bg
X-WR-CALDESC:Events for Оранжево морето
BEGIN:VEVENT
DTSTART;TZID=Europe/Sofia:20190224T120000
DTEND;TZID=Europe/Sofia:20190224T200000
DTSTAMP:20260422T155232
CREATED:20190217T180914Z
LAST-MODIFIED:20190217T181222Z
UID:4154-1551009600-1551038400@orangesea.bg
SUMMARY:На лов за мартеници
DESCRIPTION:Ловът за мартеници стартира на 24-и февруари в ХАЛЕ 3. Носете си усмивките\, заредете се с настроение за бели и червени красоти\, както и с желание да донесете радост и късмет на себе си и близките си под формата на ръчно изработено изкушение. Празничното настроение ще се поддържа с изобилие от червено вино\, сладкиши\, хубава музика и приятелски настроени артисти. Да се подготвим за най-българския празник Баба Марта и най- женствения ден 8 март с поредното хендмейд тържество\, защото няма по-добра магия за здраве от ръчно изработения подарък! \n
URL:https://orangesea.bg/event/bazar-na-lov-za-martenitsi-3/
LOCATION:ХАЛЕ 3\, бул. Христо Ботев 3\, Варна\, 9000\, Bulgaria
CATEGORIES:12 - 18 г. / тийнове,7 - 12 г. / ученици,култура и изкуство,музика,на закрито
ATTACH;FMTTYPE=image/jpeg:https://orangesea.bg/wp-content/uploads/2019/02/51387532_1179102348895026_1205135714082095104_o.jpg
END:VEVENT
BEGIN:VEVENT
DTSTART;TZID=Europe/Sofia:20190224T130000
DTEND;TZID=Europe/Sofia:20190224T160000
DTSTAMP:20260422T155232
CREATED:20190215T085734Z
LAST-MODIFIED:20190215T085734Z
UID:4116-1551013200-1551024000@orangesea.bg
SUMMARY:Плъстене "Късметлийската калинка"
DESCRIPTION:Плъстене „Късметлийската калинка“\n\nПремиерно те каним на занаятчийската ни работилница по плъстене.🐞 На душите ни е пролетно\, затова и темата ни е такава! 🌺Заедно ще изработим късметлийски калинки\, които да превърнем в брошки\, ключодържатели и какво ли още не. ☘Опит не е нужен\, само желание\, вдъхновение и търпение. \nКак? За да си запазиш място\, трябва да ни пишеш лично съобщение или да се обадиш на 0889 351 931 (при група под 5 души събитието ще се премести за следваща дата)📫📞 \nКолко? 20 лв/човек \nКакво? Професионални напътствия от Art Zelenika – плъст\, кожа\, плетива и други разни нещица .\, всички необдходими материали (до 3 игли)\, както и малка изненада\, която може да сбъдва мечти.🤸‍♂️ \nКога? 24.02.2019 (неделя)\, от 13:00ч. до 16:00ч. \nКъде? ул. Дебър 32\, кв. „Гръцка махала“\, гр. Варна \n*Снимката е с илюстративен характер.\n** Събитието не е подходящо за деца под 5г. \n\n
URL:https://orangesea.bg/event/plastene-kasmetliyskata-kalinka/
LOCATION:Работилница за вдъхновение / Inspiration workshop\, ул. Дебър 32\, Varna\, 9000\, Bulgaria
CATEGORIES:12 - 18 г. / тийнове,3 - 7 г. / дечурлига,7 - 12 г. / ученици,за родители,култура и изкуство,на закрито
ATTACH;FMTTYPE=image/jpeg:https://orangesea.bg/wp-content/uploads/2019/02/51753189_559137164605330_2102087557373231104_o.jpg
END:VEVENT
END:VCALENDAR