BEGIN:VCALENDAR
VERSION:2.0
PRODID:-//Оранжево морето - ECPv4.8.2//NONSGML v1.0//EN
CALSCALE:GREGORIAN
METHOD:PUBLISH
X-WR-CALNAME:Оранжево морето
X-ORIGINAL-URL:https://orangesea.bg
X-WR-CALDESC:Events for Оранжево морето
BEGIN:VEVENT
DTSTART;TZID=Europe/Sofia:20190217T120000
DTEND;TZID=Europe/Sofia:20190217T150000
DTSTAMP:20260422T155334
CREATED:20190212T041011Z
LAST-MODIFIED:20190213T154144Z
UID:3980-1550404800-1550415600@orangesea.bg
SUMMARY:Щури научни работилнички за деца - гр. Варна
DESCRIPTION:Щури научни работилнички за деца – гр. Варна\nЩури научни работилнички за деца над 5 години. На 17.02. неделя от 12 ч. и 14 ч. в гр.Варна\, читалище Македония\, ул. Солун 2 – Фестивал на науката за деца!!!\nСамо с предварително записване на тел: 0885869029\nОтново организираме научни работилнички в нашата Щура лаборатория за всички любознателни дечица!👦👧\nПод ръководството на опитни инструктори всички участници ще могат да смесват\, разтварят и съединяват различни химични реагенти\, специално подбрани\, за да са безопасни.🐍🌈💡🎉 Всяко дете ще има възможността да СЕ ЗАНИМАВА С ХИМИЯ и да си НАПРАВИ НАУЧЕН ПОДАРЪК\, който може да си вземе вкъщи.\nНа нашите забавни занятия ще докажем\, че науката е нещо мноооого интересно и всяко дете ще се почувства като истински учен!!!\nВижте повече➡Записвайте се на телефони: 0885869029\nЗа информация извън записването: 0889946111\nАдрес: гр.Варна\, читалище Македония\, ул. Солун 2\nЦена за участие: 15 лв.\nСлед нашите работилнички можете да закупите научни епруветки за домашни експерименти – 12 лв. \n
URL:https://orangesea.bg/event/shturi-nauchni-rabotilnichki-za-detsa-gr-varna/
CATEGORIES:12 - 18 г. / тийнове,3 - 7 г. / дечурлига,7 - 12 г. / ученици,на закрито,образователно
ATTACH;FMTTYPE=image/jpeg:https://orangesea.bg/wp-content/uploads/2019/02/52057124_2165396163775087_904063334175735808_n.jpg
END:VEVENT
END:VCALENDAR