BEGIN:VCALENDAR
VERSION:2.0
PRODID:-//Оранжево морето - ECPv4.8.2//NONSGML v1.0//EN
CALSCALE:GREGORIAN
METHOD:PUBLISH
X-WR-CALNAME:Оранжево морето
X-ORIGINAL-URL:https://orangesea.bg
X-WR-CALDESC:Events for Оранжево морето
BEGIN:VEVENT
DTSTART;TZID=Europe/Sofia:20190210T110000
DTEND;TZID=Europe/Sofia:20190210T130000
DTSTAMP:20260422T155233
CREATED:20190205T061152Z
LAST-MODIFIED:20190205T133233Z
UID:3888-1549796400-1549803600@orangesea.bg
SUMMARY:Варненско лято за деца
DESCRIPTION:10 февруари 2019 – зала 1 – 11 часа\nЗА МУЗИКАТА – С ЛЮБОВ\n(романтични теми от световната музикална съкровищница)\n  \n \nБезплатен детски концерт „Обичам музиката“ на 10 февруари \nРомантични музикални теми\, разказани за деца\, ще звучат в концерта от поредицата „Музикалните приказки на госпожа Виола“ от 11 ч. в Зала 1 на Фестивалния комплекс \nВ месеца на любовта Община Варна и Международният музикален фестивал „Варненско лято“ ще поканят деца и родители на първия за годината концерт от поредицата „Музикалните приказки на Госпожа Виола“\, част от популярната поредица „Варненско лято за деца“.\nТрадицията на фамилните концерти за деца и родители продължава вече девета поредна година при все по-нарастващ интерес\, а от миналата година вече и на ново място\, което да побере умножаващата се публика – Зала 1 на Фестивалния и конгресен център. \nВ основата на музикалните истории са Госпожа Виола – Руми Петрова\, музикант и продуцент\, и диригентът Страцимир Павлов. Те събират около себе си младите таланти на морския град в изненадващо разнообразни тематични концерти. \n \nКонцертът на 10 февруари\, неделя\, е посветен на любовта към музиката. Романтичната линия е развита в унисон с детските усещания\, а темата е добър повод малчуганите да открият нови прекрасни мигове от света на музиката.\nНа сцената ще излезе Младежкият симфоничен оркестър Варна при Националното училище по изкуствата „Добри Христов“. Ще се изяват и солисти балетисти\, изпълнители на народна музика\, певци и инструменталисти. Госпожа Виола\, както всеки път\, ще увлече децата от публиката в любимите им интерактивни игри\, които ги превръщат в герои на музикалната сцена и ги възпитават в обич и уважение към изкуството. \nНачалото на концерта ще бъде силно – с оркестъра на НУИ „Добри Христов“ и енергичната увертюра към операта „Сватбата на Фигаро“ от Моцарт\, а след това най-малките – първолаците\, ще изпълнят с цялото си очарование „Мила моя мамо“. Клавирно дуо третокласнички ще изсвири традиционната мелодия „Буги“\, оркестърът и солисти балетисти от трети и четвърти клас ще представят изящния Валс на спящата красавица от Чайковски. \n \nТалантливите малчугани от Ансамбъл „Виолино“ ще изпълнят специален аранжимент на „О соле мио“\, създаден специално за тях и оркестъра от Страцимир Павлов. Ще чуем и темата от филма „Кино Парадизо“ и обичаната композиция „Гранада“ от Августин Лара. Ансамбъл ударни инструменти\, фолклорни мотиви\, поп и джаз пиеси ще допълнят програмата на пъстрия концерт. А финалът ще донесе кулминация на настроението с ентусиазма на Марша на тореадора от операта „Кармен“ на Бизе. \nВарненско лято за деца\n\nСимфоничен оркестър при НУИ „Д.Христов“- Варна\nДиригент Страцимир Павлов\nВодещ Руми Петрова „госпожа Виола” \nВходът за концерта е свободен и за деца\, и за родители. \n\nСнимки: Росен Донев. \n  \n
URL:https://orangesea.bg/event/varnensko-lyato-za-detsa-3/
LOCATION:Фестивален и Конгресен Център\, бул. Сливница № 2\, Варна\, 9000\, Bulgaria
CATEGORIES:0 - 3 г. / бебешори,12 - 18 г. / тийнове,3 - 7 г. / дечурлига,7 - 12 г. / ученици,безплатно,бременност и майчинство,култура и изкуство,музика,на закрито,образователно
ATTACH;FMTTYPE=image/jpeg:https://orangesea.bg/wp-content/uploads/2018/10/19693776_2039418742767475_6887225484360735723_o.jpg
END:VEVENT
END:VCALENDAR