BEGIN:VCALENDAR
VERSION:2.0
PRODID:-//Оранжево морето - ECPv4.8.2//NONSGML v1.0//EN
CALSCALE:GREGORIAN
METHOD:PUBLISH
X-WR-CALNAME:Оранжево морето
X-ORIGINAL-URL:https://orangesea.bg
X-WR-CALDESC:Events for Оранжево морето
BEGIN:VEVENT
DTSTART;TZID=Europe/Sofia:20190205T190000
DTEND;TZID=Europe/Sofia:20190205T203000
DTSTAMP:20260422T195407
CREATED:20190111T145123Z
LAST-MODIFIED:20190205T140028Z
UID:3566-1549393200-1549398600@orangesea.bg
SUMMARY:Ани
DESCRIPTION:Детски мюзикъл от Чарлз Страус\n05 февруари 2019\,  вторник\, 19 часа\nОсновна сцена\nДиригент – постановчик  Ганчо Ганчев\nРежисьор – постановчик  Емилия Петкова\nСценография и костюми – Тодор Игнатов\nХормайстор и корепетитор – Миглена Шишева\nХореограф – Денко Стоянов\nВокален педагог – Галина Станишева\nТеатрален педагог – Петя Петкова\nБалетен педагог – Бистра Бъчварова\n \n Мюзикълът по мотиви от популярната поредица от комикси Вечната тема за надеждата и вярата на едно дете в утрешния ден. \nБилети: 10\, 12 лв. \nБИЛЕТНА КАСА: пл. Независимост 1: понеделник-петък 9:00-13:30 и 14:30-20:00; събота 10:00–13:30 и 14:30-19:00 ч.; неделя 11:00-16:00\, 052 665 022 \n \nС участието на Варненска детско-юношеска опера при Общински детски комплекс \n
URL:https://orangesea.bg/event/ani/
LOCATION:Държавна Опера Варна\, пл. Независимост 1\, Варна\, 9000\, Bulgaria
CATEGORIES:12 - 18 г. / тийнове,7 - 12 г. / ученици,кино и театър,музика,на закрито
ATTACH;FMTTYPE=image/jpeg:https://orangesea.bg/wp-content/uploads/2019/01/ANNIE.jpg
END:VEVENT
END:VCALENDAR