BEGIN:VCALENDAR
VERSION:2.0
PRODID:-//Оранжево морето - ECPv4.8.2//NONSGML v1.0//EN
CALSCALE:GREGORIAN
METHOD:PUBLISH
X-WR-CALNAME:Оранжево морето
X-ORIGINAL-URL:https://orangesea.bg
X-WR-CALDESC:Events for Оранжево морето
BEGIN:VEVENT
DTSTART;TZID=Europe/Sofia:20190202T091500
DTEND;TZID=Europe/Sofia:20190202T190000
DTSTAMP:20260422T155416
CREATED:20190124T093044Z
LAST-MODIFIED:20190129T144622Z
UID:3687-1549098900-1549134000@orangesea.bg
SUMMARY:НОВО! Журналистика\, езици и рисуване в Стаята на Пи
DESCRIPTION:Стаята на Пи за кръжоци\, консултации и забавления отваря врати. Стартираме с езици\, рисуване и журналистика за юноши. \nЕзици 12+ \nФренски\, испански и руски\, водени от носители на езика\, за ученици с добри базови познания. Основните теми са език\, цивилизация и развитие на съответната държава.  Всеки лектор е подготвил оригинална програма с много творчески и игрови елементи. Малки групи.\nРуски – събота 9:15-11:15\nИспански – събота 11:30-13:30\nФренски – събота 13:45-15:45 \n\n\nЖурналистика 12+\nЗапознаване с динамичния свят на журналистиката\, с основните видове медии и жанрове\, съчетано с посещения на изложби\, театри и културни събития. Кръжокът завършва с необемисто печатно издание на материалите\, събрани по време на заниманията. Група до шест души.\nЧетвъртък 18:00-20:00 с възможност за промяна на деня и часа. \nРисуване 12+\nПи Букс предлага уроци по рисуване за любители и кандидатстващи в малки групи с възможност всеки да работи по свой проект или програма и да получи индивидуално внимание. Работа с различни материали и техники. Обща композиция\, практическо използване на перспектива\, въздушна перспектива\, закони на възприятието…\nКонсултации при подготвяне на портфолио за кандидатстване в университети.\nСъбота 16:00-19:00 \nЗаплащане:\nЖурналистика и езици: \nПълен цикъл – 30 часа\, по 2 часа седмично. Цена 10 лв./час при заплащане на целия курс.15 лв./час при еднократно посещение. Информирайте се дали има свободно място. \nМесечен абонамент Рисуване:\n4 посещения по 3 часа = 108 лв. (9 лв./час)\n5 посещения по 3 часа = 135 лв. (9 лв./час)\nВ зависимост от разпределението на дните в седмиците в съответния месец\, месечната такса е за 4 или 5 посещения.\nЕднократно посещение 12 лв./час.\nКонсултация за изготвяне на портфолио: 40 лв. (в рамките на час). \n\nЗа записвания и въпроси: pibooks.bg@gmail.com\, 0876 3\,14159\, Варна\, ул. Бдин 1 ¾\n\nИлюстрация на корицата: Qvasimodo Art/Shutterstock\, адаптация: Obekti.bg \n\n
URL:https://orangesea.bg/event/pibooks-workshops/
LOCATION:Pibooks\, ул. Бдин 1\, Varna\, 9000\, Bulgaria
CATEGORIES:12 - 18 г. / тийнове,езици,на закрито,образователно
ATTACH;FMTTYPE=image/png:https://orangesea.bg/wp-content/uploads/2019/01/49202868_591779834612458_7573406551336026112_n.png
END:VEVENT
BEGIN:VEVENT
DTSTART;TZID=Europe/Sofia:20190202T110000
DTEND;TZID=Europe/Sofia:20190202T180000
DTSTAMP:20260422T155416
CREATED:20190129T050025Z
LAST-MODIFIED:20190129T173635Z
UID:3765-1549105200-1549130400@orangesea.bg
SUMMARY:Намери своя учител в Пи Букс
DESCRIPTION:ТИЙНЗОНА: РИСУВАНЕ\, ЕЗИЦИ И ЖУРНАЛИСТИКА\n\nПи Букс ви кани на среща с преподавателите по рисуване\, езици и журналистика 12+.\n\nВ събота 02.02. можете да се запознаете и да обсъдите лично с лекторите как ще протичат занятията в Стаята на Пи.\n\nОчакваме ви през целия ден:\nРисуване: 11:00 ч.\nФренски: 13:00 ч.\nИспански: 14:30 ч.\nРуски: 15:30 ч.\nЖурналистика: 17:00 ч.\n\n\nЕмил\nAaron\nElena\nPhilippe\n  \n  \n  \n  \n  \n\n  \n  \n\n\nPibooks.bg e уютна книжарница за детска и юношеска литература във Варна. Ще Ви посрещнат с кафе или чай от джинджифил с вкусен мед\, поднесени красиво\, на фона на тих джаз. Тук се събират книжарница\, кафе-библиотека\, учебна стая и галерия. \nЗаразете се с изкуство\, знания и добро настроение!\n\n\nPibooks.bg се намира в началото на улица Бдин\, в непосредствена близост до паметника на Цар Калоян и площад Независимост. \n\n\n
URL:https://orangesea.bg/event/free-pibooks-teenzona/
LOCATION:Pibooks\, ул. Бдин 1\, Varna\, 9000\, Bulgaria
CATEGORIES:12 - 18 г. / тийнове,безплатно,езици,култура и изкуство,на закрито,образователно
ATTACH;FMTTYPE=image/jpeg:https://orangesea.bg/wp-content/uploads/2019/01/51322685_1152254318262323_3179498288466362368_n.jpg
END:VEVENT
BEGIN:VEVENT
DTSTART;TZID=Europe/Sofia:20190202T150000
DTEND;TZID=Europe/Sofia:20190202T170000
DTSTAMP:20260422T155416
CREATED:20190110T133239Z
LAST-MODIFIED:20190131T053539Z
UID:3510-1549119600-1549126800@orangesea.bg
SUMMARY:Безплатен урок за деца по ментална аритметика
DESCRIPTION:\nЗапишете за ПРЕЗЕНТАЦИОНЕН УРОК по Ментална Аритметика!!!\nЩе научите какво представлява менталната аритметика\, за Методиката на МАЕ (с какво тя се различава от другите) и как развива у децата качества\, като:\nконцентрация\,\nвъображение\,\nфотографска памет\,\nлогика\,\nаналитично мислене\,\nкреативност и бърза и точна реакция при решаване на проблем.\nСформираме групи по всяко време.\nРаботим не само с деца\, но и с възрастни.Менталната аритметика е метод\, чрез който караме мозъка да мисли по-ефективно\, докато извършваме аритметични действия. \nМатематиката е само страничен продукт на това\, което правим. Ние развиваме в децата нови качества и създаваме устойчиви навици.\n❓ ВЪЗРАСТОВИ ГРУПИ ❓\nВ нашите центрове обучаваме деца от 5 до 14 години\, разпределени в следните възрастови групи: \n✔ от 5 до 7 години\n✔ от 7 до 9 години\n✔ от 9 до 14 години \n📔 За да посетите безплатна презентация (демо-урок) моля запишете се предварително тук: ➡ https://goo.gl/JeesnA\nи се обадете да резервирате своето място: \n☎ +359 894 268 619\n☎ +359 887 199 283 \n❗МЕСТАТА СА ОГРАНИЧЕНИ ❗ \n\n\n❗МЕСТАТА СА ОГРАНИЧЕНИ ❗ \n
URL:https://orangesea.bg/event/bezplaten-urok-za-detsa-po-mentalna-aritmetika/
CATEGORIES:12 - 18 г. / тийнове,3 - 7 г. / дечурлига,7 - 12 г. / ученици,безплатно,математика,на закрито
ATTACH;FMTTYPE=image/jpeg:https://orangesea.bg/wp-content/uploads/2019/01/49339033_278415026173989_3803579967405555712_o.jpg
END:VEVENT
END:VCALENDAR