BEGIN:VCALENDAR
VERSION:2.0
PRODID:-//Оранжево морето - ECPv4.8.2//NONSGML v1.0//EN
CALSCALE:GREGORIAN
METHOD:PUBLISH
X-WR-CALNAME:Оранжево морето
X-ORIGINAL-URL:https://orangesea.bg
X-WR-CALDESC:Events for Оранжево морето
BEGIN:VEVENT
DTSTART;TZID=Europe/Sofia:20181208T100000
DTEND;TZID=Europe/Sofia:20181227T190000
DTSTAMP:20260422T183051
CREATED:20181206T163256Z
LAST-MODIFIED:20181206T163319Z
UID:3260-1544263200-1545937200@orangesea.bg
SUMMARY:Коледен Сръчко 2018
DESCRIPTION:✨ Изключително✨ 🎄 коледно настроение🎄\, ️🎶 музика\, 💃 танци\, 👧игри\, 🎅 Дядо Коледа\, ️🎭 магьосници\, 👐 ръчно произведени изделия Ви очакват на петото издание на хитовия фестивал за ръчно изработени изделия 🎄 „Сръчко“ 🎄.\nНа него ще се представят над 80 майстори от България и чужбина – Русия\, САЩ\, Украйна\, Куба\, Германия.\nВарненци и гости на града ще могат да се докоснат до ръчно изработени\n👉сваровски бижута и сребро\n👉изделия от мед\n👉ръчно изработени коледни лампи\,\n👉тъкани изделия\, тъкане на стан\n👉 декупаж\, макреме\n👉картини\n👉плетива\n👉бижута\n👉картички\n👉десетки други радости за окото.\nСпециално за най-малките във фоайето на Фестивалния и Конгресен център ще има безплатен 👼 детски кът👼.\nФестивалът „Коледен Сръчко“ ще бъде отворен всеки ден от 10 до 19 часа. \n
URL:https://orangesea.bg/event/koleden-srachko-2018/
LOCATION:Фестивален и Конгресен Център\, бул. Сливница № 2\, Варна\, 9000\, Bulgaria
CATEGORIES:0 - 3 г. / бебешори,12 - 18 г. / тийнове,3 - 7 г. / дечурлига,7 - 12 г. / ученици,на закрито
ATTACH;FMTTYPE=image/jpeg:https://orangesea.bg/wp-content/uploads/2018/12/47072119_763547143999606_1496216140337119232_o.jpg
END:VEVENT
BEGIN:VEVENT
DTSTART;TZID=Europe/Sofia:20181209T110000
DTEND;TZID=Europe/Sofia:20181209T123000
DTSTAMP:20260422T183051
CREATED:20181206T154521Z
LAST-MODIFIED:20181207T061601Z
UID:3230-1544353200-1544358600@orangesea.bg
SUMMARY:Стъклопис за деца
DESCRIPTION:Стъклопис за деца – Приключенията на Снежко (glass painting)\nКоледа идва и ние запрятаме ръкави\, за да помогнем на белобрадия старец с хилядите подаръци. Тази неделя ще нарисуваме Снежко върху стъкло\, под вещото напътствие на майстор занаятчията Ивелина Русева от Артелини – ателие за работа с ръце. 👌⛄ От „Работилница за вдъхновение“ ще си тръгнеш с прекрасен коледен подарък\, куп нови приятели\, изцапани ръце и усмихнато лице! \nКой? Работилницата е подходяща за деца от 5 до 105 години \nКога? 09.12.2018 (неделя)\, от 11:00 ч. до 12:30 ч. \nКъде? Работилница за вдъхновение\, ул. „Дебър“ 32\, кв. „Гръцка махала“\, гр. Варна \nКакво? Детайлни напътствия от опитен майстор занаятчия по стъклопис и гравиране\, всички необходими материали за рисуване\, стъклена рамка (остава за теб) и малка изненада\, която може да лети 🚀. \nКолко? 23 лв \nКак? За да си гарантираш място\, е необходимо да направиш резервация\, като ни пишеш лично съобщение или се обадиш на 0889 351 931. Нужно е да заплатиш предварително в работилницата или чрез банков превод\, тъй като местата са ограничени (при група под 5 души събитието ще се премести за следваща дата). \n*Снимката е с илюстративен характер. \n
URL:https://orangesea.bg/event/staklopis-za-detsa-3/
LOCATION:Работилница за вдъхновение / Inspiration workshop\, ул. Дебър 32\, Varna\, 9000\, Bulgaria
CATEGORIES:12 - 18 г. / тийнове,3 - 7 г. / дечурлига,7 - 12 г. / ученици,култура и изкуство,на закрито
ATTACH;FMTTYPE=image/jpeg:https://orangesea.bg/wp-content/uploads/2018/11/46847796_513674105818303_6308070148976672768_n.jpg
END:VEVENT
END:VCALENDAR