BEGIN:VCALENDAR
VERSION:2.0
PRODID:-//Оранжево морето - ECPv4.8.2//NONSGML v1.0//EN
CALSCALE:GREGORIAN
METHOD:PUBLISH
X-WR-CALNAME:Оранжево морето
X-ORIGINAL-URL:https://orangesea.bg
X-WR-CALDESC:Events for Оранжево морето
BEGIN:VEVENT
DTSTART;TZID=Europe/Sofia:20181202T110000
DTEND;TZID=Europe/Sofia:20181202T120000
DTSTAMP:20260422T182942
CREATED:20181119T041050Z
LAST-MODIFIED:20181127T163257Z
UID:3102-1543748400-1543752000@orangesea.bg
SUMMARY:Коледа е!
DESCRIPTION:Коледно околосветско пътешествие с музиката и танците на различни народи ще радва малчуганите и техните родители в последния за годината концерт от програмата „Варненско лято за деца“. Най-празничният зимен концерт от съпътстващата програма на големия фестивал „Варненско лято“ – „Варненско лято за деца“ ще събере малки и големи в Зала 1 на Фестивалния и конгресен център тази неделя\, 2.12. от 11:00. Под мотото „Коледа е!“ той ще представи музикалните традиции по света. \n„Концертът ще бъде истинско околосветско музикално пътешествие – споделя водещата – обичаната от малчуганите Г-жа Виола – Руми Петрова. – За малките ученици ще има и ефекта на забавен интерактивен урок по музикална география. Искаме да направим достъпна и за най-малките музикалната култура на далечни народи и да ги накараме да се почувстват част от голямото световно семейство на почитателите на добрата музика.“ \nС каква музика се празнуват коледните и новогодишните празници в различните държави? На крилете на музиката изпълнители и публика ще посетят Европа\, Русия\, Америка и Куба. Към Детския симфоничен оркестър на НУИ „Добри Христов“ Варна с диригент маестро Страцимир Павлов ще се присъединят инструменталисти\, певци\, балет и народни танци\, за да поднесат на своите почитатели магията на празничния дух. \nОт „Лешникотрошачката“ на Чайковски до „Радецки марш“ на Щраус\, от американски „джингъли“ до български коледни песни ще звучат на голямата сцена на Зала 1. Както посветената публика на концертите от програмата „Варненско лято за деца“ вече знае\, забавлението ще е интерактивно – ще има игри с публиката\, включително и най-любимата на всички мъници – да дирижират симфоничния оркестър. Защото „Варненско лято за деца“ е отворена сцена за всички бъдещи артисти. \nВходът за концерта на 2 декември е свободен за всички – деца и родители. \n
URL:https://orangesea.bg/event/varnensko-lyato-za-detsa-2/
LOCATION:Фестивален и Конгресен Център\, бул. Сливница № 2\, Варна\, 9000\, Bulgaria
CATEGORIES:0 - 3 г. / бебешори,12 - 18 г. / тийнове,3 - 7 г. / дечурлига,7 - 12 г. / ученици,безплатно,бременност и майчинство,култура и изкуство,музика,образователно
ATTACH;FMTTYPE=image/jpeg:https://orangesea.bg/wp-content/uploads/2018/11/46970616_1505599079543823_1874074765900120064_o.jpg
END:VEVENT
BEGIN:VEVENT
DTSTART;TZID=Europe/Sofia:20181202T110000
DTEND;TZID=Europe/Sofia:20181202T123000
DTSTAMP:20260422T182942
CREATED:20181130T063105Z
LAST-MODIFIED:20181130T063105Z
UID:3196-1543748400-1543753800@orangesea.bg
SUMMARY:Стъклопис за деца
DESCRIPTION:Стъклопис за деца – Приключенията на Снежко (glass painting)\nКоледа идва и ние запрятаме ръкави\, за да помогнем на белобрадия старец с хилядите подаръци. Тази неделя ще нарисуваме Снежко върху стъкло\, под вещото напътствие на майстор занаятчията Ивелина Русева от Артелини – ателие за работа с ръце. 👌⛄ От „Работилница за вдъхновение“ ще си тръгнеш с прекрасен коледен подарък\, куп нови приятели\, изцапани ръце и усмихнато лице! \nКой? Работилницата е подходяща за деца от 5 до 105 години \nКога? 02.12.2018 (неделя)\, от 11:00 ч. до 12:30 ч. \nКъде? Работилница за вдъхновение\, ул. „Дебър“ 32\, кв. „Гръцка махала“\, гр. Варна \nКакво? Детайлни напътствия от опитен майстор занаятчия по стъклопис и гравиране\, всички необходими материали за рисуване\, стъклена рамка (остава за теб) и малка изненада\, която може да лети 🚀. \nКолко? 23 лв \nКак? За да си гарантираш място\, е необходимо да направиш резервация\, като ни пишеш лично съобщение или се обадиш на 0889 351 931. Нужно е да заплатиш предварително в работилницата или чрез банков превод\, тъй като местата са ограничени (при група под 5 души събитието ще се премести за следваща дата). \n*Снимката е с илюстративен характер. \n
URL:https://orangesea.bg/event/staklopis-za-detsa-2/
LOCATION:Работилница за вдъхновение / Inspiration workshop\, ул. Дебър 32\, Varna\, 9000\, Bulgaria
CATEGORIES:12 - 18 г. / тийнове,3 - 7 г. / дечурлига,7 - 12 г. / ученици,култура и изкуство,на закрито
ATTACH;FMTTYPE=image/jpeg:https://orangesea.bg/wp-content/uploads/2018/11/46847796_513674105818303_6308070148976672768_n.jpg
END:VEVENT
END:VCALENDAR