BEGIN:VCALENDAR
VERSION:2.0
PRODID:-//Оранжево морето - ECPv4.8.2//NONSGML v1.0//EN
CALSCALE:GREGORIAN
METHOD:PUBLISH
X-WR-CALNAME:Оранжево морето
X-ORIGINAL-URL:https://orangesea.bg
X-WR-CALDESC:Events for Оранжево морето
BEGIN:VEVENT
DTSTART;TZID=Europe/Sofia:20181003T193000
DTEND;TZID=Europe/Sofia:20181130T210000
DTSTAMP:20260422T192358
CREATED:20180924T081328Z
LAST-MODIFIED:20180924T081547Z
UID:2274-1538595000-1543611600@orangesea.bg
SUMMARY:Курс по катерене за начинаещи - Варна
DESCRIPTION:Курс по спортно и скално катерене – Варна есен 2018\nНачално обучение \n…изживейте едно приключение сред природата \nСпортен клуб „Чудните скали“ организира новия си есенен курс по спортно и скално катерене към „Българската федерация по катерене и алпинизъм“. Подходящ е за всички любители и начинаещи\, обичащи заниманията на открито и спокойствието сред природата. \nВ програмата си сме предвидили часове теория и практика. Практиката ще се проведе на изкуствената стена в бившия Плувен комплекс „Юрий Гагарин“ и на скали. Ще имате възможност да опитате нещо различно – посещение на интересни пещери и нощувка на палатки и спални чували. \nОсновни теми в курса по катерене са запознаване екипировката\, необходими възли\, техники на осигуряване\, катерене и спускане с въже\, медицинска лекция. Опитен гид ще проведе лекция по планинарство\, ориентиране и бивакуване. В опитът ни да живеем в хармония с природата ще говорим за екология \nНе си мислете\, че всичко свършва дотук. За най – големите ентусиасти сме предвидили специални предизвикателства като нощно катерене\, махало и много адреналин. \nНеобходимата екипировка е осигурена от клуба. Успешно завършилите курса получават сертификат от БФКА. \nНачало: 3 октомври 2018 г. 19:30 ч. Бивш плувен комплекс „Юрий Гагарин“ \nПериод на провеждане: 2 месеца\, до края на месец ноември; \nИнструктор: Аспарух Вълчев\, сертифициран към БФКА\, удостоверение N 4718/20.12.2004 г. (с над 29 проведени курса и множество обучения по катерене); \nТеоретични занимания: два пъти седмично от 19:30 ч.; \nПрактически занимания: един път седмично от 19:30 ч. на стена за катерене\, събота/неделя/ – целодневно на скали\, с възможност за нощувка на палатки/хижа; \nЦена: 250 лв\nСпециални отстъпки за ученици\, студенти и групи! \nМестоположение:\nhttps://www.google.bg/maps/place/Стена+за+катерeне+-+СК+%22Чудните+скали%22/@43.220988\,27.939183\,17z/data=!3m1!4b1!4m2!3m1!1s0x40a453f2f868fcb5:0x892b6266b4df2009 \nЗа въпроси и записване: 0888 888 006\, 0888 667 461 – Аспарух Вълчев; \ne-mail: chudniteskali@abv.bg \n
URL:https://orangesea.bg/event/kurs-po-katerene-za-nachinaeshti-varna/
LOCATION:Стена за катерене Чудните скали\, Стена за катерeне - СК "Чудните скали"\, Varna\, 9010
CATEGORIES:12 - 18 г. / тийнове,7 - 12 г. / ученици,на закрито,на открито,спорт
ATTACH;FMTTYPE=image/jpeg:https://orangesea.bg/wp-content/uploads/2018/09/42473021_10156586937876092_7196895991453188096_n.jpg
END:VEVENT
BEGIN:VEVENT
DTSTART;TZID=Europe/Sofia:20181112T183000
DTEND;TZID=Europe/Sofia:20181112T200000
DTSTAMP:20260422T192358
CREATED:20181109T033927Z
LAST-MODIFIED:20181109T034735Z
UID:3016-1542047400-1542052800@orangesea.bg
SUMMARY:Детска работилница "Yamato - The Drummers of Japan" във Варна!
DESCRIPTION:Усети пулса на #Тайко барабана\nEла и барабани на една сцена с Ямато – 倭 -Yamato The drummers of Japan\nYamato – The Drummers of Japan във Варна!\nНека сърцата ни забият в едно! 🥁✨🥁💓💖💟 \n\n1️⃣2️⃣/️1️⃣1️⃣/️2️⃣0️⃣1️⃣8️⃣ (Понеделник) ️ \n1️⃣8️⃣:3️⃣0️⃣ – Grand Mall  \n \nЗаписване на https://goo.gl/forms/eyKAh6ffN13DQ3k83\nМоля\, запишете данните на участниците. Заниманието не е подходящо за деца под 10 год. Участието Ви ще бъде потвърдено с писмо или телефонно обаждане от нас. За въпроси и уточнения моля пишете на office@lunart.bg или се обадете на: 📱📱0878141612📲 \n  \n
URL:https://orangesea.bg/event/kids-workshop-yamato-varna/
LOCATION:Гранд Мол Варна\, 2 Andrey Saharov Str.\, Varna\, 9000\, Bulgaria
CATEGORIES:12 - 18 г. / тийнове,7 - 12 г. / ученици,безплатно,музика,на закрито
ATTACH;FMTTYPE=image/jpeg:https://orangesea.bg/wp-content/uploads/2018/11/45614072_2420344024648398_4479441145000099840_o.jpg
END:VEVENT
END:VCALENDAR