BEGIN:VCALENDAR
VERSION:2.0
PRODID:-//Оранжево морето - ECPv4.8.2//NONSGML v1.0//EN
CALSCALE:GREGORIAN
METHOD:PUBLISH
X-WR-CALNAME:Оранжево морето
X-ORIGINAL-URL:https://orangesea.bg
X-WR-CALDESC:Events for Оранжево морето
BEGIN:VEVENT
DTSTART;TZID=Europe/Sofia:20181003T193000
DTEND;TZID=Europe/Sofia:20181130T210000
DTSTAMP:20260422T193238
CREATED:20180924T081328Z
LAST-MODIFIED:20180924T081547Z
UID:2274-1538595000-1543611600@orangesea.bg
SUMMARY:Курс по катерене за начинаещи - Варна
DESCRIPTION:Курс по спортно и скално катерене – Варна есен 2018\nНачално обучение \n…изживейте едно приключение сред природата \nСпортен клуб „Чудните скали“ организира новия си есенен курс по спортно и скално катерене към „Българската федерация по катерене и алпинизъм“. Подходящ е за всички любители и начинаещи\, обичащи заниманията на открито и спокойствието сред природата. \nВ програмата си сме предвидили часове теория и практика. Практиката ще се проведе на изкуствената стена в бившия Плувен комплекс „Юрий Гагарин“ и на скали. Ще имате възможност да опитате нещо различно – посещение на интересни пещери и нощувка на палатки и спални чували. \nОсновни теми в курса по катерене са запознаване екипировката\, необходими възли\, техники на осигуряване\, катерене и спускане с въже\, медицинска лекция. Опитен гид ще проведе лекция по планинарство\, ориентиране и бивакуване. В опитът ни да живеем в хармония с природата ще говорим за екология \nНе си мислете\, че всичко свършва дотук. За най – големите ентусиасти сме предвидили специални предизвикателства като нощно катерене\, махало и много адреналин. \nНеобходимата екипировка е осигурена от клуба. Успешно завършилите курса получават сертификат от БФКА. \nНачало: 3 октомври 2018 г. 19:30 ч. Бивш плувен комплекс „Юрий Гагарин“ \nПериод на провеждане: 2 месеца\, до края на месец ноември; \nИнструктор: Аспарух Вълчев\, сертифициран към БФКА\, удостоверение N 4718/20.12.2004 г. (с над 29 проведени курса и множество обучения по катерене); \nТеоретични занимания: два пъти седмично от 19:30 ч.; \nПрактически занимания: един път седмично от 19:30 ч. на стена за катерене\, събота/неделя/ – целодневно на скали\, с възможност за нощувка на палатки/хижа; \nЦена: 250 лв\nСпециални отстъпки за ученици\, студенти и групи! \nМестоположение:\nhttps://www.google.bg/maps/place/Стена+за+катерeне+-+СК+%22Чудните+скали%22/@43.220988\,27.939183\,17z/data=!3m1!4b1!4m2!3m1!1s0x40a453f2f868fcb5:0x892b6266b4df2009 \nЗа въпроси и записване: 0888 888 006\, 0888 667 461 – Аспарух Вълчев; \ne-mail: chudniteskali@abv.bg \n
URL:https://orangesea.bg/event/kurs-po-katerene-za-nachinaeshti-varna/
LOCATION:Стена за катерене Чудните скали\, Стена за катерeне - СК "Чудните скали"\, Varna\, 9010
CATEGORIES:12 - 18 г. / тийнове,7 - 12 г. / ученици,на закрито,на открито,спорт
ATTACH;FMTTYPE=image/jpeg:https://orangesea.bg/wp-content/uploads/2018/09/42473021_10156586937876092_7196895991453188096_n.jpg
END:VEVENT
BEGIN:VEVENT
DTSTART;TZID=Europe/Sofia:20181104T110000
DTEND;TZID=Europe/Sofia:20181104T120000
DTSTAMP:20260422T193238
CREATED:20181028T043538Z
LAST-MODIFIED:20181029T195929Z
UID:2845-1541329200-1541332800@orangesea.bg
SUMMARY:Варненско лято за деца
DESCRIPTION:„Музикалните будители на България“ е музикална приказка\, посветена на Деня на будителите – 1 ноември.\n  \n \nКонцертът е част от съвместната инициатива на Дирекция „Култура и духовно развитие“ при Община Варна и НУИ „Добри Христов“. Серията образователни концерти се провежда с голям успех сред малките жители на морския град вече седма година. Обичайно програмата е ориентирана към най-малките слушатели\, но този път\, заради широкия спектър на темата\, тя ще изкуши и малки\, и големи. Както и в предишните събития\, публиката ще научи интересни музикални истории\, за да се превърне в една добре подготвена\, чувствителна и образована аудитория. \nНай-хубавите композиции от класическата\, народната и естрадната българска музика ще бъдат изпълнени от солисти\, оркестър народни инструменти\, фолклорен танцов състав\, певци. За да бъде пъстро и интересно\, в концерта отново ще се включат малките балетисти и балерини от училището по изкуствата. \n„Апелираме малките и големи зрители да научат или да си припомнят стиховете на песента „Детство мое“\, защото искаме с нея да сложим финал на концерта и очакваме всички да пеем заедно“\, казва Госпожа Виола. Тя обещава\, че ще продължи традицията по време на музикалния спектакъл да има много игри и изненади. \nТекстът можете да откриете във Фейсбук страницата на Международния музикален фестивал „Варненско лято“: https://www.facebook.com/…/a.58610633149…/1469117813191950/… \nМузикалната приказка „Музикалните будители на България“ започва в 11:00 в неделя\, 4 ноември\, ФКЦ\, Зала 1. \n  \n \nВарненско лято за деца\n\nБългарско – модерно и класическо\nМузикалните будители на България\n\nСимфоничен оркестър при НУИ „Д.Христов“- Варна\nДиригент Страцимир Павлов\nВодещ Руми Петрова „госпожа Виола” \nВходът за концерта е свободен и за деца\, и за родители. \nСнимки: Росен Донев. \n \n
URL:https://orangesea.bg/event/varnensko-lyato-za-detsa/
LOCATION:Фестивален и Конгресен Център\, бул. Сливница № 2\, Варна\, 9000\, Bulgaria
CATEGORIES:0 - 3 г. / бебешори,12 - 18 г. / тийнове,3 - 7 г. / дечурлига,7 - 12 г. / ученици,безплатно,бременност и майчинство,култура и изкуство,музика,образователно
ATTACH;FMTTYPE=image/jpeg:https://orangesea.bg/wp-content/uploads/2018/10/19693776_2039418742767475_6887225484360735723_o.jpg
END:VEVENT
BEGIN:VEVENT
DTSTART;TZID=Europe/Sofia:20181104T110000
DTEND;TZID=Europe/Sofia:20181104T180000
DTSTAMP:20260422T193238
CREATED:20181101T061209Z
LAST-MODIFIED:20181101T061209Z
UID:2904-1541329200-1541354400@orangesea.bg
SUMMARY:Коледни вълшебства за Марая
DESCRIPTION:Здравейте\, добри хора! Организираме благотворителен базар в подкрепа на бебе Марая! На финалната права сме\, събрахме 440 000 лева\, остават още само 60 000 лева. Заедно можем да сътворим чудото и малката ни принцеса да оздравее. Сръчни ръчички \, от цялата страна\, създадоха и изпратиха „Коледни вълшебства”. Любезните ни домакини от „Фестивален и конгресен център” – Варна и „Фермерски пазар – Варна” ни предоставиха възможност и място да подредим дарените предмети. От ВАС\, мили приятели\, очакваме да ни посетите\, да дарите средства за СПЕШНАТА ОПЕРАЦИЯ на нашето малко геройче и да си приберете частица любов\, която да топли душите ВИ\, в Коледната нощ и да ВИ напомня\, че имате големи сърца! \nhttps://www.facebook.com/%D0%A4%D0%B5%D1%80%D0%BC%D0%B5%D1%80%D1%81%D0%BA%D0%B8-%D0%9F%D0%B0%D0%B7%D0%B0%D1%80-%D0%92%D0%B0%D1%80%D0%BD%D0%B0-843573432330135/ \nОчакваме ви на 04.11.2018г. на Фермерският пазар\, пред входа на ФКЦ-Варна в часовете между 11:00 и 18:00\nАко имате въпроси можете да позвъните на:\n0896589445 – Евгения Павлова\n0886590661 – Станимира Димитрова\n0882031482 – Нели Петрова \n
URL:https://orangesea.bg/event/koledni-valshebstva-za-maraya/
LOCATION:Фестивален и Конгресен Център\, бул. Сливница № 2\, Варна\, 9000\, Bulgaria
CATEGORIES:0 - 3 г. / бебешори,12 - 18 г. / тийнове,3 - 7 г. / дечурлига,7 - 12 г. / ученици,бременност и майчинство
ATTACH;FMTTYPE=image/jpeg:https://orangesea.bg/wp-content/uploads/2018/11/45060161_2294205157475947_5119359716979376128_o.jpg
END:VEVENT
END:VCALENDAR