BEGIN:VCALENDAR
VERSION:2.0
PRODID:-//Оранжево морето - ECPv4.8.2//NONSGML v1.0//EN
CALSCALE:GREGORIAN
METHOD:PUBLISH
X-WR-CALNAME:Оранжево морето
X-ORIGINAL-URL:https://orangesea.bg
X-WR-CALDESC:Events for Оранжево морето
BEGIN:VEVENT
DTSTART;TZID=Europe/Sofia:20181003T193000
DTEND;TZID=Europe/Sofia:20181130T210000
DTSTAMP:20260422T203750
CREATED:20180924T081328Z
LAST-MODIFIED:20180924T081547Z
UID:2274-1538595000-1543611600@orangesea.bg
SUMMARY:Курс по катерене за начинаещи - Варна
DESCRIPTION:Курс по спортно и скално катерене – Варна есен 2018\nНачално обучение \n…изживейте едно приключение сред природата \nСпортен клуб „Чудните скали“ организира новия си есенен курс по спортно и скално катерене към „Българската федерация по катерене и алпинизъм“. Подходящ е за всички любители и начинаещи\, обичащи заниманията на открито и спокойствието сред природата. \nВ програмата си сме предвидили часове теория и практика. Практиката ще се проведе на изкуствената стена в бившия Плувен комплекс „Юрий Гагарин“ и на скали. Ще имате възможност да опитате нещо различно – посещение на интересни пещери и нощувка на палатки и спални чували. \nОсновни теми в курса по катерене са запознаване екипировката\, необходими възли\, техники на осигуряване\, катерене и спускане с въже\, медицинска лекция. Опитен гид ще проведе лекция по планинарство\, ориентиране и бивакуване. В опитът ни да живеем в хармония с природата ще говорим за екология \nНе си мислете\, че всичко свършва дотук. За най – големите ентусиасти сме предвидили специални предизвикателства като нощно катерене\, махало и много адреналин. \nНеобходимата екипировка е осигурена от клуба. Успешно завършилите курса получават сертификат от БФКА. \nНачало: 3 октомври 2018 г. 19:30 ч. Бивш плувен комплекс „Юрий Гагарин“ \nПериод на провеждане: 2 месеца\, до края на месец ноември; \nИнструктор: Аспарух Вълчев\, сертифициран към БФКА\, удостоверение N 4718/20.12.2004 г. (с над 29 проведени курса и множество обучения по катерене); \nТеоретични занимания: два пъти седмично от 19:30 ч.; \nПрактически занимания: един път седмично от 19:30 ч. на стена за катерене\, събота/неделя/ – целодневно на скали\, с възможност за нощувка на палатки/хижа; \nЦена: 250 лв\nСпециални отстъпки за ученици\, студенти и групи! \nМестоположение:\nhttps://www.google.bg/maps/place/Стена+за+катерeне+-+СК+%22Чудните+скали%22/@43.220988\,27.939183\,17z/data=!3m1!4b1!4m2!3m1!1s0x40a453f2f868fcb5:0x892b6266b4df2009 \nЗа въпроси и записване: 0888 888 006\, 0888 667 461 – Аспарух Вълчев; \ne-mail: chudniteskali@abv.bg \n
URL:https://orangesea.bg/event/kurs-po-katerene-za-nachinaeshti-varna/
LOCATION:Стена за катерене Чудните скали\, Стена за катерeне - СК "Чудните скали"\, Varna\, 9010
CATEGORIES:12 - 18 г. / тийнове,7 - 12 г. / ученици,на закрито,на открито,спорт
ATTACH;FMTTYPE=image/jpeg:https://orangesea.bg/wp-content/uploads/2018/09/42473021_10156586937876092_7196895991453188096_n.jpg
END:VEVENT
BEGIN:VEVENT
DTSTART;TZID=Europe/Sofia:20181020T100000
DTEND;TZID=Europe/Sofia:20181027T160000
DTSTAMP:20260422T203750
CREATED:20181017T172759Z
LAST-MODIFIED:20181017T172759Z
UID:2724-1540029600-1540656000@orangesea.bg
SUMMARY:Космическо шоу за деца
DESCRIPTION:На 20-и\, 21-и и 27-и октомври\, Космическо шоу за деца отново във Варна! На 20.10\, 21.10 и 27.10 от 10 ч.\, 12 ч. и 14 ч. в гр. Варна\, Гранд Мол Варна\, ет. 2 до Хиполенд\, ул. „Академик Андрей Сахаров“ 2 – Един Нов Фестивал на науката за деца!!!\nЗаписването става предварително на телефон: 0885869029\nПоради огромния интерес отново организираме научно мероприятие за деца. В рамките на тези 60 минути\, в които децата ще ни посетят ще преживеят нещо ново и вълнуващо!\nЩура лаборатория и Мобилен Планетариум Астронет ще зарадват всички любознателни дечица!👦👧 \nВсички участници ще имат възможността да наблюдават Научно шоу с течен азот\, ще хапнат вкусна изненада и ще се потопят във вълшебния свят на планетите и звездите.\nМобилната конструкция на Планетариума може да побере до 25 участника едновременно. А филмите\, които децата ще наблюдават се прожектират на 360 градуса и създават усещане за пълно присъствие. Прожекциите са на тема Космос и природа и със сигурност ще впечатлят малките любопитковци. 🐍🌈💡🎉 Всяко дете ще получи НАУЧЕН ПОДАРЪК\, който може да си вземе вкъщи.\nНа нашите забавни занятия ще докажем\, че науката е нещо мноооого интересно!!! \nВижте повече➡Записвайте се на телефони: 0885869029. За въпроси извън записване: 0889946111\nАдрес: гр. Варна\, Гранд Мол Варна\, ет. 2 до Хиполенд\, ул. „Академик Андрей Сахаров“ 2\nТаксата за участие е 15 лв\nСлед нашия уникален урок можете да закупите научни епруветки за домашни експерименти на цена 12 лв. \n
URL:https://orangesea.bg/event/kosmichesko-shou-za-detsa-2/
LOCATION:Гранд Мол Варна\, 2 Andrey Saharov Str.\, Varna\, 9000\, Bulgaria
CATEGORIES:12 - 18 г. / тийнове,7 - 12 г. / ученици,забава и игри,на закрито,образователно
ATTACH;FMTTYPE=image/jpeg:https://orangesea.bg/wp-content/uploads/2018/10/42925526_2083813518600019_581472983432822784_n.jpg
END:VEVENT
BEGIN:VEVENT
DTSTART;TZID=Europe/Sofia:20181027T090000
DTEND;TZID=Europe/Sofia:20181027T170000
DTSTAMP:20260422T203750
CREATED:20181001T140605Z
LAST-MODIFIED:20181005T083517Z
UID:2375-1540630800-1540659600@orangesea.bg
SUMMARY:Академия за родители
DESCRIPTION:Варна отново е домакин на ежегодния семеен форум „Академия за Родители” \nГрижата за детето започва от грижата за себе си – от 9.30 до 17.00ч в съботния ден\, бъдещите родители ще могат да научат от доказани специалисти от София и Варна\, най-важното за здравето на бременната\, храненето в този важен период\, има ли нужда от подготовка за раждането\, какво да очакват от първите дни с бебето\, как да започнат с кърмене\, таткото в тази нова роля\, и още много интересни теми. Настоящите родители ще могат да научат повече за ранното детско развитие\, какво са Монтесори и Валдорф\, и как да ги прилагат у̀дома\, как децата учат чрез преживяване\, най-важното за здравословното хранене иключчът за справяне с детските протести. \nНа разположение на родителите през целия ден на „Академия за родители” в кътовете за консултации ще бъдат представители на различни организации\, от които могат да получат насоки и индивидуални съвети по различни теми – ранно детско развитие\, стимулиране на речта\, здравословно хранене за цялото семейство\, първа помощ при падане и задавяне\, семеен бюджет\, и още много. \nКакто винаги организаторите са помислили и за децата\, за които ще има различни интересни\, развиващи и безплатни детски работилници и забавления. В арт ателие Оранжев слон ще изработват забавни стикери за стъкло\, ще декорират моливници и ще апликират рамки за снимки; в занимални Туки Так ще се забавляват с любими детски игри и логически задачи; ще месят хляб и ще участват в театър на трохите с Хлебни къщи; ще готвят здравословно с Къщата на печките; ще направят първи стъпки в програмирането с Mindhub\, ще свирят на музикални инструменти (да\, и барабани!) с Варна рок скул\, ще опознават космоса с Дино\, ще развихрят въображението си с арт работилницата на Бочко и ще направят собствен комикс Елена Владова. \nПовече информация можете да намерите на сайта на събитието:www.parentacademy.bg \nВходът е безплатен\, но местата са ограничени и се изисква предварителна регистрация тук. \n
URL:https://orangesea.bg/event/parentacademy/
LOCATION:Детски център „Мама и Аз’\, ул. Димитър Икономов 36\, Varna\, 9000\, Bulgaria
CATEGORIES:0 - 3 г. / бебешори,12 - 18 г. / тийнове,3 - 7 г. / дечурлига,7 - 12 г. / ученици,безплатно,бременност и майчинство,забава и игри,кулинарно,култура и изкуство,математика,музика,на закрито,образователно
ATTACH;FMTTYPE=image/jpeg:https://orangesea.bg/wp-content/uploads/2018/10/41500235_2148227962102825_7813159309495238656_o.jpg
END:VEVENT
BEGIN:VEVENT
DTSTART;TZID=Europe/Sofia:20181027T100000
DTEND;TZID=Europe/Sofia:20181028T180000
DTSTAMP:20260422T203750
CREATED:20180929T161852Z
LAST-MODIFIED:20180929T161852Z
UID:2355-1540634400-1540749600@orangesea.bg
SUMMARY:Let's Play Varna
DESCRIPTION:Най-престижното гейминг събитие в България се завръща като този път домакин ще бъде морската столица – гр. Варна. \nПо време на Let’s Play Varna\, който ще се проведе на 27 и 28 Октомври\, любимите игри Fortnite\, PUBG и FIFA 19 ще окупират главната сцена на събитието! Ще можете да участвате на турнири по CS:GO и League of Legends\, както и ще има още много интересни игри и надпревари свързани с Yu-Gi-Oh!\, Pixel art и K-pop! \nВсичко това\, а и още ще продължи цял един уикенд – 27 и 28 Октомври в Зала „Конгресна“ на Дворец на Културата и Спорта във Варна! \nНие от GplayTV Ви очакваме\, за да ИГРАЕМ ЗАЕДНО!\n––––––––––––––––––––––––––––-\nЦена на билети: \nПредварителна продажба\n7лв – 1 ден\n12лв – 2 дни\nПо време на събитието:\n10лв – 1 ден\n15лв – 2 дни \nМожете да купите билети през сайта на Ticket Portal\, както и в мрежата на всички техни партньори.\nhttp://bit.ly/LetsPlayVarna \nСписък с местата от където можете да закупите билети може да намерите тук: http://www.ticketportal.bg/pmiesta.asp\n––––––––––––––––––––––––––––-\nK-POP на Let’s Play Varna\nПовече информация за записванията прочетете тук:\nhttp://gplaytv.bg/2018/k-pop-shte-zavladee-lets-play-varna/\n––––––––––––––––––––––––––––-\nCosplay на Let’s Play Varna\nПовече информация за участие прочетете тук:\nhttp://gplaytv.bg/2018/game-cosplay-lets-play-varna/\n––––––––––––––––––––––––––––-\nГЛАВНА СЦЕНА \nFortnite Kill Race\nПравила: http://bit.ly/fortnitekl\nУчастници: Team Cork\, Team ViksyG\, Team Audif3n\, Team Epiquienesss\nНагради: 1во място – 500 лв. 2ро място – 300 лв.\n3то място – 100 лв. 4то място – 100лв.\n––––––––––––––––––––––––––––-\nИНФОРМАЦИЯ ЗА ТУРНИРИ \nFortnite (Събота и Неделя – 27-28.10)\nПравила: Очаквайте скоро\nЗаписване: На място\nНагради: Подаръци от HP \nLOL 1v1 (Събота 27.10)\nПравила: Очаквайте скоро\nЗаписване: Средата на Октомври\nНагради: 1во място – 300 лв. 2ро място – 150 лв.\n3то място – 50 лв \nCS:GO 1v1 (Неделя 28.10)\nПравила: Очаквайте скоро\nЗаписване: Средата на Октомври\nНагради: 1во място – 300 лв. 2ро място – 150 лв.\n3то място – 50 лв \nFIFA 19 (Събота и Неделя – 27-28.10)\nПравила: Очаквайте скоро\nЗаписване:\nСъбота: Средата на Октомври\nНеделя: Средата на Октомври\nНагради: 1во място – 300 лв. 2ро място – 150 лв.\n3то място – 50 лв \nSTARCRAFT 2 (Събота и Неделя – 27-28.10)\nПравила: Очаквайте скоро\nЗаписване: Средата на Октомври\nНагради: 1во място – 300 лв. 2ро място – 150 лв.\n3то място – 50 лв \nTEKKEN 7 (Събота 27.10)\nПравила: Очаквайте скоро\nЗаписване: Средата на Октомври\nНагради: 1во място – 300 лв. 2ро място – 150 лв.\n3то място – 50 лв \nMORTAL KOMBAT XL (Неделя 28.10)\nПравила: Очаквайте скоро\nЗаписване: Средата на Октомври\nНагради: 1во място – 300 лв. 2ро място – 150 лв.\n3то място – 50 лв\n––––––––––––––––––––––––––––- \n
URL:https://orangesea.bg/event/lets-play-varna/
LOCATION:Дворец на Културата и Спорта\, 115 бул. Княз Борис I\, Варна\, 9000\, Bulgaria
CATEGORIES:12 - 18 г. / тийнове,7 - 12 г. / ученици,забава и игри,на закрито
ATTACH;FMTTYPE=image/jpeg:https://orangesea.bg/wp-content/uploads/2018/09/40823373_925141211007970_1578281661009756160_o.jpg
END:VEVENT
BEGIN:VEVENT
DTSTART;TZID=Europe/Sofia:20181027T103000
DTEND;TZID=Europe/Sofia:20181031T210000
DTSTAMP:20260422T203750
CREATED:20181005T130000Z
LAST-MODIFIED:20181008T140831Z
UID:2521-1540636200-1541019600@orangesea.bg
SUMMARY:Градски Хелоуин парад
DESCRIPTION:Градски Хелоуин парад – Варна 2018\n\n\n10:30 – 14:00 | 27 и 28 октомври\, централно фоайе – Работилница за Хелоуин аксесоари\n18:00 часа | 31 октомври\, централно фоайе – начало на Градски Хелоуин парад 2018 \nТрадиционният – най-забавен и щедър Градски Хелоуин парад\, отново ще събере в търговско-развлекателния център на Мол Варна ЕАД малки и големи почитатели на хоръра. На 31 октомври централното фоайе ще гъмжи от вампири и зомбита\, феи и принцеси\, приказни и филмови герои\, които ще дефилират в празничното шествие. То ще започне точно в 18:00 часа под ръководството на „главните вампири“ – актьори от Кукления театър във Варна. Парадът е за всички фенове на Хелоуин\, без ограничение на възрастта и персонажите\, в които са се превъплътили.\n\nКакто всяка година\, организаторите са подготвили за празника атрактивна програма. Специално за Хелоуин в търговския център ще отвори врати Училището за магьосници на Доктор Джакел. Той не е обикновен фокусник\, а загадъчен и забавен вълшебник\, който ще омагьоса децата с изкуството на илюзията. Заедно с него участниците в парада ще търсят изгубени предмети\, намерени чужди вещи и ще разкриват сложни хелоуински загадки.\n\nПо традиция търговските обекти в центъра ще обсипят участниците в парада с много изненади и награди. Те ще бъдат раздадени в конкурсите за най-страховит костюм\, най-добре изработен фенер от тиква\, най-млад участник и много други категории. На 27 и 28 октомври ще отвори врати и предпразнична Работилница за Хелоуин аксесоари. В нея децата и гостите на комплекса ще могат да си измайсторят маска или впечатляващ аксесоар за празника с помощта на вещи специалисти по хорър стайлинг.\n \nНепосредствено преди парада – от 14 до 18 часа на 31 октомври\, в централното фоайе на търговския център талантливите студенти по мода и моден мениджмънт от ВСУ „Черноризец Храбър“ и ученици от Професионалната гимназия по текстил и моден дизайн ще гримират безплатно всички кандидати да се включат в карнавалното дефиле. \nИ тази година Мол Варна ЕАД ще организира онлайн конкурс за най-атрактивна снимка на участниците в Градския Хелоуин парад. Снимките на всички желаещи ще бъдат представени в специален албум във Фейсбук страницата на търговско-развлекателния център от 2 до 8 ноември. Първите 3 снимки\, събрали най-много харесвания\, ще спечелят атрактивни награди. \n\n
URL:https://orangesea.bg/event/2521/
LOCATION:Мол Варна ЕАД\, Бул. Владислав Варненчик 186\, Варна\, 9009
CATEGORIES:0 - 3 г. / бебешори,12 - 18 г. / тийнове,3 - 7 г. / дечурлига,7 - 12 г. / ученици,безплатно,бременност и майчинство,на закрито
ATTACH;FMTTYPE=image/jpeg:https://orangesea.bg/wp-content/uploads/2018/10/04bec646a9e7d692d755015a7c5a43e3.jpg
END:VEVENT
BEGIN:VEVENT
DTSTART;TZID=Europe/Sofia:20181027T170000
DTEND;TZID=Europe/Sofia:20181027T180000
DTSTAMP:20260422T203750
CREATED:20181024T053504Z
LAST-MODIFIED:20181024T053504Z
UID:2793-1540659600-1540663200@orangesea.bg
SUMMARY:Работилница за Свещи От Пчелен Восък
DESCRIPTION:Дата :\n27.10 от 17:00 ⏳ \nМясто:\n“Genius House”- Дом на въображението. Намира се на Крали Марко 1\, Варна. 🏠 \nЗа събитието :\nПо време на работилницата ще се научите как да изработите свещ от пчелен восък и да я декорирате по свой начин. \n-Ще пробудим креативността и артистичността си!\n-Ще се насладим на прекрасната атмосфера в Genius House\, Варна.\n-Ще пием топъл чай с Мед.\n-Ще се вплетем в магията на изкуството. \nЦената за събитието е 10лв. \nЗаплащането се извършва на място.\nПрепоръчително е предварително записване. \nВключени са:\n– всички необходими материали за изработката на свещта (която после остава за вас) 🤗\n-Разнообразни чайове (които ще може да дегустирате по време на събитието) ☕\n– Мед от Honey & Healthy 🍯 \n
URL:https://orangesea.bg/event/rabotilnitsa-za-sveshti-ot-pchelen-vosak/
LOCATION:Дом на въображението\, ул. Крали Марко 1\, Варна\, 9000\, Bulgaria
CATEGORIES:12 - 18 г. / тийнове,7 - 12 г. / ученици,култура и изкуство,на закрито
ATTACH;FMTTYPE=image/jpeg:https://orangesea.bg/wp-content/uploads/2018/10/44279837_2068401270138765_6156127894104965120_o.jpg
END:VEVENT
END:VCALENDAR