BEGIN:VCALENDAR
VERSION:2.0
PRODID:-//Оранжево морето - ECPv4.8.2//NONSGML v1.0//EN
CALSCALE:GREGORIAN
METHOD:PUBLISH
X-WR-CALNAME:Оранжево морето
X-ORIGINAL-URL:https://orangesea.bg
X-WR-CALDESC:Events for Оранжево морето
BEGIN:VEVENT
DTSTART;TZID=Europe/Sofia:20180923T110000
DTEND;TZID=Europe/Sofia:20181021T170000
DTSTAMP:20260422T203530
CREATED:20180917T050702Z
LAST-MODIFIED:20180917T050718Z
UID:2203-1537700400-1540141200@orangesea.bg
SUMMARY:Фотографски курс за деца от 8 до 14г.
DESCRIPTION:Започва новата учебна година. И ето че Photo Class стартира!!! Имаме вече дата на нашия първи курс и с голямо нетърпение очакваме нашите първи любознателни курсисти. 🙂\nПървата ни група започва на 23.09. (неделя) от 11ч. Обучението ще се провежда в групи от 8 деца и е разпределено в 10 учебни часа\, в рамките на 5 седмици. Занятията ще се провеждат всяка неделя\, като сме предвидили четири групи – от 11:00ч\, 13:00ч\, 15:00ч. и 17:00ч. Групата от 11:00 е вече попълнена и записваме за групите от 13:00 и 15:00ч. \nЩе има теоретична и практическа част. \nВашите деца ще научат:\n📸 основни настройки на фотоапарата и как да работят с него;\n📸 композиция и правилно структуриране на кадрирането;\n📸 жанрове във фотографията;\n📸 работа със светлина – естествена и изкуствена; \nЗанятията ще се провеждат в студио с адрес ул. „Юрдан Тодоров“ 5.\nРедовна цена на курса – 100 лв. През следващата седмица можете да се възползвате от -50% отстъпка! За всички записали се до 17.09.2018г. цената на курса ще бъде 50 лв.\nПри запълване на групата от 11ч. имаме готовност да стартираме записването за втора група от 13ч. \nЗа повече информация и записване чрез съобщение в страницата\, както и на следните телефони:\n📞 0885 10 90 10 – Христо Ташев (мобилен и Viber)\n📞 0897 410 880 – Олга Ташева \n
URL:https://orangesea.bg/event/fotografski-kurs/
LOCATION:Photo Class\, ул. "Юрдан Тодоров" 5\, Варна\, 9020\, Bulgaria
CATEGORIES:12 - 18 г. / тийнове,7 - 12 г. / ученици,култура и изкуство,на закрито,образователно
ATTACH;FMTTYPE=image/jpeg:https://orangesea.bg/wp-content/uploads/2018/09/41465006_2393104060947125_3723843762116362240_n.jpg
END:VEVENT
BEGIN:VEVENT
DTSTART;TZID=Europe/Sofia:20180928T140000
DTEND;TZID=Europe/Sofia:20181007T230000
DTSTAMP:20260422T203530
CREATED:20180927T130832Z
LAST-MODIFIED:20180927T131241Z
UID:2313-1538143200-1538953200@orangesea.bg
SUMMARY:Varna Oktoberfest 2018
DESCRIPTION:– Над 30 павилиона (и съоръжения) с българска и чуждестранна кухня (немска кухня с вурстове\, бретцели\, американски стекове\, японска\, индийска кухня и др.)\, напитки и забавления;\n– Над 500 вида бира от цял свят (1 000 литра ще раздадем безплатно);\n– Спортна арена за ежедневни състезания с награди;\n– Лунапарк с много забавления за малки и големи;\n– Благотворителен мач между „Отбора на сърцето“ и ветераните на ПФК Спартак (Варна) в подкрепа на избрана от нас кауза;\n– Сцена\, на която ще се състоят различни концерти (група Down Low\, „Бараби Блус Бенд“ заедно с Буги Барабата\, Лео и Играта\, Монти и Петя Алекса\, Севи\, Стоян Роянов (Я-я) от La Migra)\, Echoo-Balkan Samba\, Action & Fire\, DJ Mitakis. \nОчакваме Ви в събота и неделя от 10:00 до 23:00\, делничните дни от 14:00 до 22:00 ч. \n \nОставете колата вкъщи!\n🗓️ Разписание на безплатния автобус до Varna Oktoberfest (парк Аспарухово) всеки ден от 28.09. до 07.10.: \n🚩От Катедрала към Oktoberfest: 20:00ч. и 22:00ч.\n🚩От Oktoferfest към Катедралата: 21:00ч. и 23:00ч. \nОчакваме ви! 🍻\n//P.s. Спирката на Катедралата – срещу Козирката\, до подлеза – посока Аспарухово.// \nНа 2-ри октомври концерт на група Echoo във Варна като част от Varna Oktoberfest. Ако харесвате нестандартната музика търсите нещо ново нещо различно нещо балканско: ) това е вашата вечер. Групата има нестандартна концепция за звук и визия. В състав: Николай Николов гъдулка\, Никифор Апостолов вокали и мегафони и специални ефекти\, Мариян Живков барабани и Борислав Ангелков нестандартна 6 струнна бас китара\, бандата ще предложи 90 минутна програма в уникален стил Балкан Самба. \n \n
URL:https://orangesea.bg/event/varna-oktoberfest-2018/
LOCATION:Парк в квартал Аспарухово\, Парк в квартал Аспарухово\, Варна
CATEGORIES:12 - 18 г. / тийнове,кулинарно,музика,на открито
ATTACH;FMTTYPE=image/jpeg:https://orangesea.bg/wp-content/uploads/2018/09/octoberfest-stoqn-pr-2-758x494.jpg
END:VEVENT
BEGIN:VEVENT
DTSTART;TZID=Europe/Sofia:20181003T193000
DTEND;TZID=Europe/Sofia:20181130T210000
DTSTAMP:20260422T203530
CREATED:20180924T081328Z
LAST-MODIFIED:20180924T081547Z
UID:2274-1538595000-1543611600@orangesea.bg
SUMMARY:Курс по катерене за начинаещи - Варна
DESCRIPTION:Курс по спортно и скално катерене – Варна есен 2018\nНачално обучение \n…изживейте едно приключение сред природата \nСпортен клуб „Чудните скали“ организира новия си есенен курс по спортно и скално катерене към „Българската федерация по катерене и алпинизъм“. Подходящ е за всички любители и начинаещи\, обичащи заниманията на открито и спокойствието сред природата. \nВ програмата си сме предвидили часове теория и практика. Практиката ще се проведе на изкуствената стена в бившия Плувен комплекс „Юрий Гагарин“ и на скали. Ще имате възможност да опитате нещо различно – посещение на интересни пещери и нощувка на палатки и спални чували. \nОсновни теми в курса по катерене са запознаване екипировката\, необходими възли\, техники на осигуряване\, катерене и спускане с въже\, медицинска лекция. Опитен гид ще проведе лекция по планинарство\, ориентиране и бивакуване. В опитът ни да живеем в хармония с природата ще говорим за екология \nНе си мислете\, че всичко свършва дотук. За най – големите ентусиасти сме предвидили специални предизвикателства като нощно катерене\, махало и много адреналин. \nНеобходимата екипировка е осигурена от клуба. Успешно завършилите курса получават сертификат от БФКА. \nНачало: 3 октомври 2018 г. 19:30 ч. Бивш плувен комплекс „Юрий Гагарин“ \nПериод на провеждане: 2 месеца\, до края на месец ноември; \nИнструктор: Аспарух Вълчев\, сертифициран към БФКА\, удостоверение N 4718/20.12.2004 г. (с над 29 проведени курса и множество обучения по катерене); \nТеоретични занимания: два пъти седмично от 19:30 ч.; \nПрактически занимания: един път седмично от 19:30 ч. на стена за катерене\, събота/неделя/ – целодневно на скали\, с възможност за нощувка на палатки/хижа; \nЦена: 250 лв\nСпециални отстъпки за ученици\, студенти и групи! \nМестоположение:\nhttps://www.google.bg/maps/place/Стена+за+катерeне+-+СК+%22Чудните+скали%22/@43.220988\,27.939183\,17z/data=!3m1!4b1!4m2!3m1!1s0x40a453f2f868fcb5:0x892b6266b4df2009 \nЗа въпроси и записване: 0888 888 006\, 0888 667 461 – Аспарух Вълчев; \ne-mail: chudniteskali@abv.bg \n
URL:https://orangesea.bg/event/kurs-po-katerene-za-nachinaeshti-varna/
LOCATION:Стена за катерене Чудните скали\, Стена за катерeне - СК "Чудните скали"\, Varna\, 9010
CATEGORIES:12 - 18 г. / тийнове,7 - 12 г. / ученици,на закрито,на открито,спорт
ATTACH;FMTTYPE=image/jpeg:https://orangesea.bg/wp-content/uploads/2018/09/42473021_10156586937876092_7196895991453188096_n.jpg
END:VEVENT
BEGIN:VEVENT
DTSTART;TZID=Europe/Sofia:20181005T080000
DTEND;TZID=Europe/Sofia:20181026T170000
DTSTAMP:20260422T203530
CREATED:20181005T061305Z
LAST-MODIFIED:20181005T061324Z
UID:2470-1538726400-1540573200@orangesea.bg
SUMMARY:Най-усмихнат клас на България 2018
DESCRIPTION:Най-усмихнат клас на България 2018 \nКажи отново ДА на усмивката в училище и участвай в най-големия конкурс за усмивки в страната! Покажи на всички уважението\, сплотеността и подкрепата в твоят клас и просто се забавлявай! Защото усмивката прави силата!\nРегистрация до 31. Октомври 2018\nИзпратете Вашите снимки на: usmivka2018@sdrujenieusmivka.org \nВсички снимки участващи в конкурса ще бъдат публикувани на страницата на конкурса\nwww.usmivka2018.org \nГласувайте за Вашия любим най-усмихнат клас от 01. Ноември 2018 до 01. Декември 2018 на страницата на конкурса! Поканете и Ваши близки и приятели да гласуват и да Ви подкрепят! \nВсички деца\, участвали в конкурса получават е-Грамота от Сдружение „Усмивка“ и Община Бургас. Всички учители\, участвали в конкурса получават е-Сертификат от Сдружение „Усмивка“ и Община Бургас.\n\nПобедителите ще бъдат наградени както всяка година в официална церемония на 07.12.2018 в Община Бургас и с регионално и национално медийно участие. \n
URL:https://orangesea.bg/event/nay-usmihnat-klas/
LOCATION:Сдружение Усмивка
CATEGORIES:12 - 18 г. / тийнове,7 - 12 г. / ученици,безплатно
ATTACH;FMTTYPE=image/jpeg:https://orangesea.bg/wp-content/uploads/2018/10/42920488_2023887967631490_612696931818274816_o.jpg
END:VEVENT
BEGIN:VEVENT
DTSTART;TZID=Europe/Sofia:20181006T100000
DTEND;TZID=Europe/Sofia:20181007T180000
DTSTAMP:20260422T203530
CREATED:20180925T083731Z
LAST-MODIFIED:20180925T084001Z
UID:2285-1538820000-1538935200@orangesea.bg
SUMMARY:Фестивал на Здравето "Здравей Здраве"
DESCRIPTION:ТРЕТИ ФЕСТИВАЛ „ЗДРАВЕЙ ЗДРАВЕ“ ВАРНА 2018\n*******************ВХОД СВОБОДЕН*********************** \nСЪБОТА ЛЕКЦИИ\n********************** \n10:15 – 10:50 Накъде вървим и какво да правим\nВеселин Орешков\n11:00 – 11:50 Психобиологично декодиране на болестите тотална биология\nМанол Смуков\n12:00- 12:50 Какво се премълчава за храненето и здравето\nВалентин Грандев\n13:00 – 13:50 Митове в здравословното хранене\nД-р Таня Грандева\n14:00 – 14:50 Оздравителна Система за самовъзстановяване Норбеков\nСтанислав Новков\n15:00 – 15:50 Групова терапия\, чрез метода Приказкотерапия\nИлияна Мавродиева\n16:00 – 16:50 Привързаността: като стълб\, опора и основа на детето\nМилена Велинова\n17:00 – 17:50 Универсалният Терапевт – Революцията в ТЕС\nИван Петърнишки \nСЪБОТА ПРАКТИКИ\n************************* \n10:15-11:10 Йога практика за тонус и хармония – Андрей Каменов\n11:20-12:20 Капоейра\n12:30-13:30 Другата гледна точка с Боуен терапия\nд-р Теодора Грънчарска и Дияна Иванова\n13:40-14:40 Практично представяне на физиотерапевтични процедури Богомил Джеджев\n14:50-15:50 Йога за деца\nАни Желязкова\n16:00-17:00 Сакрална Архитектура на Тялото\nАнета Бонева\n17:10-18:10 Пилатес \nНЕДЕЛЯ ЛЕКЦИИ\n********************** \n10:00 – 11:00 Да си поговорим за Хомеопатия\nд-р Иван Джеджев\n11:10 – 12:00 Живот и здраве без лекарства\nНикифор Минков\n12:10- 13:30 Ефектът на Логотерапията върху психичното здраве – случаи от практиката\nд-р Клаус Гщирнер\n13:40 – 14:30 Кранио-сакрална терапия\nНаталия Бегачева\n14:40 – 15:30 Силата на седемте изкуства\nМагдалена Пюскюлева\n15:40 – 16:30 Връзката между чакри\, планети и здраве\nВеселина Стойчева\n16:40 – 17:30 Пътят на Иглотерапия\nд-р Валери Шакола \nНЕДЕЛЯ ПРАКТИКИ\n************************* \n08:00-08:45 Упражнения за Духа и Тялото от Учителя\nД-р Иван Джеджев /кривото дърво – Морска Градина/\n08:45-09:45 Паневритмия\nД-р Иван Джеджев /кривото дърво – Морска Градина/ \n10:00-11:00 КиндиРу\nДаниела Колева\n11:10-12:10 Звукотерапия\nТаня Божидарова\n12:20-13:20 Да общуваме чрез ритъм\, говор\, движение и музика\nВесела Люпке\n13:30-14:30 Хатха йога за освобождаване блокажите на чакрите\nВеселина Стойчева\n14:40-15:40 Бебеносенето – свободни ръце \, щастливо бебе – Яна Тодорова\n15:50-16:50 Без Болки – Борислав Петърнишки и Иван Петърнишки\n17:00-18:00 Стречингът и ползите от него&Стречинг Клас – Васил Тепеделенев \n* Организаторът си запазва правото да прави промени в програмата.\nВХОД СВОБОДЕН! \n
URL:https://orangesea.bg/event/festival-na-zdraveto-zdravey-zdrave/
LOCATION:х-л Черно море\, бул. Сливница 33\, Варна\, Bulgaria
CATEGORIES:12 - 18 г. / тийнове,7 - 12 г. / ученици,безплатно,бременност и майчинство,кулинарно,на закрито,образователно
ATTACH;FMTTYPE=image/jpeg:https://orangesea.bg/wp-content/uploads/2018/09/41965132_1823282211102402_2913913921951760384_o.jpg
END:VEVENT
BEGIN:VEVENT
DTSTART;TZID=Europe/Sofia:20181006T120000
DTEND;TZID=Europe/Sofia:20181006T140000
DTSTAMP:20260422T203530
CREATED:20181001T133147Z
LAST-MODIFIED:20181001T133208Z
UID:2370-1538827200-1538834400@orangesea.bg
SUMMARY:Работилница за Билкови Бомби за Баня
DESCRIPTION:От работилница ВИВ\nще научим дацата ви как да смесите естествени продукти така\, че да получите АРОМАТНИТЕ БОМБИ\, които експлоадират във вода. От кипящите балончета \, дори\, може да се появи вашето лично послание.\nКакво ще получите:\n– 9 бр. ароматни бомби по ваша рецепта– 35 гр;\n– 1 бр. Ароматна бомба във форма на сърце с вградено лично послание;\n– Полезни знания за натуралните съставки\, от които ще сътворите бомбичките;\n– Много минути\, изпълнени със смях и забавления \nСпециална цена за гостите на Фермерски пазар – 10 лв.\nВреметраене 90 мин. \nКакво е „Билкова бомба за баня“\nБилковите бомби за баня представляват бълбукащи соли\, ухаят страхотно\, цветни и интересни\, направени единствено от естествени продукти и билки. Едно прекрасно забавление за сетивата и кожата\, в което може да се потопите по специална ваша рецепта.\nТези бомбички превръщат водата в извор на радост и здраве. \nКак се ползват „Билковите бомби за баня“:\nНастанете се удобно. Поставете бомбата във дълбок съд с топла водата. Наследете се на прекрасните балончета\, които ще се появят на повърхността. Потопете тялото или краката си във водата. Вдишайте дълбоко и се насладете на живия аромат\, докато потъвате в газирано- хидратиращата смес. Сътворена от натурални съставки и масла\, бомбата за баня е създадена да Ви поглези. Тя пречиства сетивата и ума Ви. Детоксикира тялото Ви. Обогатява\, хидратира и омекотява кожата Ви. Чудесен помощник за справяне със първите симптоми на настинка и грип. \n
URL:https://orangesea.bg/event/bilkovi-bombi/
LOCATION:Мол Варна ЕАД\, Бул. Владислав Варненчик 186\, Варна\, 9009
CATEGORIES:12 - 18 г. / тийнове,7 - 12 г. / ученици,забава и игри,на закрито
ATTACH;FMTTYPE=image/jpeg:https://orangesea.bg/wp-content/uploads/2018/10/32095432_1191100161032971_2582105605023989760_o.jpg
END:VEVENT
BEGIN:VEVENT
DTSTART;TZID=UTC+2:20181006T193000
DTEND;TZID=UTC+2:20181006T210000
DTSTAMP:20260422T203530
CREATED:20180721T113101Z
LAST-MODIFIED:20180721T113101Z
UID:1763-1538854200-1538859600@orangesea.bg
SUMMARY:Вълшебствата на Зайн
DESCRIPTION:Вълшебствата на Зайн е магичен спектакъл като никой друг.\nПодготвян повече от 7 години “Вълшебствата на Зайн“ ще Ви заплени и изпрати в свят\, в който физичните закони отстъпват място на въображението и безсилни да разгадаете ефектите\, които се случват на сцената\, Вие ще се оставите да бъдете запленени от Магията и върнати обратно в детството. Свят\, в който момичета плуват във въздуха\, хора се разрязват на две и се възстановяват с щракването на пръсти\, храсти разцъфват с рози само от повея на ветрило и ако се вслушате достатъчно силно ще можете да чуете мислите на човека до вас. \n \nВ своя спектакъл Зайн обединява невиждани досега в България гигантски\, шеметни илюзии и загадъчен ментализъм\, с който ще надникне директно във Вашето лично съзнание. Вълшебствата на Зайн е един пир за сетивата и стимул за ума на малки и големи. В продължение на час и половина ще видите над 30 зашеметяващи илюзии\, което слага Вълшебствата на Зайн начело на всички балкански илюзионни спектакли като най-мащабният\, правен досега от единствен илюзионист. \nСпектакълът на се препоръчва за деца под 6 годишна възраст! \nПървите 100 билета са с -10% отстъпка от редовната цена! \n
URL:https://orangesea.bg/event/valshebstvata-na-zayn/
LOCATION:Фестивален и Конгресен Център\, бул. Сливница № 2\, Варна\, 9000\, Bulgaria
CATEGORIES:12 - 18 г. / тийнове,7 - 12 г. / ученици,кино и театър,на закрито
ATTACH;FMTTYPE=image/jpeg:https://orangesea.bg/wp-content/uploads/2018/07/36831846_2124370230924312_3024539716717379584_n.jpg
END:VEVENT
BEGIN:VEVENT
DTSTART;TZID=UTC+2:20181006T193000
DTEND;TZID=UTC+2:20181006T220000
DTSTAMP:20260422T203530
CREATED:20180726T040159Z
LAST-MODIFIED:20180726T040159Z
UID:1866-1538854200-1538863200@orangesea.bg
SUMMARY:НОЩ НА АНСАМБЛИТЕ
DESCRIPTION:\n„НОЩ НА АНСАМБЛИТЕ“ С НОВО ИЗДАНИЕ ПРЕЗ 2018-ТА \nСлед огромния успех на „Нощ на ансамблите“ 3 в София\, Пловдив и Варна през ноември 2017г. с радост Ви съобщаваме\, че предстои ново издание на спектакъла във Варна на 6 Октомври 2018г.\nСъбитието през 2017г. се радва на изключителен интерес от българската публика и спектаклите през ноември бяха разпродадени. В продажба бяха пуснати билети за извънредно издание на спектакъла на 2 май 2018 година в Зала 1 на НДК.\nСега с радост Ви съобщаваме\, че предстои НОВО издание в Дворец на културата и спорта – Варна на 6 октомври 2018г. \nТрите най – големи български фолклорни състава – емблеми в музикалното и танцовото ни изкуство – ансамбъл „Филип Кутев“\, „Тракия“ и „Пирин“\, ще стъпят на сцената на зала Конгресна отново\, за да премерят сили в „Нощ на ансамблите“ 2018. Събитието е единствено по рода си\, което на една сцена събира повече от 150 души в ритъма на истинска българска народна музика. Участниците ще сменят различни костюми от всички фолклорни области на България и ще излизат на сцената в няколко поредни надигравания. Зашеметяващото шоу на едни от най-добрите танцьори\, певци и инструменталисти в България ще завладее варненци с красотата\, динамиката и колорита на народния фолклор. \n\n
URL:https://orangesea.bg/event/nosht-na-ansamblite-2/
LOCATION:Дворец на Културата и Спорта\, 115 бул. Княз Борис I\, Варна\, 9000\, Bulgaria
CATEGORIES:12 - 18 г. / тийнове,3 - 7 г. / дечурлига,7 - 12 г. / ученици,бременност и майчинство,забава и игри,кино и театър,култура и изкуство,музика,на закрито
ATTACH;FMTTYPE=image/jpeg:https://orangesea.bg/wp-content/uploads/2018/07/27023961_1665900196830525_549366888161517862_o-1.jpg
END:VEVENT
BEGIN:VEVENT
DTSTART;TZID=Europe/Sofia:20181006T193000
DTEND;TZID=Europe/Sofia:20181006T210000
DTSTAMP:20260422T203530
CREATED:20181001T164953Z
LAST-MODIFIED:20181001T165011Z
UID:2382-1538854200-1538859600@orangesea.bg
SUMMARY:Сън в лятна нощ - благотворителен спектакъл
DESCRIPTION:Спектакъл „Сън в лятна нощ“ по комедийната пиеса на Уилям Шекспир\, постановка Таня Гунчева. \nС помощта на Асоциация „Да съхраним жената“\, децата с проблеми в аутистичния спектър скоро ще имат свой център. Младите актьори на Арт център „Арлекин“ ще се включат в кампанията и ще предоставят всички събрани средства от спектакъла “ Сън в лятна нощ“ за създаване на дневен център за деца с разтройства в аутистичния спектър. \n
URL:https://orangesea.bg/event/blagotvoritelen-spektakal/
LOCATION:Младежки дом „Орбита“\, бул. Цар Освободител 27\, Varna\, 9000\, Bulgaria
CATEGORIES:12 - 18 г. / тийнове,7 - 12 г. / ученици,кино и театър,култура и изкуство,музика,на закрито
ATTACH;FMTTYPE=image/jpeg:https://orangesea.bg/wp-content/uploads/2018/10/42724823_2215586955149154_6918487114585735168_o.jpg
END:VEVENT
END:VCALENDAR