BEGIN:VCALENDAR
VERSION:2.0
PRODID:-//Оранжево морето - ECPv4.8.2//NONSGML v1.0//EN
CALSCALE:GREGORIAN
METHOD:PUBLISH
X-WR-CALNAME:Оранжево морето
X-ORIGINAL-URL:https://orangesea.bg
X-WR-CALDESC:Events for Оранжево морето
BEGIN:VEVENT
DTSTART;TZID=Europe/Sofia:20180914T100000
DTEND;TZID=Europe/Sofia:20181003T160000
DTSTAMP:20260422T214649
CREATED:20180916T145808Z
LAST-MODIFIED:20180916T154118Z
UID:2196-1536919200-1538582400@orangesea.bg
SUMMARY:Засади в квартала
DESCRIPTION:„Засади в квартала“ стартира на 14 септември \nАсоциация БИО мрежа / BIO net кани жителите на Варна да се включат в облагородяването на градски градинки. \nГрафикът\, по който ще се извършва засаждането на градинките е следният:\n14.09 – Ще бъде облагороден входът на ОУ „Стоян Михайловски“ в кв. „Кайсиева градина“\n14.09 – ще бъдат направени насаждения до детската ясла в бл. 210 в кв „Кайсиева градина“\n22.09 събота – ще се работи в двора на читалище „Варненски будители“ на бул. „Сливница“ 46\n22.09 събота – в кв. Аспарухово ще бъде оформена градинка пред храм „Свети Цар Борис-Михаил“\n27.09 четвъртък – ще бъдат засадени кашпи над подлеза „Шипка“\n29.09 – ще се работи в парк „Елин Пелин“ ( между ул. „Фантазия“ и ул. „Младежка“)\n29.09 – Парк „Елин Пелин“ – над ул. „Младежка“\n3.10 – ще бъдат направени нови насаждения в градинката между ул. „Цани Гинчев“ и ул. „Любен Каравелов“\n*Местата са избрани със съдействието на районните кметства на община Варна\nАсоциация „Биомрежа“ осигурява всички насаждения\, инструменти и специалисти\, необходими за правилното извършване на дейностите по проекта. Канят се всички\, които имат отношение към здравословната и красива градска среда да вземат участие в облагородяването на запустелите терени на посочените дати.\nПроектът се реализира с финансовата подкрепа на Община Варна – Програма „Младежки проекти 2018“ \n
URL:https://orangesea.bg/event/zasadi-v-kvartala/
CATEGORIES:12 - 18 г. / тийнове,3 - 7 г. / дечурлига,7 - 12 г. / ученици,безплатно,на открито,спорт
ATTACH;FMTTYPE=image/jpeg:https://orangesea.bg/wp-content/uploads/2018/09/40881101_2176773459228288_6613269855015534592_o.jpg
END:VEVENT
BEGIN:VEVENT
DTSTART;TZID=Europe/Sofia:20180923T110000
DTEND;TZID=Europe/Sofia:20181021T170000
DTSTAMP:20260422T214649
CREATED:20180917T050702Z
LAST-MODIFIED:20180917T050718Z
UID:2203-1537700400-1540141200@orangesea.bg
SUMMARY:Фотографски курс за деца от 8 до 14г.
DESCRIPTION:Започва новата учебна година. И ето че Photo Class стартира!!! Имаме вече дата на нашия първи курс и с голямо нетърпение очакваме нашите първи любознателни курсисти. 🙂\nПървата ни група започва на 23.09. (неделя) от 11ч. Обучението ще се провежда в групи от 8 деца и е разпределено в 10 учебни часа\, в рамките на 5 седмици. Занятията ще се провеждат всяка неделя\, като сме предвидили четири групи – от 11:00ч\, 13:00ч\, 15:00ч. и 17:00ч. Групата от 11:00 е вече попълнена и записваме за групите от 13:00 и 15:00ч. \nЩе има теоретична и практическа част. \nВашите деца ще научат:\n📸 основни настройки на фотоапарата и как да работят с него;\n📸 композиция и правилно структуриране на кадрирането;\n📸 жанрове във фотографията;\n📸 работа със светлина – естествена и изкуствена; \nЗанятията ще се провеждат в студио с адрес ул. „Юрдан Тодоров“ 5.\nРедовна цена на курса – 100 лв. През следващата седмица можете да се възползвате от -50% отстъпка! За всички записали се до 17.09.2018г. цената на курса ще бъде 50 лв.\nПри запълване на групата от 11ч. имаме готовност да стартираме записването за втора група от 13ч. \nЗа повече информация и записване чрез съобщение в страницата\, както и на следните телефони:\n📞 0885 10 90 10 – Христо Ташев (мобилен и Viber)\n📞 0897 410 880 – Олга Ташева \n
URL:https://orangesea.bg/event/fotografski-kurs/
LOCATION:Photo Class\, ул. "Юрдан Тодоров" 5\, Варна\, 9020\, Bulgaria
CATEGORIES:12 - 18 г. / тийнове,7 - 12 г. / ученици,култура и изкуство,на закрито,образователно
ATTACH;FMTTYPE=image/jpeg:https://orangesea.bg/wp-content/uploads/2018/09/41465006_2393104060947125_3723843762116362240_n.jpg
END:VEVENT
BEGIN:VEVENT
DTSTART;TZID=UTC+2:20180924T100000
DTEND;TZID=UTC+2:20180930T170000
DTSTAMP:20260422T214649
CREATED:20180718T185852Z
LAST-MODIFIED:20180718T185852Z
UID:1694-1537783200-1538326800@orangesea.bg
SUMMARY:Световен шампионат по пожароприложен спорт за юноши и девойки
DESCRIPTION:От 24-ти до 30-ти септември 2018 г. в гр. Варна\, под егидата на Международната спортна федерация на пожарникарите и спасителите\, ще се проведат VIII Световното първенство за юношески и ІV Световното първенство за девойки по пожароприложен спорт. \nКаним младежки отбори да вземат участие в предстоящия Световен шампионат и ще се радваме да видим фенове от цял свят! \nУчастието в такива мащабни състезания дава отлична възможност на младите спортисти да демонстрират своите умения\, професионализъм и воля за победа. \nОрганизатори: Международната спортна федерация на пожарникарите и спасителите\, Главна дирекция „Пожарна безопасност и защита на населението“ – МВР\, Българска федерация за пожароприложен спорт. \nОфициална интернет страница на събитието: http://interfiresport.com/en/activity/viii-chempionat-mira-sredi-yunoshey-i-yuniorov-i-iv-chempionat-mira-sredi-devushek-i-yuniorok/ \nFrom 24-30 September\, 2018 in the city of Varna (Republic of Bulgaria)\, under the auspices of the International Sport Federation of Firefighters and Rescuers\, the VIII World young man and juniors Championships and the IV World Championships for girls and juniors in fire and rescue (fire-applied) sport will be held. \nWe invite sports teams of young men and girls to take part in the upcoming World Championships in fire and rescue (fire-applied) sport\, and we will be happy to see fans from around the world! \nParticipation in such a large-scale gives an excellent opportunity for young athletes to demonstrate their sport skills\, professionalism and will to win. \nOrganizers: International Sport Federation of Firefighters and Rescuers\, Chief Directorate „Fire safety and civil protection“ – Ministry of Interior – Bulgaria\, Bulgarian federation of fire sport. \nOfficial event website:\nhttp://interfiresport.com/en/activity/viii-chempionat-mira-sredi-yunoshey-i-yuniorov-i-iv-chempionat-mira-sredi-devushek-i-yuniorok/ \n
URL:https://orangesea.bg/event/svetoven-shampionat-po-pozharoprilozhen-sport-za-yunoshi-i-devoyki/
LOCATION:Стадион Локомотив\, бул. Сливница 187\, Варна
CATEGORIES:12 - 18 г. / тийнове,забава и игри,образователно
ATTACH;FMTTYPE=image/jpeg:https://orangesea.bg/wp-content/uploads/2018/07/36137311_997617277063915_4044179259323842560_o.jpg
END:VEVENT
BEGIN:VEVENT
DTSTART;TZID=Europe/Sofia:20180928T140000
DTEND;TZID=Europe/Sofia:20181007T230000
DTSTAMP:20260422T214649
CREATED:20180927T130832Z
LAST-MODIFIED:20180927T131241Z
UID:2313-1538143200-1538953200@orangesea.bg
SUMMARY:Varna Oktoberfest 2018
DESCRIPTION:– Над 30 павилиона (и съоръжения) с българска и чуждестранна кухня (немска кухня с вурстове\, бретцели\, американски стекове\, японска\, индийска кухня и др.)\, напитки и забавления;\n– Над 500 вида бира от цял свят (1 000 литра ще раздадем безплатно);\n– Спортна арена за ежедневни състезания с награди;\n– Лунапарк с много забавления за малки и големи;\n– Благотворителен мач между „Отбора на сърцето“ и ветераните на ПФК Спартак (Варна) в подкрепа на избрана от нас кауза;\n– Сцена\, на която ще се състоят различни концерти (група Down Low\, „Бараби Блус Бенд“ заедно с Буги Барабата\, Лео и Играта\, Монти и Петя Алекса\, Севи\, Стоян Роянов (Я-я) от La Migra)\, Echoo-Balkan Samba\, Action & Fire\, DJ Mitakis. \nОчакваме Ви в събота и неделя от 10:00 до 23:00\, делничните дни от 14:00 до 22:00 ч. \n \nОставете колата вкъщи!\n🗓️ Разписание на безплатния автобус до Varna Oktoberfest (парк Аспарухово) всеки ден от 28.09. до 07.10.: \n🚩От Катедрала към Oktoberfest: 20:00ч. и 22:00ч.\n🚩От Oktoferfest към Катедралата: 21:00ч. и 23:00ч. \nОчакваме ви! 🍻\n//P.s. Спирката на Катедралата – срещу Козирката\, до подлеза – посока Аспарухово.// \nНа 2-ри октомври концерт на група Echoo във Варна като част от Varna Oktoberfest. Ако харесвате нестандартната музика търсите нещо ново нещо различно нещо балканско: ) това е вашата вечер. Групата има нестандартна концепция за звук и визия. В състав: Николай Николов гъдулка\, Никифор Апостолов вокали и мегафони и специални ефекти\, Мариян Живков барабани и Борислав Ангелков нестандартна 6 струнна бас китара\, бандата ще предложи 90 минутна програма в уникален стил Балкан Самба. \n \n
URL:https://orangesea.bg/event/varna-oktoberfest-2018/
LOCATION:Парк в квартал Аспарухово\, Парк в квартал Аспарухово\, Варна
CATEGORIES:12 - 18 г. / тийнове,кулинарно,музика,на открито
ATTACH;FMTTYPE=image/jpeg:https://orangesea.bg/wp-content/uploads/2018/09/octoberfest-stoqn-pr-2-758x494.jpg
END:VEVENT
BEGIN:VEVENT
DTSTART;TZID=UTC+2:20180929T090000
DTEND;TZID=UTC+2:20180929T160000
DTSTAMP:20260422T214649
CREATED:20180718T181759Z
LAST-MODIFIED:20180718T181932Z
UID:1672-1538211600-1538236800@orangesea.bg
SUMMARY:Предаване на капачки
DESCRIPTION:\n\nМолим всеки от Вас да сподели това събитие и да покани своите близки\, приятели и познати за да успеем да достигнем до повече хора! 🙂 \nБлаготворителна кампания Аз Вярвам и Помагам с пластмасови капачки с разрешение на Община Варна организира най-голямото събиране на пластмасови капачки под наслов „Празник на рециклирането „Аз Вярвам и Помагам““!\nСъбитието ще се проведе на 29.09.2018г. (Събота) от 09:00ч. до 16:00ч. пред Катедрален храм-паметник „Успение Богородично“ гр.Варна!\nПластмасови капачки повече няма да се предават в обекти\, а всеки ще може да ги донесе пред Катедралата заедно със своите деца\, близки\, приятели\, познати и колеги своите пластмасови капачки в торби или чували\, но НЕ и в туби\, защото пластмасовите капачки НЕ трябва да се предават в туби!\nОчакваме всеки от Вас да ни подкрепи и заедно да съберем най-голямото количество пластмасови капачки които да предадем за рециклиране\, а със събраните средства да закупим така нужните скъпоструващи медицински апарати за новородените бебета в АГ болница „Проф. д-р Димитър Стаматов “ Варна МБАЛ „Св. Анна“ Варна! \nПродължаваме обединени! \n\n\n
URL:https://orangesea.bg/event/predavane-na-kapachki/
CATEGORIES:12 - 18 г. / тийнове,7 - 12 г. / ученици,безплатно,бременност и майчинство
ATTACH;FMTTYPE=image/jpeg:https://orangesea.bg/wp-content/uploads/2018/07/36860333_2097822757160529_8011761741178339328_n.jpg
END:VEVENT
BEGIN:VEVENT
DTSTART;TZID=Europe/Sofia:20180929T093000
DTEND;TZID=Europe/Sofia:20180929T163000
DTSTAMP:20260422T214649
CREATED:20180923T045617Z
LAST-MODIFIED:20180923T045646Z
UID:2259-1538213400-1538238600@orangesea.bg
SUMMARY:Празник на водните спортове 2018 Варна / Sport Fest 2018 Varna
DESCRIPTION:\nАко обичате морето\, водата и спорта и сте на възраст между 12 и 20 години\, елате на Празника на водните спортове – тук ще можете БЕЗПЛАТНО да опитате ветроходство\, гребане\, гмуркане с акваланг. Носете си бански\, хавлия\, слънцезащитен крем и добро настроение 🙂\nНаправете своя воден „тест драйв“ и изберете своя спорт! Не закъснявайте за регистрацията в 10:00 – местата са ограничени.Програмата включва:\nБасейн „Приморски“:\n9:30ч:\nСъстезание по скоростно (моноплавници) и подводно (акваланг)плуване в басейн; Отворено състезание\n(изисква се водолазен сертификат за подводното плуване)\n14:00ч:\nПърви стъпки под вода с водолазно оборудване! За всички желаещи. Без сертификат. Инструктаж и спускане.\n15:00ч:\nПърви стъпки под вода с водолазно оборудване! За всички желаещи. Без сертификат. Инструктаж и спускане.  \nЯхт клуб „Кап. Г. Георгиев – Порт Варна“:\n10:00-14:30ч:\nИзложение клубове по водни спортове – кей;\n10:00ч:\nРегистрация за пробване на спортове: плаване\, гребане\, гмуркане\n10:30ч:\nИзлизане на вода с гребни лодки\n11:00ч:\nПрожекция къси филми/клипове – хале Яхт Клуб Порт Варна\n11:15ч:\nИнструктаж плаване с яхти\n11:30ч:\nИзлизане на всички яхти и гребни лодки – качване на борда\nслед 13:15ч:\nИзлизане на част от лодките за втори/трети курс \nПразник на водните спортове 2018 Варна се организира и ръководи от Яхт Клуб „Кап. Георги Георгиев – Порт Варна“ в рамките на Проект WOW – Wave On Wave – Water Sports for Young People’s Physical Activity\, съфинансиран по програма Erasmus+ Sport. Водещ партньор по проекта е Община Пезаро\, Италия\, а други партниращи страни са A.D.E.L.\, Братислава\, Словакия\, Getxo Kirolak\, Гечо\, Испания\, Sport Nautique de Nancy\, Нансир Франция. Проектът приключва на 31 декември 2018г. \n\n\n
URL:https://orangesea.bg/event/praznik-vodni-sportove/
CATEGORIES:12 - 18 г. / тийнове,безплатно,забава и игри,на открито,спорт
ATTACH;FMTTYPE=image/jpeg:https://orangesea.bg/wp-content/uploads/2018/09/42287621_2001931716522437_3501292025855082496_n.jpg
END:VEVENT
BEGIN:VEVENT
DTSTART;TZID=Europe/Sofia:20180929T110000
DTEND;TZID=Europe/Sofia:20180929T150000
DTSTAMP:20260422T214649
CREATED:20180927T112513Z
LAST-MODIFIED:20180927T112549Z
UID:2300-1538218800-1538233200@orangesea.bg
SUMMARY:Рожден ден на Фермерски Пазар Варна
DESCRIPTION:Рожден ден на Фермерски Пазар Варна 🙂\nПриятели\,\nФермерски пазар – Варна\, става на 4 години. За нас е огромна радост да споделим празника си с вас – нашите приятели\, клиенти\, партньори\, фермери и производители. И с всички\, заради които ни има и ще ни има и в бъдеще.\nПрез годините\, пазарът се развиваше и се разрастваше. Някои сигурно помнят първите ни събития на сергиите на пазар „Чайка“\, където стартирахме тази прекрасна инициатива. Четири години по-късно\, Фермерски пазар – Варна\, е синоним на здравословна\, натурална\, вкусна и качествена храна.\nТова е единственото място във Варна\, където хората могат да закупят продукти директно от производителите\, да поговорят с тях\, да разберат как са произведени и при какви условия. А ние гарантираме за качеството на продукцията на всеки от над 40-те фермери и производители от региона и семействата им\, които са избрали родното и българското\, останали са тук въпреки трудностите. Пазарът е мястото\, където те могат да реализират чистата си продукция\, произведена с любов\, а варненци и гости на града могат да й се насладят и да се радват на по-здравословно хранене.\nПрез годините\, не се ограничихме само като пазар. Ние отстояваме морални и човешки принципи и традиции\, помагаме в социални кампании и предоставяме пространство за изява на артисти\, общественици\, музиканти\, експерти в различни области. Правим детски работилници\, подкрепяме социални и екологични кампании\, борим се за по-доброто бъдеще на децата ни.\nКаним ви с много настроение и музика да отбележим заедно рожденния ни ден на 29 септември 2018 г. от 11:00 часа. Домакин на празника ни ще бъде МОЛ Варна ЕАД\, който подкрепя Фермерския пазар от самото начало и предоставя място за провеждането му всяка събота\, на ниво -2. За което им благодарим от сърце.\nФермерски пазар вече 4 години показва едно различно лице\, което винаги има с какво да ви изненада. Обещаваме да продължим и занапред.\nКаним нашите клиенти и приятели на рожден ден на 29 септември /събота/ от 11:00 часа в МОЛ Варна ЕАД\, ниво – 2. В неделя\, Фермерски пазар ще е пред Фестивален и конгресен център – Варна\, както обикновено. \nС музика на живо\, изпълнена от музиканта Волфганг Буркхард\, ще стартира партито за Четвъртия рожден на Фермерски пазар – Варна.\nЩе има сладки\, направени от сърце с любов\, торта\, вкусотии\, приготвени от нашите производители\, вино и най-вече – много настроение. \n\nЧакаме ви\, заредени с усмивки и настроение. \n\nДа празнуваме заедно!!! 🙂 \n
URL:https://orangesea.bg/event/fermerski-pazar-na-4/
LOCATION:Мол Варна ЕАД\, Бул. Владислав Варненчик 186\, Варна\, 9009
CATEGORIES:0 - 3 г. / бебешори,12 - 18 г. / тийнове,3 - 7 г. / дечурлига,7 - 12 г. / ученици,безплатно,кулинарно,музика,на закрито
ATTACH;FMTTYPE=image/jpeg:https://orangesea.bg/wp-content/uploads/2018/09/41957141_2017282998292500_2208738329841631232_n.jpg
END:VEVENT
BEGIN:VEVENT
DTSTART;TZID=Europe/Sofia:20180929T113000
DTEND;TZID=Europe/Sofia:20180929T133000
DTSTAMP:20260422T214649
CREATED:20180927T130000Z
LAST-MODIFIED:20180927T130031Z
UID:2308-1538220600-1538227800@orangesea.bg
SUMMARY:Кастинг - втори кръг
DESCRIPTION:За всички пропуснали!\nСцена Арт Студио обявява втори кръг на КАСТИНГ.\nМастър клас (от 13 до 18г) – 4 места\nГрупа А (от 9 до 12г) – 4 места\nГрупа Б (от 5 до 8г) – 6 места\nКастингът ще се проведе в нашата зала на ул. Петко Стайнов 3. \n
URL:https://orangesea.bg/event/kasting-vtori-krag/
LOCATION:Сцена Арт Студио\, ул. Петко Стайнов 3\, Varna\, 9000\, Bulgaria
CATEGORIES:12 - 18 г. / тийнове,7 - 12 г. / ученици,забава и игри,кино и театър,музика,на закрито
ATTACH;FMTTYPE=image/jpeg:https://orangesea.bg/wp-content/uploads/2018/09/42641030_742886862726334_3882191788911362048_o.jpg
END:VEVENT
END:VCALENDAR