BEGIN:VCALENDAR
VERSION:2.0
PRODID:-//Оранжево морето - ECPv4.8.2//NONSGML v1.0//EN
CALSCALE:GREGORIAN
METHOD:PUBLISH
X-WR-CALNAME:Оранжево морето
X-ORIGINAL-URL:https://orangesea.bg
X-WR-CALDESC:Events for Оранжево морето
BEGIN:VEVENT
DTSTART;TZID=UTC+2:20180709T180000
DTEND;TZID=UTC+2:20180829T200000
DTSTAMP:20260422T225722
CREATED:20180716T155338Z
LAST-MODIFIED:20180716T155953Z
UID:1597-1531159200-1535572800@orangesea.bg
SUMMARY:БАЛКАН ФОЛК ФЕСТ 2018
DESCRIPTION:Всички концерти са от 18 часа\nВход свободен \n9\, 13\, 18\, 23\, 28\, 30 ЮНИ 2018\n4\, 7\, 11\, 14\, 18\, 21\, 25\, 28 ЮЛИ 2018\n1\, 4\, 8\, 11 /в Опера/\, 15\, 18\, 22\, 27 /в Опера/\, 29 /открита сцена/ АВГУСТ 2018 \nМеждународният фестивал Balkan Folk Fest 2018 ще омагьоса жителите и гостите на град Варна на сцената на Фестивален и конгресен център Варна (зала 1) за месеците ЮНИ\, ЮЛИ И АВГУСТ. \nПредстоят едни от най-незабравимите концерти за сезон лято 2018\, представящи фолклорното богатство на 16 държави. Очаква ни концертна програма\, изпъстрена от изпълненията на близо 180 фолклорни ансамбли\, хорове\, духови оркестри\, танцъори\, мажоретки и певчески състави. \nКонцертите на БАЛКАН ФОЛК ФЕСТ ще бъдат благотворителни в подкрепа на каузата на Карин дом.\nГражданите и гостите на Варна могат да посетят концертите срещу доброволно дарение непосредствено преди концерта или като закупят своята покана предварително на marketing@karindom.org и тел.: 052-302-518. \nЗаповядайте на блястящото откриване на 09.06.2018 г. в зала 1 на Фестивален и конгресен център – Варна от 18:00 часа. \nПрез годините Карин дом винаги е разчитал на подкрепата на своите дарители\, партньори и приятели. Подкрепете ни като организирате един незабравим празник за семейството или фирмения екип! \nНека заедно чрез магията на танците и песните да подкрепим терапията на деца със специални нужди! \n
URL:https://orangesea.bg/event/balkan-folk-fest-2018/
LOCATION:Фестивален и Конгресен Център\, бул. Сливница № 2\, Варна\, 9000\, Bulgaria
CATEGORIES:0 - 3 г. / бебешори,12 - 18 г. / тийнове,3 - 7 г. / дечурлига,7 - 12 г. / ученици,безплатно,култура и изкуство,музика
ATTACH;FMTTYPE=image/jpeg:https://orangesea.bg/wp-content/uploads/2018/07/e_640c22b3e7972ecf595dcee08cadc8dd_29231a70988c25d3b01989d5b60411d7.jpg
END:VEVENT
BEGIN:VEVENT
DTSTART;TZID=UTC+2:20180825T090000
DTEND;TZID=UTC+2:20180826T235900
DTSTAMP:20260422T225722
CREATED:20180810T050137Z
LAST-MODIFIED:20180810T050137Z
UID:1455-1535187600-1535327940@orangesea.bg
SUMMARY:AniFest 2018
DESCRIPTION:AniFest – от фенове за фенове е български фестивал\, посветен на аниме\, манга и източно-азиатската култура\, който се провежда от 2011 година насам в морската столица – гр. Варна! \nФестивалът се организира от Национален клуб за Аниме\, Манга и Японска култура “Шиоказе” – гр. Варна. В програмата са включени разнообразни елементи от модерната азиатска култура. Лятното издание на AniFest 2018 ще се проведе на 25 и 26 август в зали Младост на Двореца на културата и спорта в гр. Варна. \n
URL:https://orangesea.bg/event/anifest-2018/
LOCATION:Дворец на Културата и Спорта\, 115 бул. Княз Борис I\, Варна\, 9000\, Bulgaria
CATEGORIES:12 - 18 г. / тийнове,7 - 12 г. / ученици,на закрито
ATTACH;FMTTYPE=image/jpeg:https://orangesea.bg/wp-content/uploads/2018/06/29572537_10155809176378780_8209423457487074495_n.jpg
END:VEVENT
BEGIN:VEVENT
DTSTART;TZID=Europe/Sofia:20180826T180000
DTEND;TZID=Europe/Sofia:20180826T230000
DTSTAMP:20260422T225722
CREATED:20180823T190024Z
LAST-MODIFIED:20180823T190056Z
UID:2114-1535306400-1535324400@orangesea.bg
SUMMARY:Празнувайте Есетровата луна с WWF!
DESCRIPTION:Индианска легенда гласи\, че по време на августовското пълнолуние големи есетрови риби сякаш сами скачали в мрежите на рибарите. Именно затова те го нарекли „Есетрова луна“. Днес обаче мрежите на рибарите са празни. \nПо традиция ние от WWF България празнуваме августовското пълнолуние\, посветено на есетрите – оцелели още от времето на динозаврите\, днес тези риби са на ръба на оцеляването. \nЗаповядайте на WWF празненство по случай „Есетровата луна 2018“ в Wake Park Varna! \nОчакват ви:\n🔹 телескоп\, с който ще наблюдаваме пълната луна с приятелите ни от AstroReflect – astronomical telescopes making\n🔹 фотоколажна работилница „Есетрова луна“\, с която можете сами да създадете и участвате в тематични фотографски колажи\, предоставена от Център за неформално образование и културна дейност АЛОС\n🔹 скаутски игри за детската аудитория от клуб „Владислав Варненчик“ \nОбещаваме ви магично празненство по време на пълнолуние\, а в допълнение ще разберете повече за проблемите\, които срещат рибите\, като препятствия за миграцията им\, преграждане на реките\, бракониерство\, свръхулов\, замърсяване и други. \nВ следващите дни ще обявим детайли и за играта ни с авантюристична награда\, следете ни! \nНа място ще можете да си вземете и специални WWF сувенири и да поговорите с представителите на нашия екип. \nПразненството е подходящо за всякаква публика. \nВодещи на фотоколажната работилница са: д-р Любен Кулелиев (арт-педагог\, фотограф)\, Румен Байков (фотограф) и Росица Маринова (модератор). \nВходът е СВОБОДЕН! \n
URL:https://orangesea.bg/event/esetrovata-luna/
LOCATION:Wake Park Varna\, Coastal alley\, (2.65 km)\, Varna\, Bulgaria
CATEGORIES:0 - 3 г. / бебешори,12 - 18 г. / тийнове,3 - 7 г. / дечурлига,7 - 12 г. / ученици,безплатно,бременност и майчинство,забава и игри,на открито
ATTACH;FMTTYPE=image/jpeg:https://orangesea.bg/wp-content/uploads/2018/08/39385795_2520348697982401_1342683231442436096_o.jpg
END:VEVENT
END:VCALENDAR