BEGIN:VCALENDAR
VERSION:2.0
PRODID:-//Оранжево морето - ECPv4.8.2//NONSGML v1.0//EN
CALSCALE:GREGORIAN
METHOD:PUBLISH
X-WR-CALNAME:Оранжево морето
X-ORIGINAL-URL:https://orangesea.bg
X-WR-CALDESC:Events for Оранжево морето
BEGIN:VEVENT
DTSTART;TZID=UTC+2:20180709T180000
DTEND;TZID=UTC+2:20180829T200000
DTSTAMP:20260422T225721
CREATED:20180716T155338Z
LAST-MODIFIED:20180716T155953Z
UID:1597-1531159200-1535572800@orangesea.bg
SUMMARY:БАЛКАН ФОЛК ФЕСТ 2018
DESCRIPTION:Всички концерти са от 18 часа\nВход свободен \n9\, 13\, 18\, 23\, 28\, 30 ЮНИ 2018\n4\, 7\, 11\, 14\, 18\, 21\, 25\, 28 ЮЛИ 2018\n1\, 4\, 8\, 11 /в Опера/\, 15\, 18\, 22\, 27 /в Опера/\, 29 /открита сцена/ АВГУСТ 2018 \nМеждународният фестивал Balkan Folk Fest 2018 ще омагьоса жителите и гостите на град Варна на сцената на Фестивален и конгресен център Варна (зала 1) за месеците ЮНИ\, ЮЛИ И АВГУСТ. \nПредстоят едни от най-незабравимите концерти за сезон лято 2018\, представящи фолклорното богатство на 16 държави. Очаква ни концертна програма\, изпъстрена от изпълненията на близо 180 фолклорни ансамбли\, хорове\, духови оркестри\, танцъори\, мажоретки и певчески състави. \nКонцертите на БАЛКАН ФОЛК ФЕСТ ще бъдат благотворителни в подкрепа на каузата на Карин дом.\nГражданите и гостите на Варна могат да посетят концертите срещу доброволно дарение непосредствено преди концерта или като закупят своята покана предварително на marketing@karindom.org и тел.: 052-302-518. \nЗаповядайте на блястящото откриване на 09.06.2018 г. в зала 1 на Фестивален и конгресен център – Варна от 18:00 часа. \nПрез годините Карин дом винаги е разчитал на подкрепата на своите дарители\, партньори и приятели. Подкрепете ни като организирате един незабравим празник за семейството или фирмения екип! \nНека заедно чрез магията на танците и песните да подкрепим терапията на деца със специални нужди! \n
URL:https://orangesea.bg/event/balkan-folk-fest-2018/
LOCATION:Фестивален и Конгресен Център\, бул. Сливница № 2\, Варна\, 9000\, Bulgaria
CATEGORIES:0 - 3 г. / бебешори,12 - 18 г. / тийнове,3 - 7 г. / дечурлига,7 - 12 г. / ученици,безплатно,култура и изкуство,музика
ATTACH;FMTTYPE=image/jpeg:https://orangesea.bg/wp-content/uploads/2018/07/e_640c22b3e7972ecf595dcee08cadc8dd_29231a70988c25d3b01989d5b60411d7.jpg
END:VEVENT
BEGIN:VEVENT
DTSTART;TZID=UTC+2:20180801T080000
DTEND;TZID=UTC+2:20180821T220000
DTSTAMP:20260422T225721
CREATED:20180617T093618Z
LAST-MODIFIED:20180729T144759Z
UID:1428-1533110400-1534888800@orangesea.bg
SUMMARY:Международен панаир на занаятите и изкуствата "Булгарика"
DESCRIPTION: \n\nМеждународният Панаир на занаятите и изкуствата „Булгарика“ е най-голямото арт изложение в България. \nПровежда се всяка година от 1 до 21 Август в Морската градина на гр. Варна /между Морско казино и Сцена „Раковина“. \nПрез 2018 г.\, Панаирът ще се проведе за 22- ри път. \nСъчетаващ в себе си традициите и съвремието в изкуството\, Международният Панаир на занаятите и изкуствата е място за изява на едни от най-добрите автори в областта на изящното и приложно изкуство\, художествените занаяти\, музиката. \nДемонстрациите на авторските умения дават възможност на посетителите да наблюдават на живо създаването на уникални творби. \nЗа своята 22 годишна история\, Международният панаир на занаятите и изкуствата се превърна в едно от най-атрактивните и очаквани културни събития за Варна и нейните гости. \nПрез 2018 г. богатата съпътстваща програма на панаира ще включва събития с широк спектър на културни прояви. \n\nВ Проекта „Открития“на 3-ти август от 11:00до 13:00 ч.\, ежегодно се представят български творци\, които показват магията на традиционните български занаяти и приложни изкуства. \nПрез тази година\, организаторите са предвидили онлайн възможност за публиката\, която не може да посети събитието на место да се докоснат до красотата на българските занаяти. \nВ рамките на Панаира\, Асоциация „Булгарика” представя Проект „Родове“- потомствените български майстори. 8-ми август от 11:00 до 13:00 ч. ще научим как се съхраняват и развиват българските занаяти предавани в семейството\, в рода. \nЩе ви представим един утвърден в занаята си майстор и неговите потомци. \nЗащото именно Родът и семейството съхраняват българските ценности във времето. \nИменно Родът и семейството са съхранили българският дух\, култура и занаяти\, вграждайки в тях таланта и любовта на българина. \nДа запалиш искрата\, да научиш нечий сръчни ръце да творят\, да предадеш занаята си на жаден за знание- това е проектът „Да предадеш занаят” на 9-ти август от 11:00 до 13:00 ч.\, който Асоциация „Булгарика” представя\, следвайки основната си мисия- да съхранява и развива българските занаяти и изкуства. \nСъбитието можете да следите в социалните мрежи и в сайта на Асоциация „Булгарика“- bulgarika.eu. \n  \nИзточник: Организатора \n
URL:https://orangesea.bg/event/panair_zanaiatite/
LOCATION:Морска градина\, Приморски парк\, Варна\, 9000\, България
CATEGORIES:0 - 3 г. / бебешори,12 - 18 г. / тийнове,3 - 7 г. / дечурлига,7 - 12 г. / ученици,безплатно,забава и игри,култура и изкуство,на открито
ATTACH;FMTTYPE=image/jpeg:https://orangesea.bg/wp-content/uploads/2018/06/31124338_2114415901931868_3453072767325306880_n.jpg
ORGANIZER;CN="%D0%90%D1%81%D0%BE%D1%86%D0%B8%D0%B0%D1%86%D0%B8%D1%8F%20%D0%91%D1%83%D0%BB%D0%B3%D0%B0%D1%80%D0%B8%D0%BA%D0%B0":MAILTO:contact@bulgarika.eu
END:VEVENT
BEGIN:VEVENT
DTSTART;TZID=UTC+2:20180815T090000
DTEND;TZID=UTC+2:20180815T233000
DTSTAMP:20260422T225721
CREATED:20180807T081601Z
LAST-MODIFIED:20180809T042346Z
UID:1969-1534323600-1534375800@orangesea.bg
SUMMARY:Празник на Варна
DESCRIPTION:За децата на сцена „Раковина“ от 10:30ч. е предвиден спектакълът „Джобни чародейства“ на Мануела Саркисян\, в 11\,30 ч. ще се открие специално ателие за изработване на кукли\, с водещ Мария Банова\, а от 19 ч. следват забавни минути с Богдан Томов.  \nКлуб Малки откриватели на National Geografic Kids ще зарадва малките любознайковци от 15 до 21 ч. в Морската градина\, зона Аквариума. \nПо време на Национална детска асамблея „Празнично докосване в цвят и коприна“ в Морско Казино от 10:30 до 13:30 ч. ще се рисуват картини върху коприна и керамични съдове на тема „История и традиции“. Всички жители и гости на града могат да участват в Националната детска асамблея. \nПразнична програма:\n12 август \n9:00 ч. Морска гара \nТЪРЖЕСТВЕНО ВДИГАНЕ НА МОРСКИЯ ФЛАГ И ЦЕРЕМОНИЯ ПО ПРИСВОЯВАНЕ НА ПЪРВО ОФИЦЕРСКО ЗВАНИЕ НА ВИПУСКНИЦИТЕ НА ВВМУ „Н. Й. ВАПЦАРОВ“ \n12 – 15 август \nXVIII МЕЖДУНАРОДНА ВЕТРОХОДНА РЕГАТА КОР КАРОЛИ \n15 август \n19:00\, Награждаване на победителите\, Пристанище Варна – свободна зона \n13 – 14 август \nПред Община Варна \n„ВАРНА – ОТ ДРЕВНОСТТА ДО ДНЕС“ – най-дългата рисунка\, посветена на града \nХепънинг с художниците Николай Русев\, Димитър Щерев и Димитър Русев \n13 – 15 август \n16:00 ч. \nНЧ Варненски будители 1926 \nIV МЕЖДУНАРОДЕН ШАХМАТЕН ТУРНИР ЗА КУПАТА НА ОБЩИНА ВАРНА \n15 август \n20:00 ч. Награждаване на победителите \n15 август \n9:00 ч. \nКатедрален храм „Св. Успение Богородично“ \nТЪРЖЕСТВЕНА АРХИЕРЕЙСКА СВЕТА ЛИТУРГИЯ \n10:30 – 10:40 ч. \nПл. „Св. Св. Кирил и Методий“ \nТЪРЖЕСТВЕНО ИЗДИГАНЕ ФЛАГА НА ВАРНА \nЛИТИЙНО ШЕСТВИЕ С ЧУДОТВОРНАТА ИКОНА НА СВЕТА БОГОРОДИЦА \n10:30 ч. \nСцена Раковина \nДЕТСКИ СПЕКТАКЪЛ „ДЖОБНИ ЧАРОДЕЙСТВА“ на Мануела Саркисян \n11:30 ч. \nСцена Раковина \nАТЕЛИЕ ЗА ИЗРАБОТКА НА МЕКИ КУКЛИ\,  Водещ: Мария Банова \n17:30 ч. \nСцена Раковина \nКОНЦЕРТ НА ГАЙДАРСКИЯ ОРКЕСТЪР ДИНЬО МАРИНОВ ПРИ НЧ „ВАСИЛ ЛЕВСКИ 1945“ \n19:00 ч. \nСцена Раковина \nБОГДАН ТОМОВ С ДЕЦАТА НА ВАРНА \n20:00 ч. \nКОНЦЕРТ КРАЙ ФОНТАНА \nСолисти и оркестър на Държавната опера – Варна\, \nПод диригентството на Мартин Пантелеев \n20:00 ч. \nЛетен театър \nТЪРЖЕСТВЕН КОНЦЕРТ ПО СЛУЧАЙ ДЕНЯ НА ВАРНА \nС участието на Михаил Белчев и Кристина Белчева \nЦеремония по връчване на почетни звания и отличия \nПразнични спектакли на фолклорните ансамбли „Варна“ и „Тракия – Пловдив“ \n21:00 ч. \nПристанище Варна – свободна зона \nПРАЗНИЧЕН КОНЦЕРТ \nС участието на: Славин Славчев и група Julian’s Laughter\, Атанас Колев\, Papi Hans\, Виктория Георгиева\, 100 KILA\, Deep Zone Project\, Орлин Павлов и дует Morandi (Румъния) \n22:00 ч. \nВход на Морската градина (Слънчевият часовник) \nПРАЗНИЧЕН КРОС ПЪТЯТ НА СВЕТЛИНАТА \n23:20 ч. \nПРАЗНИЧНА ЗАРЯ \n
URL:https://orangesea.bg/event/praznik-na-varna/
CATEGORIES:0 - 3 г. / бебешори,12 - 18 г. / тийнове,3 - 7 г. / дечурлига,7 - 12 г. / ученици,безплатно,забава и игри,музика,на открито
ATTACH;FMTTYPE=image/jpeg:https://orangesea.bg/wp-content/uploads/2018/08/thumb6_thumb7_2.jpg
END:VEVENT
BEGIN:VEVENT
DTSTART;TZID=UTC+2:20180815T110000
DTEND;TZID=UTC+2:20180815T230000
DTSTAMP:20260422T225721
CREATED:20180802T174704Z
LAST-MODIFIED:20180802T175806Z
UID:1931-1534330800-1534374000@orangesea.bg
SUMMARY:Драго ми е на Драгоман!
DESCRIPTION:Обединени от улицата\, на която сбъдваме мечтите си Ви каним заедно с наши приятели на една гастрономично-музикална среща! \nИнтерпретации на кулинарни класики и музикални стилове от цял свят\, опаковани за варненци и съпричастните им по случай празника на града\, поднесени с любов и настроение. \nЗащото всички я обичаме – Нашата Варна! \nЩе празнуваме Заедно На Нашата Улица В Нашия Град! \nот 11:00ч – до 23:00ч \n12 – 13 / еат § меат; Къщата на Ви\, Хатори\, Брок\, Бар Бранд \nКоста Костов\, диджеите Мага Бо и Саундгутс (Кафундо Рекърдс)\, Сезар Пиментел\, творческите и търговски пространства\, хората… \n
URL:https://orangesea.bg/event/na-dragoman/
LOCATION:Хатори\, ул. Драгоман 9\, Варна\, Bulgaria
CATEGORIES:12 - 18 г. / тийнове,3 - 7 г. / дечурлига,7 - 12 г. / ученици,кулинарно,култура и изкуство,музика,на открито
ATTACH;FMTTYPE=image/jpeg:https://orangesea.bg/wp-content/uploads/2018/08/38179657_1643174219126630_9106871319533715456_n.jpg
END:VEVENT
BEGIN:VEVENT
DTSTART;TZID=UTC+2:20180815T150000
DTEND;TZID=UTC+2:20180815T210000
DTSTAMP:20260422T225721
CREATED:20180808T071228Z
LAST-MODIFIED:20180808T071344Z
UID:1998-1534345200-1534366800@orangesea.bg
SUMMARY:Клуб МАЛКИ ОТКРИВАТЕЛИ
DESCRIPTION:След пролетното пътешествие на National Geographic Kids\, когато зарадвахме децата на Варна с множество разнообразни игри и награди\, образователната обиколка на „Клуб МАЛКИ ОТКРИВАТЕЛИ“\, ще гостува отново на морската ни столица.\nНа 15 август\, ще ни намерите пред аквариума в град Варна. Ще отбележим подобаващо\, в унисон с празничната атмносфера празника на града; ще провокираме детските усмивки и любознание с любимото списание.\nМотото на всяка игра и работилничка е добре познатото ни: „Учи\, забавлявайки се!“\, а наред с любимите активности\, ще изненадаме своите малки приятели с някои нови предизвикателства. \nОчакваме ви! \n
URL:https://orangesea.bg/event/klub-malki-otkrivateli/
LOCATION:Аквариум Варна\, бул. Приморски 4\, Варна\, Bulgaria
CATEGORIES:0 - 3 г. / бебешори,12 - 18 г. / тийнове,3 - 7 г. / дечурлига,7 - 12 г. / ученици,безплатно,забава и игри,на открито,образователно
ATTACH;FMTTYPE=image/jpeg:https://orangesea.bg/wp-content/uploads/2018/08/38615030_10156506904022381_4293662940202008576_n.jpg
END:VEVENT
BEGIN:VEVENT
DTSTART;TZID=UTC+2:20180815T200000
DTEND;TZID=UTC+2:20180815T210000
DTSTAMP:20260422T225721
CREATED:20180804T111602Z
LAST-MODIFIED:20180804T111602Z
UID:1945-1534363200-1534366800@orangesea.bg
SUMMARY:КОНЦЕРТ КРАЙ ФОНТАНА
DESCRIPTION:15 август 2018\, 20.00\, площад „Независимост“\nТрадиционният Концерт край фонтана на 15 август – Денят на Варна\, ще дирижира Маестро Мартин Пантелеев. \nПрорамата включва популярни арии и дуети. \nПри неблагоприятно време към 17.00-18.00 днес\, концертът ще се измести от площада на Основна сцена. \nВходът остава свободен за варненци и гостите на Варна! \n
URL:https://orangesea.bg/event/kontsert-kray-fontana/
LOCATION:Площад Независимост\, Площад "Независимост"\, Варна\, 9000\, Bulgaria
CATEGORIES:0 - 3 г. / бебешори,12 - 18 г. / тийнове,3 - 7 г. / дечурлига,7 - 12 г. / ученици,безплатно,култура и изкуство,музика,на открито
ATTACH;FMTTYPE=image/jpeg:https://orangesea.bg/wp-content/uploads/2018/08/38033333_2118558135049583_1244716796947202048_o.jpg
END:VEVENT
END:VCALENDAR