BEGIN:VCALENDAR
VERSION:2.0
PRODID:-//Оранжево морето - ECPv4.8.2//NONSGML v1.0//EN
CALSCALE:GREGORIAN
METHOD:PUBLISH
X-WR-CALNAME:Оранжево морето
X-ORIGINAL-URL:https://orangesea.bg
X-WR-CALDESC:Events for Оранжево морето
BEGIN:VEVENT
DTSTART;TZID=UTC+2:20180709T180000
DTEND;TZID=UTC+2:20180829T200000
DTSTAMP:20260422T225737
CREATED:20180716T155338Z
LAST-MODIFIED:20180716T155953Z
UID:1597-1531159200-1535572800@orangesea.bg
SUMMARY:БАЛКАН ФОЛК ФЕСТ 2018
DESCRIPTION:Всички концерти са от 18 часа\nВход свободен \n9\, 13\, 18\, 23\, 28\, 30 ЮНИ 2018\n4\, 7\, 11\, 14\, 18\, 21\, 25\, 28 ЮЛИ 2018\n1\, 4\, 8\, 11 /в Опера/\, 15\, 18\, 22\, 27 /в Опера/\, 29 /открита сцена/ АВГУСТ 2018 \nМеждународният фестивал Balkan Folk Fest 2018 ще омагьоса жителите и гостите на град Варна на сцената на Фестивален и конгресен център Варна (зала 1) за месеците ЮНИ\, ЮЛИ И АВГУСТ. \nПредстоят едни от най-незабравимите концерти за сезон лято 2018\, представящи фолклорното богатство на 16 държави. Очаква ни концертна програма\, изпъстрена от изпълненията на близо 180 фолклорни ансамбли\, хорове\, духови оркестри\, танцъори\, мажоретки и певчески състави. \nКонцертите на БАЛКАН ФОЛК ФЕСТ ще бъдат благотворителни в подкрепа на каузата на Карин дом.\nГражданите и гостите на Варна могат да посетят концертите срещу доброволно дарение непосредствено преди концерта или като закупят своята покана предварително на marketing@karindom.org и тел.: 052-302-518. \nЗаповядайте на блястящото откриване на 09.06.2018 г. в зала 1 на Фестивален и конгресен център – Варна от 18:00 часа. \nПрез годините Карин дом винаги е разчитал на подкрепата на своите дарители\, партньори и приятели. Подкрепете ни като организирате един незабравим празник за семейството или фирмения екип! \nНека заедно чрез магията на танците и песните да подкрепим терапията на деца със специални нужди! \n
URL:https://orangesea.bg/event/balkan-folk-fest-2018/
LOCATION:Фестивален и Конгресен Център\, бул. Сливница № 2\, Варна\, 9000\, Bulgaria
CATEGORIES:0 - 3 г. / бебешори,12 - 18 г. / тийнове,3 - 7 г. / дечурлига,7 - 12 г. / ученици,безплатно,култура и изкуство,музика
ATTACH;FMTTYPE=image/jpeg:https://orangesea.bg/wp-content/uploads/2018/07/e_640c22b3e7972ecf595dcee08cadc8dd_29231a70988c25d3b01989d5b60411d7.jpg
END:VEVENT
BEGIN:VEVENT
DTSTART;TZID=UTC+2:20180801T080000
DTEND;TZID=UTC+2:20180821T220000
DTSTAMP:20260422T225737
CREATED:20180617T093618Z
LAST-MODIFIED:20180729T144759Z
UID:1428-1533110400-1534888800@orangesea.bg
SUMMARY:Международен панаир на занаятите и изкуствата "Булгарика"
DESCRIPTION: \n\nМеждународният Панаир на занаятите и изкуствата „Булгарика“ е най-голямото арт изложение в България. \nПровежда се всяка година от 1 до 21 Август в Морската градина на гр. Варна /между Морско казино и Сцена „Раковина“. \nПрез 2018 г.\, Панаирът ще се проведе за 22- ри път. \nСъчетаващ в себе си традициите и съвремието в изкуството\, Международният Панаир на занаятите и изкуствата е място за изява на едни от най-добрите автори в областта на изящното и приложно изкуство\, художествените занаяти\, музиката. \nДемонстрациите на авторските умения дават възможност на посетителите да наблюдават на живо създаването на уникални творби. \nЗа своята 22 годишна история\, Международният панаир на занаятите и изкуствата се превърна в едно от най-атрактивните и очаквани културни събития за Варна и нейните гости. \nПрез 2018 г. богатата съпътстваща програма на панаира ще включва събития с широк спектър на културни прояви. \n\nВ Проекта „Открития“на 3-ти август от 11:00до 13:00 ч.\, ежегодно се представят български творци\, които показват магията на традиционните български занаяти и приложни изкуства. \nПрез тази година\, организаторите са предвидили онлайн възможност за публиката\, която не може да посети събитието на место да се докоснат до красотата на българските занаяти. \nВ рамките на Панаира\, Асоциация „Булгарика” представя Проект „Родове“- потомствените български майстори. 8-ми август от 11:00 до 13:00 ч. ще научим как се съхраняват и развиват българските занаяти предавани в семейството\, в рода. \nЩе ви представим един утвърден в занаята си майстор и неговите потомци. \nЗащото именно Родът и семейството съхраняват българските ценности във времето. \nИменно Родът и семейството са съхранили българският дух\, култура и занаяти\, вграждайки в тях таланта и любовта на българина. \nДа запалиш искрата\, да научиш нечий сръчни ръце да творят\, да предадеш занаята си на жаден за знание- това е проектът „Да предадеш занаят” на 9-ти август от 11:00 до 13:00 ч.\, който Асоциация „Булгарика” представя\, следвайки основната си мисия- да съхранява и развива българските занаяти и изкуства. \nСъбитието можете да следите в социалните мрежи и в сайта на Асоциация „Булгарика“- bulgarika.eu. \n  \nИзточник: Организатора \n
URL:https://orangesea.bg/event/panair_zanaiatite/
LOCATION:Морска градина\, Приморски парк\, Варна\, 9000\, България
CATEGORIES:0 - 3 г. / бебешори,12 - 18 г. / тийнове,3 - 7 г. / дечурлига,7 - 12 г. / ученици,безплатно,забава и игри,култура и изкуство,на открито
ATTACH;FMTTYPE=image/jpeg:https://orangesea.bg/wp-content/uploads/2018/06/31124338_2114415901931868_3453072767325306880_n.jpg
ORGANIZER;CN="%D0%90%D1%81%D0%BE%D1%86%D0%B8%D0%B0%D1%86%D0%B8%D1%8F%20%D0%91%D1%83%D0%BB%D0%B3%D0%B0%D1%80%D0%B8%D0%BA%D0%B0":MAILTO:contact@bulgarika.eu
END:VEVENT
BEGIN:VEVENT
DTSTART;TZID=UTC+2:20180808T090000
DTEND;TZID=UTC+2:20180812T235900
DTSTAMP:20260422T225737
CREATED:20180807T085856Z
LAST-MODIFIED:20180807T164032Z
UID:1973-1533718800-1534118340@orangesea.bg
SUMMARY:Funcity+
DESCRIPTION:Фестивал Funcity+ е в подкрепа на млади таланти в областта на музиката\, изкуството\, спорта и предприемачеството с цел за повишаване на уменията им. Младите хора да получат шанс и подкрепа за развитие чрез предоставяне на възможност за изява и обучение. Талантливи младежи да придобият умения и квалификация\, които да им помогнат да изяват способностите си на национално и междунордно ниво. \n      \n\nВижте пълната програма на фестивала на: http://www.funcityplus.bg/category/program2018/\n\n
URL:https://orangesea.bg/event/funcity/
CATEGORIES:12 - 18 г. / тийнове,безплатно,музика,на открито,образователно,спорт
ATTACH;FMTTYPE=image/jpeg:https://orangesea.bg/wp-content/uploads/2018/08/38195987_1913981612238904_5120746192552067072_o.jpg
END:VEVENT
BEGIN:VEVENT
DTSTART;TZID=UTC+2:20180809T110000
DTEND;TZID=UTC+2:20180810T170000
DTSTAMP:20260422T225737
CREATED:20180805T130700Z
LAST-MODIFIED:20180805T130719Z
UID:1956-1533812400-1533920400@orangesea.bg
SUMMARY:Работилница за Билкови бомби за баня
DESCRIPTION:От работилница ВИВ\nще ви научим как да смесите естествени продукти така\, че да получите АРОМАТНИТЕ БОМБИ\, които експлодират във вода. От кипящите балончета \, дори\, може да се появи вашето лично послание.\nКакво ще получите:\n– 9 бр. ароматни бомби по ваша рецепта– 35 гр;\n– 1 бр. Ароматна бомба във форма на сърце с вградено лично послание;\n– Полезни знания за натуралните съставки\, от които ще сътворите бомбичките;\n– Много минути\, изпълнени със смях и забавления\nВреметраене – 120 мин.\nЦена 16\,00 лв.\nЗаписвания ☎ 0879991318 или на лично съобщения \nКакво е „Билкова бомба за баня“\nБилковите бомби за баня представляват бълбукащи соли\, ухаят страхотно\, цветни и интересни\, направени единствено от естествени продукти и билки. Едно прекрасно забавление за сетивата и кожата\, в което може да се потопите по специална ваша рецепта.\nТези бомбички превръщат водата в извор на радост и здраве. \nКак се ползват „Билковите бомби за баня“:\nНастанете се удобно. Поставете бомбата във дълбок съд с топла вода. Насладете се на прекрасните балончета\, които ще се появят на повърхността. Потопете тялото или краката си във водата. Вдишайте дълбоко и се насладете на живия аромат \, докато потъвате в газирано- хидратиращата смес. Сътворена от натурални съставки и масла\, Бомбата за баня е създадена да ви поглези. Тя пречиства сетивата и ума ви. Детоксикира тялото ви. Обогатява\, хидратира и омекотява кожата ви.\nНашият сайт: http://vivsoaps.com/ \nНа 9 и 10 август по две работилнички от 11:00 и от 15:00 ч. \n
URL:https://orangesea.bg/event/bombi-za-banya/
LOCATION:Натурални ръчноправени сапуни Вив\, ул. Хан Аспарух 30\, Варна\, 9000\, Bulgaria
CATEGORIES:12 - 18 г. / тийнове,7 - 12 г. / ученици,на закрито
ATTACH;FMTTYPE=image/jpeg:https://orangesea.bg/wp-content/uploads/2018/08/24059163_1090098217799833_4875423381806527640_n.jpg
END:VEVENT
END:VCALENDAR