BEGIN:VCALENDAR
VERSION:2.0
PRODID:-//Оранжево морето - ECPv4.8.2//NONSGML v1.0//EN
CALSCALE:GREGORIAN
METHOD:PUBLISH
X-WR-CALNAME:Оранжево морето
X-ORIGINAL-URL:https://orangesea.bg
X-WR-CALDESC:Events for Оранжево морето
BEGIN:VEVENT
DTSTART;TZID=UTC+2:20180704T100000
DTEND;TZID=UTC+2:20180718T220000
DTSTAMP:20260423T001133
CREATED:20180707T043434Z
LAST-MODIFIED:20180707T043618Z
UID:1512-1530698400-1531951200@orangesea.bg
SUMMARY:Арт фестивал "Сръчко"
DESCRIPTION:Безплатен детски кът ще радва децата и гостите на арт фестивала „Сръчко“ във Варна. На него малките принцеси и принцове ще рисуват\, ще се забавляват\, ще майсторят свои произведения на изкуството. \nБезплатният детски кът е подарък от Офис Груп България\, които са спонсор на SOS детски селища. \nАрт фестивалът „Сръчко“ стартира на 4-ти юли в района между Морско казино и Раковината в Приморския парк. \n\nДруга изнедана е\, че всеки ден от 10 до 22 часа всички малки и пораснали деца ще могат да изработят своя уникална играчка. Това ще е плюшено творение\, което освен\, че ще е индивидуално\, ще може и да говори с гласа на детето. В него има механизъм\, който ще записва звуци. А\, има ли нещо по-страхотно от това?! През всичките дни на феста “Пъфи ланд” ще помага на вашите момченца и момиченца да сътворят невероятни произведения. \nТова не е обаче всичко за „Сръчко“. През времето на арт изложението всяко дете ще може да изработи своя уникална картина от пясък\, с която вие да помните лято 2018. \nИзненадите не са до тук. Всеки изложител ще предлага работилнички\, където малки и големи ще могат да изработят грънци\, гривнички\, плетива и други произведения на изкуството. \nНа феста ще се представят над 150 майстори на уникални произведения на ръчното изкуство. Събитието ще се проведе от 4-ти до 18-ти юли във Варна\, Морска градина – района под Фонтана на сирените (между Морско казино и Раковината). \nНа събитието освен майстори от България\, ще има и от от Русия\, Украйна\, САЩ и Англия. \nИзточник: Организаторите \n\n
URL:https://orangesea.bg/event/art-festival-srachko/
CATEGORIES:0 - 3 г. / бебешори,12 - 18 г. / тийнове,3 - 7 г. / дечурлига,7 - 12 г. / ученици,безплатно,забава и игри,култура и изкуство,на открито
ATTACH;FMTTYPE=image/jpeg:https://orangesea.bg/wp-content/uploads/2018/07/36660301_371587613246023_3447195920624517120_n.jpg
END:VEVENT
BEGIN:VEVENT
DTSTART;TZID=UTC+2:20180709T180000
DTEND;TZID=UTC+2:20180829T200000
DTSTAMP:20260423T001133
CREATED:20180716T155338Z
LAST-MODIFIED:20180716T155953Z
UID:1597-1531159200-1535572800@orangesea.bg
SUMMARY:БАЛКАН ФОЛК ФЕСТ 2018
DESCRIPTION:Всички концерти са от 18 часа\nВход свободен \n9\, 13\, 18\, 23\, 28\, 30 ЮНИ 2018\n4\, 7\, 11\, 14\, 18\, 21\, 25\, 28 ЮЛИ 2018\n1\, 4\, 8\, 11 /в Опера/\, 15\, 18\, 22\, 27 /в Опера/\, 29 /открита сцена/ АВГУСТ 2018 \nМеждународният фестивал Balkan Folk Fest 2018 ще омагьоса жителите и гостите на град Варна на сцената на Фестивален и конгресен център Варна (зала 1) за месеците ЮНИ\, ЮЛИ И АВГУСТ. \nПредстоят едни от най-незабравимите концерти за сезон лято 2018\, представящи фолклорното богатство на 16 държави. Очаква ни концертна програма\, изпъстрена от изпълненията на близо 180 фолклорни ансамбли\, хорове\, духови оркестри\, танцъори\, мажоретки и певчески състави. \nКонцертите на БАЛКАН ФОЛК ФЕСТ ще бъдат благотворителни в подкрепа на каузата на Карин дом.\nГражданите и гостите на Варна могат да посетят концертите срещу доброволно дарение непосредствено преди концерта или като закупят своята покана предварително на marketing@karindom.org и тел.: 052-302-518. \nЗаповядайте на блястящото откриване на 09.06.2018 г. в зала 1 на Фестивален и конгресен център – Варна от 18:00 часа. \nПрез годините Карин дом винаги е разчитал на подкрепата на своите дарители\, партньори и приятели. Подкрепете ни като организирате един незабравим празник за семейството или фирмения екип! \nНека заедно чрез магията на танците и песните да подкрепим терапията на деца със специални нужди! \n
URL:https://orangesea.bg/event/balkan-folk-fest-2018/
LOCATION:Фестивален и Конгресен Център\, бул. Сливница № 2\, Варна\, 9000\, Bulgaria
CATEGORIES:0 - 3 г. / бебешори,12 - 18 г. / тийнове,3 - 7 г. / дечурлига,7 - 12 г. / ученици,безплатно,култура и изкуство,музика
ATTACH;FMTTYPE=image/jpeg:https://orangesea.bg/wp-content/uploads/2018/07/e_640c22b3e7972ecf595dcee08cadc8dd_29231a70988c25d3b01989d5b60411d7.jpg
END:VEVENT
END:VCALENDAR